BEGIN:VCALENDAR
VERSION:2.0
PRODID:-//destination.one//NONSGML destination.meta API//DE
X-WR-CALDESC:A calendar powered by destination.meta
X-WR-CALNAME:teutonavigator Kalender via destination.meta
BEGIN:VEVENT
CATEGORIES:Ausstellung
CATEGORIES:Geselligkeit/Spiele/Treffen
CATEGORIES:Sonstiges
CATEGORIES:Motorsport
DESCRIPTION:Alle zwei Jahre findet am dritten Septemberwochenende das Oldti
 mer-Trecker-Treffen statt.\n\nmehr Informationen unter http://pages.destin
 ation.one/de/teutonavigator/streaming/detail/Event/e_100889983/harther-old
 timertreffen
DTEND;TZID=Europe/Berlin;VALUE=DATE:20240923
DTSTAMP:20260422T151951Z
DTSTART;TZID=Europe/Berlin;VALUE=DATE:20240921
GEO:51.504112;8.587202
LOCATION:Hof Rüsing\, Hepernstraße 40\, Büren
ORGANIZER;CN=St. Hubertus Schützenbruderschaft Harth:http://www.harth-ringe
 lstein.de/
SEQUENCE:0
SUMMARY:Harther Oldtimertreffen
UID:e_100889983_iv0
URL:http://pages.destination.one/de/teutonavigator/streaming/detail/Event/e
 _100889983/harther-oldtimertreffen
END:VEVENT
BEGIN:VEVENT
CATEGORIES:Ausstellung
CATEGORIES:Geselligkeit/Spiele/Treffen
CATEGORIES:Sonstiges
CATEGORIES:Motorsport
DESCRIPTION:Alle zwei Jahre findet am dritten Septemberwochenende das Oldti
 mer-Trecker-Treffen statt.\n\nmehr Informationen unter http://pages.destin
 ation.one/de/teutonavigator/streaming/detail/Event/e_100889983/harther-old
 timertreffen
DTEND;TZID=Europe/Berlin:20260919T235900
DTSTAMP:20260422T151951Z
DTSTART;TZID=Europe/Berlin:20260919T110000
GEO:51.504112;8.587202
LOCATION:Hof Rüsing\, Hepernstraße 40\, Büren
ORGANIZER;CN=St. Hubertus Schützenbruderschaft Harth:http://www.harth-ringe
 lstein.de/
SEQUENCE:0
SUMMARY:Harther Oldtimertreffen
UID:e_100889983_iv1
URL:http://pages.destination.one/de/teutonavigator/streaming/detail/Event/e
 _100889983/harther-oldtimertreffen
END:VEVENT
BEGIN:VEVENT
CATEGORIES:Ausstellung
CATEGORIES:Geselligkeit/Spiele/Treffen
CATEGORIES:Sonstiges
CATEGORIES:Motorsport
DESCRIPTION:Alle zwei Jahre findet am dritten Septemberwochenende das Oldti
 mer-Trecker-Treffen statt.\n\nmehr Informationen unter http://pages.destin
 ation.one/de/teutonavigator/streaming/detail/Event/e_100889983/harther-old
 timertreffen
DTEND;TZID=Europe/Berlin:20260920T235900
DTSTAMP:20260422T151951Z
DTSTART;TZID=Europe/Berlin:20260920T110000
GEO:51.504112;8.587202
LOCATION:Hof Rüsing\, Hepernstraße 40\, Büren
ORGANIZER;CN=St. Hubertus Schützenbruderschaft Harth:http://www.harth-ringe
 lstein.de/
SEQUENCE:0
SUMMARY:Harther Oldtimertreffen
UID:e_100889983_iv2
URL:http://pages.destination.one/de/teutonavigator/streaming/detail/Event/e
 _100889983/harther-oldtimertreffen
END:VEVENT
BEGIN:VTIMEZONE
TZID:Europe/Berlin
X-LIC-LOCATION:Europe/Berlin
BEGIN:DAYLIGHT
DTSTART:19700329T020000
RRULE:FREQ=YEARLY;BYDAY=-1SU;BYMONTH=3
TZNAME:CEST
TZOFFSETFROM:+0100
TZOFFSETTO:+0200
END:DAYLIGHT
BEGIN:STANDARD
DTSTART:19701025T030000
RRULE:FREQ=YEARLY;BYDAY=-1SU;BYMONTH=10
TZNAME:CET
TZOFFSETFROM:+0200
TZOFFSETTO:+0100
END:STANDARD
END:VTIMEZONE
END:VCALENDAR
