BEGIN:VCALENDAR
VERSION:2.0
PRODID:-//destination.one//NONSGML destination.meta API//DE
X-WR-CALDESC:A calendar powered by destination.meta
X-WR-CALNAME:teutonavigator Kalender via destination.meta
BEGIN:VEVENT
CATEGORIES:Wanderung
DESCRIPTION:\n\nmehr Informationen unter http://pages.destination.one/de/te
 utonavigator/streaming/detail/Event/e_100869942/monatswanderung
DTEND;TZID=Europe/Berlin:20240728T235900
DTSTAMP:20260421T180030Z
DTSTART;TZID=Europe/Berlin:20240728T100000
GEO:51.650846;8.698665
LOCATION:Feuerwehrgerätehaus Alfen\, Tudorfer Straße 7\, Borchen
ORGANIZER;CN=SV Rot-Weiß Alfen 1927 e.V.:mailto:wandern@alfen.de
RRULE:FREQ=MONTHLY;BYDAY=4SU
SEQUENCE:0
SUMMARY:Monatswanderung
UID:e_100869942_iv0
URL:http://pages.destination.one/de/teutonavigator/streaming/detail/Event/e
 _100869942/monatswanderung
END:VEVENT
BEGIN:VTIMEZONE
TZID:Europe/Berlin
X-LIC-LOCATION:Europe/Berlin
BEGIN:DAYLIGHT
DTSTART:19700329T020000
RRULE:FREQ=YEARLY;BYDAY=-1SU;BYMONTH=3
TZNAME:CEST
TZOFFSETFROM:+0100
TZOFFSETTO:+0200
END:DAYLIGHT
BEGIN:STANDARD
DTSTART:19701025T030000
RRULE:FREQ=YEARLY;BYDAY=-1SU;BYMONTH=10
TZNAME:CET
TZOFFSETFROM:+0200
TZOFFSETTO:+0100
END:STANDARD
END:VTIMEZONE
END:VCALENDAR
