BEGIN:VCALENDAR
VERSION:2.0
PRODID:-//destination.one//NONSGML destination.meta API//DE
X-WR-CALDESC:A calendar powered by destination.meta
X-WR-CALNAME:teutonavigator Kalender via destination.meta
BEGIN:VEVENT
CATEGORIES:Geselligkeit/Spiele/Treffen
CATEGORIES:Gesundheit/Wellness
DESCRIPTION:\n\nmehr Informationen unter http://pages.destination.one/de/te
 utonavigator/streaming/detail/Event/e_100869302/begleitete-spazierg-nge-in
 -haaren
DTEND;TZID=Europe/Berlin:20240610T235900
DTSTAMP:20260421T181501Z
DTSTART;TZID=Europe/Berlin:20240610T140000
GEO:51.566629;8.726737
LOCATION:Kirchplatz Haaren\, Kirchweg 3\, Bad Wünnenberg
ORGANIZER;CN=Stadt Bad Wünnenberg:mailto:stadt@bad-wuennenberg.de
RRULE:FREQ=WEEKLY;INTERVAL=2;BYDAY=MO
SEQUENCE:0
SUMMARY:Begleitete Spaziergänge in Haaren
UID:e_100869302_iv0
URL:http://pages.destination.one/de/teutonavigator/streaming/detail/Event/e
 _100869302/begleitete-spazierg-nge-in-haaren
END:VEVENT
BEGIN:VTIMEZONE
TZID:Europe/Berlin
X-LIC-LOCATION:Europe/Berlin
BEGIN:DAYLIGHT
DTSTART:19700329T020000
RRULE:FREQ=YEARLY;BYDAY=-1SU;BYMONTH=3
TZNAME:CEST
TZOFFSETFROM:+0100
TZOFFSETTO:+0200
END:DAYLIGHT
BEGIN:STANDARD
DTSTART:19701025T030000
RRULE:FREQ=YEARLY;BYDAY=-1SU;BYMONTH=10
TZNAME:CET
TZOFFSETFROM:+0200
TZOFFSETTO:+0100
END:STANDARD
END:VTIMEZONE
END:VCALENDAR
