BEGIN:VCALENDAR
VERSION:2.0
PRODID:-//destination.one//NONSGML destination.meta API//DE
X-WR-CALDESC:A calendar powered by destination.meta
X-WR-CALNAME:teutonavigator Kalender via destination.meta
BEGIN:VEVENT
CATEGORIES:Sport/Freizeit
DESCRIPTION:\n\nmehr Informationen unter http://pages.destination.one/de/te
 utonavigator/streaming/detail/Event/e_100862871/fun-lauf-wewer
DTEND;TZID=Europe/Berlin:20240726T235900
DTSTAMP:20260422T142720Z
DTSTART;TZID=Europe/Berlin:20240726T190000
GEO:51.685339;8.686086
LOCATION:Sportzentrum Wewer\, Delbrücker Weg 38\, Paderborn
ORGANIZER;CN=TSV Wewer e.V.:http://https//tsv-wewer.de/
SEQUENCE:0
SUMMARY:Fun-Lauf Wewer
UID:e_100862871_iv0
URL:http://pages.destination.one/de/teutonavigator/streaming/detail/Event/e
 _100862871/fun-lauf-wewer
END:VEVENT
BEGIN:VEVENT
CATEGORIES:Sport/Freizeit
DESCRIPTION:\n\nmehr Informationen unter http://pages.destination.one/de/te
 utonavigator/streaming/detail/Event/e_100862871/fun-lauf-wewer
DTEND;TZID=Europe/Berlin:20260724T235900
DTSTAMP:20260422T142720Z
DTSTART;TZID=Europe/Berlin:20260724T190000
GEO:51.685339;8.686086
LOCATION:Sportzentrum Wewer\, Delbrücker Weg 38\, Paderborn
ORGANIZER;CN=TSV Wewer e.V.:http://https//tsv-wewer.de/
SEQUENCE:0
SUMMARY:Fun-Lauf Wewer
UID:e_100862871_iv1
URL:http://pages.destination.one/de/teutonavigator/streaming/detail/Event/e
 _100862871/fun-lauf-wewer
END:VEVENT
BEGIN:VTIMEZONE
TZID:Europe/Berlin
X-LIC-LOCATION:Europe/Berlin
BEGIN:DAYLIGHT
DTSTART:19700329T020000
RRULE:FREQ=YEARLY;BYDAY=-1SU;BYMONTH=3
TZNAME:CEST
TZOFFSETFROM:+0100
TZOFFSETTO:+0200
END:DAYLIGHT
BEGIN:STANDARD
DTSTART:19701025T030000
RRULE:FREQ=YEARLY;BYDAY=-1SU;BYMONTH=10
TZNAME:CET
TZOFFSETFROM:+0200
TZOFFSETTO:+0100
END:STANDARD
END:VTIMEZONE
END:VCALENDAR
