BEGIN:VCALENDAR
VERSION:2.0
PRODID:-//destination.one//NONSGML destination.meta API//DE
X-WR-CALDESC:A calendar powered by destination.meta
X-WR-CALNAME:teutonavigator Kalender via destination.meta
BEGIN:VEVENT
CATEGORIES:Markt
DESCRIPTION:Der Beverunger Wochenmarkt bietet freitags zwischen 14 und 18 U
 hr auf dem Rathausplatz in der Weserstraße frische\, regionale Lebensmitte
 l an.\n\nmehr Informationen unter http://pages.destination.one/de/teutonav
 igator/streaming/detail/Event/e_100849540/wochenmarkt-beverungen
DTEND;TZID=Europe/Berlin:20240524T180000
DTSTAMP:20260421T185944Z
DTSTART;TZID=Europe/Berlin:20240524T140000
GEO:51.663392;9.374535
LOCATION:Rathausparkplatz\, Weserstraße 10\, Beverungen
RRULE:FREQ=WEEKLY;BYDAY=FR
SEQUENCE:0
SUMMARY:Wochenmarkt Beverungen
UID:e_100849540_iv0
URL:http://pages.destination.one/de/teutonavigator/streaming/detail/Event/e
 _100849540/wochenmarkt-beverungen
END:VEVENT
BEGIN:VTIMEZONE
TZID:Europe/Berlin
X-LIC-LOCATION:Europe/Berlin
BEGIN:DAYLIGHT
DTSTART:19700329T020000
RRULE:FREQ=YEARLY;BYDAY=-1SU;BYMONTH=3
TZNAME:CEST
TZOFFSETFROM:+0100
TZOFFSETTO:+0200
END:DAYLIGHT
BEGIN:STANDARD
DTSTART:19701025T030000
RRULE:FREQ=YEARLY;BYDAY=-1SU;BYMONTH=10
TZNAME:CET
TZOFFSETFROM:+0200
TZOFFSETTO:+0100
END:STANDARD
END:VTIMEZONE
END:VCALENDAR
