BEGIN:VCALENDAR
VERSION:2.0
PRODID:-//destination.one//NONSGML destination.meta API//DE
X-WR-CALDESC:A calendar powered by destination.meta
X-WR-CALNAME:teutonavigator Kalender via destination.meta
BEGIN:VEVENT
CATEGORIES:Sport/Freizeit
DESCRIPTION:Am 11. Juli ist es soweit! Die Vlotho Marketing GmbH und die DL
 RG Vlotho laden zum 2. Vlothoer Weserschwimmen ein.\n\nmehr Informationen 
 unter http://pages.destination.one/de/teutonavigator/streaming/detail/Even
 t/e_100846030/vlothoer-weserschwimmen
DTEND;TZID=Europe/Berlin:20240706T150000
DTSTAMP:20260420T075705Z
DTSTART;TZID=Europe/Berlin:20240706T123000
GEO:52.168648;8.867265
LOCATION:Weserhafen\, Am Fährhof\, Vlotho
ORGANIZER;CN=Vlotho Marketing GmbH:mailto:touristik@vlotho.de
SEQUENCE:0
SUMMARY:Vlothoer Weserschwimmen
UID:e_100846030_iv0
URL:http://pages.destination.one/de/teutonavigator/streaming/detail/Event/e
 _100846030/vlothoer-weserschwimmen
END:VEVENT
BEGIN:VEVENT
CATEGORIES:Sport/Freizeit
DESCRIPTION:Am 11. Juli ist es soweit! Die Vlotho Marketing GmbH und die DL
 RG Vlotho laden zum 2. Vlothoer Weserschwimmen ein.\n\nmehr Informationen 
 unter http://pages.destination.one/de/teutonavigator/streaming/detail/Even
 t/e_100846030/vlothoer-weserschwimmen
DTEND;TZID=Europe/Berlin:20250712T170000
DTSTAMP:20260420T075705Z
DTSTART;TZID=Europe/Berlin:20250712T140000
GEO:52.168648;8.867265
LOCATION:Weserhafen\, Am Fährhof\, Vlotho
ORGANIZER;CN=Vlotho Marketing GmbH:mailto:touristik@vlotho.de
SEQUENCE:0
SUMMARY:Vlothoer Weserschwimmen
UID:e_100846030_iv1
URL:http://pages.destination.one/de/teutonavigator/streaming/detail/Event/e
 _100846030/vlothoer-weserschwimmen
END:VEVENT
BEGIN:VEVENT
CATEGORIES:Sport/Freizeit
DESCRIPTION:Am 11. Juli ist es soweit! Die Vlotho Marketing GmbH und die DL
 RG Vlotho laden zum 2. Vlothoer Weserschwimmen ein.\n\nmehr Informationen 
 unter http://pages.destination.one/de/teutonavigator/streaming/detail/Even
 t/e_100846030/vlothoer-weserschwimmen
DTEND;TZID=Europe/Berlin:20260711T235900
DTSTAMP:20260420T075705Z
DTSTART;TZID=Europe/Berlin:20260711T140000
GEO:52.168648;8.867265
LOCATION:Weserhafen\, Am Fährhof\, Vlotho
ORGANIZER;CN=Vlotho Marketing GmbH:mailto:touristik@vlotho.de
SEQUENCE:0
SUMMARY:Vlothoer Weserschwimmen
UID:e_100846030_iv2
URL:http://pages.destination.one/de/teutonavigator/streaming/detail/Event/e
 _100846030/vlothoer-weserschwimmen
END:VEVENT
BEGIN:VTIMEZONE
TZID:Europe/Berlin
X-LIC-LOCATION:Europe/Berlin
BEGIN:DAYLIGHT
DTSTART:19700329T020000
RRULE:FREQ=YEARLY;BYDAY=-1SU;BYMONTH=3
TZNAME:CEST
TZOFFSETFROM:+0100
TZOFFSETTO:+0200
END:DAYLIGHT
BEGIN:STANDARD
DTSTART:19701025T030000
RRULE:FREQ=YEARLY;BYDAY=-1SU;BYMONTH=10
TZNAME:CET
TZOFFSETFROM:+0200
TZOFFSETTO:+0100
END:STANDARD
END:VTIMEZONE
END:VCALENDAR
