BEGIN:VCALENDAR
VERSION:2.0
PRODID:-//destination.one//NONSGML destination.meta API//DE
X-WR-CALDESC:A calendar powered by destination.meta
X-WR-CALNAME:teutonavigator Kalender via destination.meta
BEGIN:VEVENT
CATEGORIES:Film
DESCRIPTION:Jeden 3. Donnerstag im Monat findet im Kino Bad Driburg das Sen
 iorenkino statt.\n\nInformationen zum geplanten Film finden Sie unter www.
 kinodriburg.de/seniorenkino/\n\nmehr Informationen unter http://pages.dest
 ination.one/de/teutonavigator/streaming/detail/Event/e_100833692/seniorenk
 ino
DTEND;TZID=Europe/Berlin:20240516T235900
DTSTAMP:20260421T124124Z
DTSTART;TZID=Europe/Berlin:20240516T140000
GEO:51.734451;9.024278
LOCATION:Kino Bad Driburg\, Am Rathausplatz 2\, Bad Driburg
ORGANIZER;CN=Kino Bad Driburg:mailto:kino@kinodriburg.de
SEQUENCE:0
SUMMARY:Seniorenkino
UID:e_100833692_iv0
URL:http://pages.destination.one/de/teutonavigator/streaming/detail/Event/e
 _100833692/seniorenkino
END:VEVENT
BEGIN:VEVENT
CATEGORIES:Film
DESCRIPTION:Jeden 3. Donnerstag im Monat findet im Kino Bad Driburg das Sen
 iorenkino statt.\n\nInformationen zum geplanten Film finden Sie unter www.
 kinodriburg.de/seniorenkino/\n\nmehr Informationen unter http://pages.dest
 ination.one/de/teutonavigator/streaming/detail/Event/e_100833692/seniorenk
 ino
DTEND;TZID=Europe/Berlin:20240620T235900
DTSTAMP:20260421T124124Z
DTSTART;TZID=Europe/Berlin:20240620T140000
GEO:51.734451;9.024278
LOCATION:Kino Bad Driburg\, Am Rathausplatz 2\, Bad Driburg
ORGANIZER;CN=Kino Bad Driburg:mailto:kino@kinodriburg.de
SEQUENCE:0
SUMMARY:Seniorenkino
UID:e_100833692_iv1
URL:http://pages.destination.one/de/teutonavigator/streaming/detail/Event/e
 _100833692/seniorenkino
END:VEVENT
BEGIN:VEVENT
CATEGORIES:Film
DESCRIPTION:Jeden 3. Donnerstag im Monat findet im Kino Bad Driburg das Sen
 iorenkino statt.\n\nInformationen zum geplanten Film finden Sie unter www.
 kinodriburg.de/seniorenkino/\n\nmehr Informationen unter http://pages.dest
 ination.one/de/teutonavigator/streaming/detail/Event/e_100833692/seniorenk
 ino
DTEND;TZID=Europe/Berlin:20240718T235900
DTSTAMP:20260421T124124Z
DTSTART;TZID=Europe/Berlin:20240718T140000
GEO:51.734451;9.024278
LOCATION:Kino Bad Driburg\, Am Rathausplatz 2\, Bad Driburg
ORGANIZER;CN=Kino Bad Driburg:mailto:kino@kinodriburg.de
SEQUENCE:0
SUMMARY:Seniorenkino
UID:e_100833692_iv2
URL:http://pages.destination.one/de/teutonavigator/streaming/detail/Event/e
 _100833692/seniorenkino
END:VEVENT
BEGIN:VEVENT
CATEGORIES:Film
DESCRIPTION:Jeden 3. Donnerstag im Monat findet im Kino Bad Driburg das Sen
 iorenkino statt.\n\nInformationen zum geplanten Film finden Sie unter www.
 kinodriburg.de/seniorenkino/\n\nmehr Informationen unter http://pages.dest
 ination.one/de/teutonavigator/streaming/detail/Event/e_100833692/seniorenk
 ino
DTEND;TZID=Europe/Berlin:20241017T235900
DTSTAMP:20260421T124124Z
DTSTART;TZID=Europe/Berlin:20241017T140000
GEO:51.734451;9.024278
LOCATION:Kino Bad Driburg\, Am Rathausplatz 2\, Bad Driburg
ORGANIZER;CN=Kino Bad Driburg:mailto:kino@kinodriburg.de
SEQUENCE:0
SUMMARY:Seniorenkino
UID:e_100833692_iv3
URL:http://pages.destination.one/de/teutonavigator/streaming/detail/Event/e
 _100833692/seniorenkino
END:VEVENT
BEGIN:VEVENT
CATEGORIES:Film
DESCRIPTION:Jeden 3. Donnerstag im Monat findet im Kino Bad Driburg das Sen
 iorenkino statt.\n\nInformationen zum geplanten Film finden Sie unter www.
 kinodriburg.de/seniorenkino/\n\nmehr Informationen unter http://pages.dest
 ination.one/de/teutonavigator/streaming/detail/Event/e_100833692/seniorenk
 ino
DTEND;TZID=Europe/Berlin:20241121T235900
DTSTAMP:20260421T124124Z
DTSTART;TZID=Europe/Berlin:20241121T140000
GEO:51.734451;9.024278
LOCATION:Kino Bad Driburg\, Am Rathausplatz 2\, Bad Driburg
ORGANIZER;CN=Kino Bad Driburg:mailto:kino@kinodriburg.de
SEQUENCE:0
SUMMARY:Seniorenkino
UID:e_100833692_iv4
URL:http://pages.destination.one/de/teutonavigator/streaming/detail/Event/e
 _100833692/seniorenkino
END:VEVENT
BEGIN:VEVENT
CATEGORIES:Film
DESCRIPTION:Jeden 3. Donnerstag im Monat findet im Kino Bad Driburg das Sen
 iorenkino statt.\n\nInformationen zum geplanten Film finden Sie unter www.
 kinodriburg.de/seniorenkino/\n\nmehr Informationen unter http://pages.dest
 ination.one/de/teutonavigator/streaming/detail/Event/e_100833692/seniorenk
 ino
DTEND;TZID=Europe/Berlin:20241219T235900
DTSTAMP:20260421T124124Z
DTSTART;TZID=Europe/Berlin:20241219T140000
GEO:51.734451;9.024278
LOCATION:Kino Bad Driburg\, Am Rathausplatz 2\, Bad Driburg
ORGANIZER;CN=Kino Bad Driburg:mailto:kino@kinodriburg.de
SEQUENCE:0
SUMMARY:Seniorenkino
UID:e_100833692_iv5
URL:http://pages.destination.one/de/teutonavigator/streaming/detail/Event/e
 _100833692/seniorenkino
END:VEVENT
BEGIN:VEVENT
CATEGORIES:Film
DESCRIPTION:Jeden 3. Donnerstag im Monat findet im Kino Bad Driburg das Sen
 iorenkino statt.\n\nInformationen zum geplanten Film finden Sie unter www.
 kinodriburg.de/seniorenkino/\n\nmehr Informationen unter http://pages.dest
 ination.one/de/teutonavigator/streaming/detail/Event/e_100833692/seniorenk
 ino
DTEND;TZID=Europe/Berlin:20250320T235900
DTSTAMP:20260421T124124Z
DTSTART;TZID=Europe/Berlin:20250320T140000
GEO:51.734451;9.024278
LOCATION:Kino Bad Driburg\, Am Rathausplatz 2\, Bad Driburg
ORGANIZER;CN=Kino Bad Driburg:mailto:kino@kinodriburg.de
SEQUENCE:0
SUMMARY:Seniorenkino
UID:e_100833692_iv6
URL:http://pages.destination.one/de/teutonavigator/streaming/detail/Event/e
 _100833692/seniorenkino
END:VEVENT
BEGIN:VEVENT
CATEGORIES:Film
DESCRIPTION:Jeden 3. Donnerstag im Monat findet im Kino Bad Driburg das Sen
 iorenkino statt.\n\nInformationen zum geplanten Film finden Sie unter www.
 kinodriburg.de/seniorenkino/\n\nmehr Informationen unter http://pages.dest
 ination.one/de/teutonavigator/streaming/detail/Event/e_100833692/seniorenk
 ino
DTEND;TZID=Europe/Berlin:20250417T235900
DTSTAMP:20260421T124124Z
DTSTART;TZID=Europe/Berlin:20250417T140000
GEO:51.734451;9.024278
LOCATION:Kino Bad Driburg\, Am Rathausplatz 2\, Bad Driburg
ORGANIZER;CN=Kino Bad Driburg:mailto:kino@kinodriburg.de
SEQUENCE:0
SUMMARY:Seniorenkino
UID:e_100833692_iv7
URL:http://pages.destination.one/de/teutonavigator/streaming/detail/Event/e
 _100833692/seniorenkino
END:VEVENT
BEGIN:VEVENT
CATEGORIES:Film
DESCRIPTION:Jeden 3. Donnerstag im Monat findet im Kino Bad Driburg das Sen
 iorenkino statt.\n\nInformationen zum geplanten Film finden Sie unter www.
 kinodriburg.de/seniorenkino/\n\nmehr Informationen unter http://pages.dest
 ination.one/de/teutonavigator/streaming/detail/Event/e_100833692/seniorenk
 ino
DTEND;TZID=Europe/Berlin:20250515T235900
DTSTAMP:20260421T124124Z
DTSTART;TZID=Europe/Berlin:20250515T140000
GEO:51.734451;9.024278
LOCATION:Kino Bad Driburg\, Am Rathausplatz 2\, Bad Driburg
ORGANIZER;CN=Kino Bad Driburg:mailto:kino@kinodriburg.de
SEQUENCE:0
SUMMARY:Seniorenkino
UID:e_100833692_iv8
URL:http://pages.destination.one/de/teutonavigator/streaming/detail/Event/e
 _100833692/seniorenkino
END:VEVENT
BEGIN:VEVENT
CATEGORIES:Film
DESCRIPTION:Jeden 3. Donnerstag im Monat findet im Kino Bad Driburg das Sen
 iorenkino statt.\n\nInformationen zum geplanten Film finden Sie unter www.
 kinodriburg.de/seniorenkino/\n\nmehr Informationen unter http://pages.dest
 ination.one/de/teutonavigator/streaming/detail/Event/e_100833692/seniorenk
 ino
DTEND;TZID=Europe/Berlin:20250626T235900
DTSTAMP:20260421T124124Z
DTSTART;TZID=Europe/Berlin:20250626T140000
GEO:51.734451;9.024278
LOCATION:Kino Bad Driburg\, Am Rathausplatz 2\, Bad Driburg
ORGANIZER;CN=Kino Bad Driburg:mailto:kino@kinodriburg.de
SEQUENCE:0
SUMMARY:Seniorenkino
UID:e_100833692_iv9
URL:http://pages.destination.one/de/teutonavigator/streaming/detail/Event/e
 _100833692/seniorenkino
END:VEVENT
BEGIN:VEVENT
CATEGORIES:Film
DESCRIPTION:Jeden 3. Donnerstag im Monat findet im Kino Bad Driburg das Sen
 iorenkino statt.\n\nInformationen zum geplanten Film finden Sie unter www.
 kinodriburg.de/seniorenkino/\n\nmehr Informationen unter http://pages.dest
 ination.one/de/teutonavigator/streaming/detail/Event/e_100833692/seniorenk
 ino
DTEND;TZID=Europe/Berlin:20250717T235900
DTSTAMP:20260421T124124Z
DTSTART;TZID=Europe/Berlin:20250717T140000
GEO:51.734451;9.024278
LOCATION:Kino Bad Driburg\, Am Rathausplatz 2\, Bad Driburg
ORGANIZER;CN=Kino Bad Driburg:mailto:kino@kinodriburg.de
SEQUENCE:0
SUMMARY:Seniorenkino
UID:e_100833692_iv10
URL:http://pages.destination.one/de/teutonavigator/streaming/detail/Event/e
 _100833692/seniorenkino
END:VEVENT
BEGIN:VEVENT
CATEGORIES:Film
DESCRIPTION:Jeden 3. Donnerstag im Monat findet im Kino Bad Driburg das Sen
 iorenkino statt.\n\nInformationen zum geplanten Film finden Sie unter www.
 kinodriburg.de/seniorenkino/\n\nmehr Informationen unter http://pages.dest
 ination.one/de/teutonavigator/streaming/detail/Event/e_100833692/seniorenk
 ino
DTEND;TZID=Europe/Berlin:20250918T235900
DTSTAMP:20260421T124124Z
DTSTART;TZID=Europe/Berlin:20250918T140000
GEO:51.734451;9.024278
LOCATION:Kino Bad Driburg\, Am Rathausplatz 2\, Bad Driburg
ORGANIZER;CN=Kino Bad Driburg:mailto:kino@kinodriburg.de
SEQUENCE:0
SUMMARY:Seniorenkino
UID:e_100833692_iv11
URL:http://pages.destination.one/de/teutonavigator/streaming/detail/Event/e
 _100833692/seniorenkino
END:VEVENT
BEGIN:VEVENT
CATEGORIES:Film
DESCRIPTION:Jeden 3. Donnerstag im Monat findet im Kino Bad Driburg das Sen
 iorenkino statt.\n\nInformationen zum geplanten Film finden Sie unter www.
 kinodriburg.de/seniorenkino/\n\nmehr Informationen unter http://pages.dest
 ination.one/de/teutonavigator/streaming/detail/Event/e_100833692/seniorenk
 ino
DTEND;TZID=Europe/Berlin:20251016T235900
DTSTAMP:20260421T124124Z
DTSTART;TZID=Europe/Berlin:20251016T140000
GEO:51.734451;9.024278
LOCATION:Kino Bad Driburg\, Am Rathausplatz 2\, Bad Driburg
ORGANIZER;CN=Kino Bad Driburg:mailto:kino@kinodriburg.de
SEQUENCE:0
SUMMARY:Seniorenkino
UID:e_100833692_iv12
URL:http://pages.destination.one/de/teutonavigator/streaming/detail/Event/e
 _100833692/seniorenkino
END:VEVENT
BEGIN:VEVENT
CATEGORIES:Film
DESCRIPTION:Jeden 3. Donnerstag im Monat findet im Kino Bad Driburg das Sen
 iorenkino statt.\n\nInformationen zum geplanten Film finden Sie unter www.
 kinodriburg.de/seniorenkino/\n\nmehr Informationen unter http://pages.dest
 ination.one/de/teutonavigator/streaming/detail/Event/e_100833692/seniorenk
 ino
DTEND;TZID=Europe/Berlin:20251218T235900
DTSTAMP:20260421T124124Z
DTSTART;TZID=Europe/Berlin:20251218T140000
GEO:51.734451;9.024278
LOCATION:Kino Bad Driburg\, Am Rathausplatz 2\, Bad Driburg
ORGANIZER;CN=Kino Bad Driburg:mailto:kino@kinodriburg.de
SEQUENCE:0
SUMMARY:Seniorenkino
UID:e_100833692_iv13
URL:http://pages.destination.one/de/teutonavigator/streaming/detail/Event/e
 _100833692/seniorenkino
END:VEVENT
BEGIN:VEVENT
CATEGORIES:Film
DESCRIPTION:Jeden 3. Donnerstag im Monat findet im Kino Bad Driburg das Sen
 iorenkino statt.\n\nInformationen zum geplanten Film finden Sie unter www.
 kinodriburg.de/seniorenkino/\n\nmehr Informationen unter http://pages.dest
 ination.one/de/teutonavigator/streaming/detail/Event/e_100833692/seniorenk
 ino
DTEND;TZID=Europe/Berlin:20260115T235900
DTSTAMP:20260421T124124Z
DTSTART;TZID=Europe/Berlin:20260115T140000
GEO:51.734451;9.024278
LOCATION:Kino Bad Driburg\, Am Rathausplatz 2\, Bad Driburg
ORGANIZER;CN=Kino Bad Driburg:mailto:kino@kinodriburg.de
SEQUENCE:0
SUMMARY:Seniorenkino
UID:e_100833692_iv14
URL:http://pages.destination.one/de/teutonavigator/streaming/detail/Event/e
 _100833692/seniorenkino
END:VEVENT
BEGIN:VEVENT
CATEGORIES:Film
DESCRIPTION:Jeden 3. Donnerstag im Monat findet im Kino Bad Driburg das Sen
 iorenkino statt.\n\nInformationen zum geplanten Film finden Sie unter www.
 kinodriburg.de/seniorenkino/\n\nmehr Informationen unter http://pages.dest
 ination.one/de/teutonavigator/streaming/detail/Event/e_100833692/seniorenk
 ino
DTEND;TZID=Europe/Berlin:20260219T235900
DTSTAMP:20260421T124124Z
DTSTART;TZID=Europe/Berlin:20260219T140000
GEO:51.734451;9.024278
LOCATION:Kino Bad Driburg\, Am Rathausplatz 2\, Bad Driburg
ORGANIZER;CN=Kino Bad Driburg:mailto:kino@kinodriburg.de
SEQUENCE:0
SUMMARY:Seniorenkino
UID:e_100833692_iv15
URL:http://pages.destination.one/de/teutonavigator/streaming/detail/Event/e
 _100833692/seniorenkino
END:VEVENT
BEGIN:VEVENT
CATEGORIES:Film
DESCRIPTION:Jeden 3. Donnerstag im Monat findet im Kino Bad Driburg das Sen
 iorenkino statt.\n\nInformationen zum geplanten Film finden Sie unter www.
 kinodriburg.de/seniorenkino/\n\nmehr Informationen unter http://pages.dest
 ination.one/de/teutonavigator/streaming/detail/Event/e_100833692/seniorenk
 ino
DTEND;TZID=Europe/Berlin:20260319T235900
DTSTAMP:20260421T124124Z
DTSTART;TZID=Europe/Berlin:20260319T140000
GEO:51.734451;9.024278
LOCATION:Kino Bad Driburg\, Am Rathausplatz 2\, Bad Driburg
ORGANIZER;CN=Kino Bad Driburg:mailto:kino@kinodriburg.de
SEQUENCE:0
SUMMARY:Seniorenkino
UID:e_100833692_iv16
URL:http://pages.destination.one/de/teutonavigator/streaming/detail/Event/e
 _100833692/seniorenkino
END:VEVENT
BEGIN:VEVENT
CATEGORIES:Film
DESCRIPTION:Jeden 3. Donnerstag im Monat findet im Kino Bad Driburg das Sen
 iorenkino statt.\n\nInformationen zum geplanten Film finden Sie unter www.
 kinodriburg.de/seniorenkino/\n\nmehr Informationen unter http://pages.dest
 ination.one/de/teutonavigator/streaming/detail/Event/e_100833692/seniorenk
 ino
DTEND;TZID=Europe/Berlin:20260416T235900
DTSTAMP:20260421T124124Z
DTSTART;TZID=Europe/Berlin:20260416T140000
GEO:51.734451;9.024278
LOCATION:Kino Bad Driburg\, Am Rathausplatz 2\, Bad Driburg
ORGANIZER;CN=Kino Bad Driburg:mailto:kino@kinodriburg.de
SEQUENCE:0
SUMMARY:Seniorenkino
UID:e_100833692_iv17
URL:http://pages.destination.one/de/teutonavigator/streaming/detail/Event/e
 _100833692/seniorenkino
END:VEVENT
BEGIN:VEVENT
CATEGORIES:Film
DESCRIPTION:Jeden 3. Donnerstag im Monat findet im Kino Bad Driburg das Sen
 iorenkino statt.\n\nInformationen zum geplanten Film finden Sie unter www.
 kinodriburg.de/seniorenkino/\n\nmehr Informationen unter http://pages.dest
 ination.one/de/teutonavigator/streaming/detail/Event/e_100833692/seniorenk
 ino
DTEND;TZID=Europe/Berlin:20260521T235900
DTSTAMP:20260421T124124Z
DTSTART;TZID=Europe/Berlin:20260521T140000
GEO:51.734451;9.024278
LOCATION:Kino Bad Driburg\, Am Rathausplatz 2\, Bad Driburg
ORGANIZER;CN=Kino Bad Driburg:mailto:kino@kinodriburg.de
SEQUENCE:0
SUMMARY:Seniorenkino
UID:e_100833692_iv18
URL:http://pages.destination.one/de/teutonavigator/streaming/detail/Event/e
 _100833692/seniorenkino
END:VEVENT
BEGIN:VEVENT
CATEGORIES:Film
DESCRIPTION:Jeden 3. Donnerstag im Monat findet im Kino Bad Driburg das Sen
 iorenkino statt.\n\nInformationen zum geplanten Film finden Sie unter www.
 kinodriburg.de/seniorenkino/\n\nmehr Informationen unter http://pages.dest
 ination.one/de/teutonavigator/streaming/detail/Event/e_100833692/seniorenk
 ino
DTEND;TZID=Europe/Berlin:20260618T235900
DTSTAMP:20260421T124124Z
DTSTART;TZID=Europe/Berlin:20260618T140000
GEO:51.734451;9.024278
LOCATION:Kino Bad Driburg\, Am Rathausplatz 2\, Bad Driburg
ORGANIZER;CN=Kino Bad Driburg:mailto:kino@kinodriburg.de
SEQUENCE:0
SUMMARY:Seniorenkino
UID:e_100833692_iv19
URL:http://pages.destination.one/de/teutonavigator/streaming/detail/Event/e
 _100833692/seniorenkino
END:VEVENT
BEGIN:VTIMEZONE
TZID:Europe/Berlin
X-LIC-LOCATION:Europe/Berlin
BEGIN:DAYLIGHT
DTSTART:19700329T020000
RRULE:FREQ=YEARLY;BYDAY=-1SU;BYMONTH=3
TZNAME:CEST
TZOFFSETFROM:+0100
TZOFFSETTO:+0200
END:DAYLIGHT
BEGIN:STANDARD
DTSTART:19701025T030000
RRULE:FREQ=YEARLY;BYDAY=-1SU;BYMONTH=10
TZNAME:CET
TZOFFSETFROM:+0200
TZOFFSETTO:+0100
END:STANDARD
END:VTIMEZONE
END:VCALENDAR
