BEGIN:VCALENDAR
VERSION:2.0
PRODID:-//destination.one//NONSGML destination.meta API//DE
X-WR-CALDESC:A calendar powered by destination.meta
X-WR-CALNAME:teutonavigator Kalender via destination.meta
BEGIN:VEVENT
CATEGORIES:Ausstellung
CATEGORIES:Brauchtum/Kultur
CATEGORIES:Führung/Besichtigung
CATEGORIES:Kurs/Seminar/Hobby
CATEGORIES:Sonstiges
DESCRIPTION:Jeder Garten ist einzigartig und immer etwas ganz Besonderes!\n
 \nmehr Informationen unter http://pages.destination.one/de/teutonavigator/
 streaming/detail/Event/e_100831507/offene-g-rten-im-m-hlenkreis-garten-t-p
 ferei-sundern
DTEND;TZID=Europe/Berlin:20240608T180000
DTSTAMP:20260421T171045Z
DTSTART;TZID=Europe/Berlin:20240608T100000
GEO:52.387446;8.427379
LOCATION:Garten Töpferei Sundern\, Knüve 7\, Stemwede
SEQUENCE:0
SUMMARY:Offene Gärten im Mühlenkreis - Garten Töpferei Sundern
UID:e_100831507_iv0
URL:http://pages.destination.one/de/teutonavigator/streaming/detail/Event/e
 _100831507/offene-g-rten-im-m-hlenkreis-garten-t-pferei-sundern
END:VEVENT
BEGIN:VEVENT
CATEGORIES:Ausstellung
CATEGORIES:Brauchtum/Kultur
CATEGORIES:Führung/Besichtigung
CATEGORIES:Kurs/Seminar/Hobby
CATEGORIES:Sonstiges
DESCRIPTION:Jeder Garten ist einzigartig und immer etwas ganz Besonderes!\n
 \nmehr Informationen unter http://pages.destination.one/de/teutonavigator/
 streaming/detail/Event/e_100831507/offene-g-rten-im-m-hlenkreis-garten-t-p
 ferei-sundern
DTEND;TZID=Europe/Berlin:20240609T180000
DTSTAMP:20260421T171045Z
DTSTART;TZID=Europe/Berlin:20240609T100000
GEO:52.387446;8.427379
LOCATION:Garten Töpferei Sundern\, Knüve 7\, Stemwede
SEQUENCE:0
SUMMARY:Offene Gärten im Mühlenkreis - Garten Töpferei Sundern
UID:e_100831507_iv1
URL:http://pages.destination.one/de/teutonavigator/streaming/detail/Event/e
 _100831507/offene-g-rten-im-m-hlenkreis-garten-t-pferei-sundern
END:VEVENT
BEGIN:VEVENT
CATEGORIES:Ausstellung
CATEGORIES:Brauchtum/Kultur
CATEGORIES:Führung/Besichtigung
CATEGORIES:Kurs/Seminar/Hobby
CATEGORIES:Sonstiges
DESCRIPTION:Jeder Garten ist einzigartig und immer etwas ganz Besonderes!\n
 \nmehr Informationen unter http://pages.destination.one/de/teutonavigator/
 streaming/detail/Event/e_100831507/offene-g-rten-im-m-hlenkreis-garten-t-p
 ferei-sundern
DTEND;TZID=Europe/Berlin:20240817T180000
DTSTAMP:20260421T171045Z
DTSTART;TZID=Europe/Berlin:20240817T100000
GEO:52.387446;8.427379
LOCATION:Garten Töpferei Sundern\, Knüve 7\, Stemwede
SEQUENCE:0
SUMMARY:Offene Gärten im Mühlenkreis - Garten Töpferei Sundern
UID:e_100831507_iv2
URL:http://pages.destination.one/de/teutonavigator/streaming/detail/Event/e
 _100831507/offene-g-rten-im-m-hlenkreis-garten-t-pferei-sundern
END:VEVENT
BEGIN:VEVENT
CATEGORIES:Ausstellung
CATEGORIES:Brauchtum/Kultur
CATEGORIES:Führung/Besichtigung
CATEGORIES:Kurs/Seminar/Hobby
CATEGORIES:Sonstiges
DESCRIPTION:Jeder Garten ist einzigartig und immer etwas ganz Besonderes!\n
 \nmehr Informationen unter http://pages.destination.one/de/teutonavigator/
 streaming/detail/Event/e_100831507/offene-g-rten-im-m-hlenkreis-garten-t-p
 ferei-sundern
DTEND;TZID=Europe/Berlin:20240818T180000
DTSTAMP:20260421T171045Z
DTSTART;TZID=Europe/Berlin:20240818T100000
GEO:52.387446;8.427379
LOCATION:Garten Töpferei Sundern\, Knüve 7\, Stemwede
SEQUENCE:0
SUMMARY:Offene Gärten im Mühlenkreis - Garten Töpferei Sundern
UID:e_100831507_iv3
URL:http://pages.destination.one/de/teutonavigator/streaming/detail/Event/e
 _100831507/offene-g-rten-im-m-hlenkreis-garten-t-pferei-sundern
END:VEVENT
BEGIN:VEVENT
CATEGORIES:Ausstellung
CATEGORIES:Brauchtum/Kultur
CATEGORIES:Führung/Besichtigung
CATEGORIES:Kurs/Seminar/Hobby
CATEGORIES:Sonstiges
DESCRIPTION:Jeder Garten ist einzigartig und immer etwas ganz Besonderes!\n
 \nmehr Informationen unter http://pages.destination.one/de/teutonavigator/
 streaming/detail/Event/e_100831507/offene-g-rten-im-m-hlenkreis-garten-t-p
 ferei-sundern
DTEND;TZID=Europe/Berlin:20250308T180000
DTSTAMP:20260421T171045Z
DTSTART;TZID=Europe/Berlin:20250308T100000
GEO:52.387446;8.427379
LOCATION:Garten Töpferei Sundern\, Knüve 7\, Stemwede
SEQUENCE:0
SUMMARY:Offene Gärten im Mühlenkreis - Garten Töpferei Sundern
UID:e_100831507_iv4
URL:http://pages.destination.one/de/teutonavigator/streaming/detail/Event/e
 _100831507/offene-g-rten-im-m-hlenkreis-garten-t-pferei-sundern
END:VEVENT
BEGIN:VEVENT
CATEGORIES:Ausstellung
CATEGORIES:Brauchtum/Kultur
CATEGORIES:Führung/Besichtigung
CATEGORIES:Kurs/Seminar/Hobby
CATEGORIES:Sonstiges
DESCRIPTION:Jeder Garten ist einzigartig und immer etwas ganz Besonderes!\n
 \nmehr Informationen unter http://pages.destination.one/de/teutonavigator/
 streaming/detail/Event/e_100831507/offene-g-rten-im-m-hlenkreis-garten-t-p
 ferei-sundern
DTEND;TZID=Europe/Berlin:20250309T180000
DTSTAMP:20260421T171045Z
DTSTART;TZID=Europe/Berlin:20250309T100000
GEO:52.387446;8.427379
LOCATION:Garten Töpferei Sundern\, Knüve 7\, Stemwede
SEQUENCE:0
SUMMARY:Offene Gärten im Mühlenkreis - Garten Töpferei Sundern
UID:e_100831507_iv5
URL:http://pages.destination.one/de/teutonavigator/streaming/detail/Event/e
 _100831507/offene-g-rten-im-m-hlenkreis-garten-t-pferei-sundern
END:VEVENT
BEGIN:VEVENT
CATEGORIES:Ausstellung
CATEGORIES:Brauchtum/Kultur
CATEGORIES:Führung/Besichtigung
CATEGORIES:Kurs/Seminar/Hobby
CATEGORIES:Sonstiges
DESCRIPTION:Jeder Garten ist einzigartig und immer etwas ganz Besonderes!\n
 \nmehr Informationen unter http://pages.destination.one/de/teutonavigator/
 streaming/detail/Event/e_100831507/offene-g-rten-im-m-hlenkreis-garten-t-p
 ferei-sundern
DTEND;TZID=Europe/Berlin:20250614T180000
DTSTAMP:20260421T171045Z
DTSTART;TZID=Europe/Berlin:20250614T100000
GEO:52.387446;8.427379
LOCATION:Garten Töpferei Sundern\, Knüve 7\, Stemwede
SEQUENCE:0
SUMMARY:Offene Gärten im Mühlenkreis - Garten Töpferei Sundern
UID:e_100831507_iv6
URL:http://pages.destination.one/de/teutonavigator/streaming/detail/Event/e
 _100831507/offene-g-rten-im-m-hlenkreis-garten-t-pferei-sundern
END:VEVENT
BEGIN:VEVENT
CATEGORIES:Ausstellung
CATEGORIES:Brauchtum/Kultur
CATEGORIES:Führung/Besichtigung
CATEGORIES:Kurs/Seminar/Hobby
CATEGORIES:Sonstiges
DESCRIPTION:Jeder Garten ist einzigartig und immer etwas ganz Besonderes!\n
 \nmehr Informationen unter http://pages.destination.one/de/teutonavigator/
 streaming/detail/Event/e_100831507/offene-g-rten-im-m-hlenkreis-garten-t-p
 ferei-sundern
DTEND;TZID=Europe/Berlin:20250615T180000
DTSTAMP:20260421T171045Z
DTSTART;TZID=Europe/Berlin:20250615T100000
GEO:52.387446;8.427379
LOCATION:Garten Töpferei Sundern\, Knüve 7\, Stemwede
SEQUENCE:0
SUMMARY:Offene Gärten im Mühlenkreis - Garten Töpferei Sundern
UID:e_100831507_iv7
URL:http://pages.destination.one/de/teutonavigator/streaming/detail/Event/e
 _100831507/offene-g-rten-im-m-hlenkreis-garten-t-pferei-sundern
END:VEVENT
BEGIN:VEVENT
CATEGORIES:Ausstellung
CATEGORIES:Brauchtum/Kultur
CATEGORIES:Führung/Besichtigung
CATEGORIES:Kurs/Seminar/Hobby
CATEGORIES:Sonstiges
DESCRIPTION:Jeder Garten ist einzigartig und immer etwas ganz Besonderes!\n
 \nmehr Informationen unter http://pages.destination.one/de/teutonavigator/
 streaming/detail/Event/e_100831507/offene-g-rten-im-m-hlenkreis-garten-t-p
 ferei-sundern
DTEND;TZID=Europe/Berlin:20250823T180000
DTSTAMP:20260421T171045Z
DTSTART;TZID=Europe/Berlin:20250823T100000
GEO:52.387446;8.427379
LOCATION:Garten Töpferei Sundern\, Knüve 7\, Stemwede
SEQUENCE:0
SUMMARY:Offene Gärten im Mühlenkreis - Garten Töpferei Sundern
UID:e_100831507_iv8
URL:http://pages.destination.one/de/teutonavigator/streaming/detail/Event/e
 _100831507/offene-g-rten-im-m-hlenkreis-garten-t-pferei-sundern
END:VEVENT
BEGIN:VEVENT
CATEGORIES:Ausstellung
CATEGORIES:Brauchtum/Kultur
CATEGORIES:Führung/Besichtigung
CATEGORIES:Kurs/Seminar/Hobby
CATEGORIES:Sonstiges
DESCRIPTION:Jeder Garten ist einzigartig und immer etwas ganz Besonderes!\n
 \nmehr Informationen unter http://pages.destination.one/de/teutonavigator/
 streaming/detail/Event/e_100831507/offene-g-rten-im-m-hlenkreis-garten-t-p
 ferei-sundern
DTEND;TZID=Europe/Berlin:20250824T180000
DTSTAMP:20260421T171045Z
DTSTART;TZID=Europe/Berlin:20250824T100000
GEO:52.387446;8.427379
LOCATION:Garten Töpferei Sundern\, Knüve 7\, Stemwede
SEQUENCE:0
SUMMARY:Offene Gärten im Mühlenkreis - Garten Töpferei Sundern
UID:e_100831507_iv9
URL:http://pages.destination.one/de/teutonavigator/streaming/detail/Event/e
 _100831507/offene-g-rten-im-m-hlenkreis-garten-t-pferei-sundern
END:VEVENT
BEGIN:VEVENT
CATEGORIES:Ausstellung
CATEGORIES:Brauchtum/Kultur
CATEGORIES:Führung/Besichtigung
CATEGORIES:Kurs/Seminar/Hobby
CATEGORIES:Sonstiges
DESCRIPTION:Jeder Garten ist einzigartig und immer etwas ganz Besonderes!\n
 \nmehr Informationen unter http://pages.destination.one/de/teutonavigator/
 streaming/detail/Event/e_100831507/offene-g-rten-im-m-hlenkreis-garten-t-p
 ferei-sundern
DTEND;TZID=Europe/Berlin:20260314T180000
DTSTAMP:20260421T171045Z
DTSTART;TZID=Europe/Berlin:20260314T100000
GEO:52.387446;8.427379
LOCATION:Garten Töpferei Sundern\, Knüve 7\, Stemwede
SEQUENCE:0
SUMMARY:Offene Gärten im Mühlenkreis - Garten Töpferei Sundern
UID:e_100831507_iv10
URL:http://pages.destination.one/de/teutonavigator/streaming/detail/Event/e
 _100831507/offene-g-rten-im-m-hlenkreis-garten-t-pferei-sundern
END:VEVENT
BEGIN:VEVENT
CATEGORIES:Ausstellung
CATEGORIES:Brauchtum/Kultur
CATEGORIES:Führung/Besichtigung
CATEGORIES:Kurs/Seminar/Hobby
CATEGORIES:Sonstiges
DESCRIPTION:Jeder Garten ist einzigartig und immer etwas ganz Besonderes!\n
 \nmehr Informationen unter http://pages.destination.one/de/teutonavigator/
 streaming/detail/Event/e_100831507/offene-g-rten-im-m-hlenkreis-garten-t-p
 ferei-sundern
DTEND;TZID=Europe/Berlin:20260315T180000
DTSTAMP:20260421T171045Z
DTSTART;TZID=Europe/Berlin:20260315T100000
GEO:52.387446;8.427379
LOCATION:Garten Töpferei Sundern\, Knüve 7\, Stemwede
SEQUENCE:0
SUMMARY:Offene Gärten im Mühlenkreis - Garten Töpferei Sundern
UID:e_100831507_iv11
URL:http://pages.destination.one/de/teutonavigator/streaming/detail/Event/e
 _100831507/offene-g-rten-im-m-hlenkreis-garten-t-pferei-sundern
END:VEVENT
BEGIN:VEVENT
CATEGORIES:Ausstellung
CATEGORIES:Brauchtum/Kultur
CATEGORIES:Führung/Besichtigung
CATEGORIES:Kurs/Seminar/Hobby
CATEGORIES:Sonstiges
DESCRIPTION:Jeder Garten ist einzigartig und immer etwas ganz Besonderes!\n
 \nmehr Informationen unter http://pages.destination.one/de/teutonavigator/
 streaming/detail/Event/e_100831507/offene-g-rten-im-m-hlenkreis-garten-t-p
 ferei-sundern
DTEND;TZID=Europe/Berlin:20260613T180000
DTSTAMP:20260421T171045Z
DTSTART;TZID=Europe/Berlin:20260613T100000
GEO:52.387446;8.427379
LOCATION:Garten Töpferei Sundern\, Knüve 7\, Stemwede
SEQUENCE:0
SUMMARY:Offene Gärten im Mühlenkreis - Garten Töpferei Sundern
UID:e_100831507_iv12
URL:http://pages.destination.one/de/teutonavigator/streaming/detail/Event/e
 _100831507/offene-g-rten-im-m-hlenkreis-garten-t-pferei-sundern
END:VEVENT
BEGIN:VEVENT
CATEGORIES:Ausstellung
CATEGORIES:Brauchtum/Kultur
CATEGORIES:Führung/Besichtigung
CATEGORIES:Kurs/Seminar/Hobby
CATEGORIES:Sonstiges
DESCRIPTION:Jeder Garten ist einzigartig und immer etwas ganz Besonderes!\n
 \nmehr Informationen unter http://pages.destination.one/de/teutonavigator/
 streaming/detail/Event/e_100831507/offene-g-rten-im-m-hlenkreis-garten-t-p
 ferei-sundern
DTEND;TZID=Europe/Berlin:20260614T180000
DTSTAMP:20260421T171045Z
DTSTART;TZID=Europe/Berlin:20260614T100000
GEO:52.387446;8.427379
LOCATION:Garten Töpferei Sundern\, Knüve 7\, Stemwede
SEQUENCE:0
SUMMARY:Offene Gärten im Mühlenkreis - Garten Töpferei Sundern
UID:e_100831507_iv13
URL:http://pages.destination.one/de/teutonavigator/streaming/detail/Event/e
 _100831507/offene-g-rten-im-m-hlenkreis-garten-t-pferei-sundern
END:VEVENT
BEGIN:VEVENT
CATEGORIES:Ausstellung
CATEGORIES:Brauchtum/Kultur
CATEGORIES:Führung/Besichtigung
CATEGORIES:Kurs/Seminar/Hobby
CATEGORIES:Sonstiges
DESCRIPTION:Jeder Garten ist einzigartig und immer etwas ganz Besonderes!\n
 \nmehr Informationen unter http://pages.destination.one/de/teutonavigator/
 streaming/detail/Event/e_100831507/offene-g-rten-im-m-hlenkreis-garten-t-p
 ferei-sundern
DTEND;TZID=Europe/Berlin:20260704T180000
DTSTAMP:20260421T171045Z
DTSTART;TZID=Europe/Berlin:20260704T100000
GEO:52.387446;8.427379
LOCATION:Garten Töpferei Sundern\, Knüve 7\, Stemwede
RRULE:FREQ=DAILY;UNTIL=20260705T160000
SEQUENCE:0
SUMMARY:Offene Gärten im Mühlenkreis - Garten Töpferei Sundern
UID:e_100831507_iv14
URL:http://pages.destination.one/de/teutonavigator/streaming/detail/Event/e
 _100831507/offene-g-rten-im-m-hlenkreis-garten-t-pferei-sundern
END:VEVENT
BEGIN:VTIMEZONE
TZID:Europe/Berlin
X-LIC-LOCATION:Europe/Berlin
BEGIN:DAYLIGHT
DTSTART:19700329T020000
RRULE:FREQ=YEARLY;BYDAY=-1SU;BYMONTH=3
TZNAME:CEST
TZOFFSETFROM:+0100
TZOFFSETTO:+0200
END:DAYLIGHT
BEGIN:STANDARD
DTSTART:19701025T030000
RRULE:FREQ=YEARLY;BYDAY=-1SU;BYMONTH=10
TZNAME:CET
TZOFFSETFROM:+0200
TZOFFSETTO:+0100
END:STANDARD
END:VTIMEZONE
END:VCALENDAR
