BEGIN:VCALENDAR
VERSION:2.0
PRODID:-//destination.one//NONSGML destination.meta API//DE
X-WR-CALDESC:A calendar powered by destination.meta
X-WR-CALNAME:teutonavigator Kalender via destination.meta
BEGIN:VEVENT
CATEGORIES:Sport/Freizeit
CATEGORIES:Turnier/Wettbewerb
DESCRIPTION:Der integrative Familiensportnachmittag mit Sportshow präsentie
 rt von der Volksbank Paderborn\n\nmehr Informationen unter http://pages.de
 stination.one/de/teutonavigator/streaming/detail/Event/e_100830153/togethe
 r-in-motion-integratives-sportfest
DTEND;TZID=Europe/Berlin:20241117T235900
DTSTAMP:20260421T114248Z
DTSTART;TZID=Europe/Berlin:20241117T140000
GEO:51.724656;8.752992
LOCATION:Sportzentrum Maspernplatz (Maspernhalle)\, Schützenweg 1b\, Paderb
 orn
ORGANIZER;CN=Stadtsportverband Paderborn e.V.:mailto:stadtsportverband-pade
 rborn@t-online.de
SEQUENCE:0
SUMMARY:Together in Motion | Integratives Sportfest 
UID:e_100830153_iv0
URL:http://pages.destination.one/de/teutonavigator/streaming/detail/Event/e
 _100830153/together-in-motion-integratives-sportfest
END:VEVENT
BEGIN:VEVENT
CATEGORIES:Sport/Freizeit
CATEGORIES:Turnier/Wettbewerb
DESCRIPTION:Der integrative Familiensportnachmittag mit Sportshow präsentie
 rt von der Volksbank Paderborn\n\nmehr Informationen unter http://pages.de
 stination.one/de/teutonavigator/streaming/detail/Event/e_100830153/togethe
 r-in-motion-integratives-sportfest
DTEND;TZID=Europe/Berlin:20251116T235900
DTSTAMP:20260421T114248Z
DTSTART;TZID=Europe/Berlin:20251116T140000
GEO:51.724656;8.752992
LOCATION:Sportzentrum Maspernplatz (Maspernhalle)\, Schützenweg 1b\, Paderb
 orn
ORGANIZER;CN=Stadtsportverband Paderborn e.V.:mailto:stadtsportverband-pade
 rborn@t-online.de
SEQUENCE:0
SUMMARY:Together in Motion | Integratives Sportfest 
UID:e_100830153_iv1
URL:http://pages.destination.one/de/teutonavigator/streaming/detail/Event/e
 _100830153/together-in-motion-integratives-sportfest
END:VEVENT
BEGIN:VEVENT
CATEGORIES:Sport/Freizeit
CATEGORIES:Turnier/Wettbewerb
DESCRIPTION:Der integrative Familiensportnachmittag mit Sportshow präsentie
 rt von der Volksbank Paderborn\n\nmehr Informationen unter http://pages.de
 stination.one/de/teutonavigator/streaming/detail/Event/e_100830153/togethe
 r-in-motion-integratives-sportfest
DTEND;TZID=Europe/Berlin:20261115T235900
DTSTAMP:20260421T114248Z
DTSTART;TZID=Europe/Berlin:20261115T140000
GEO:51.724656;8.752992
LOCATION:Sportzentrum Maspernplatz (Maspernhalle)\, Schützenweg 1b\, Paderb
 orn
ORGANIZER;CN=Stadtsportverband Paderborn e.V.:mailto:stadtsportverband-pade
 rborn@t-online.de
SEQUENCE:0
SUMMARY:Together in Motion | Integratives Sportfest 
UID:e_100830153_iv2
URL:http://pages.destination.one/de/teutonavigator/streaming/detail/Event/e
 _100830153/together-in-motion-integratives-sportfest
END:VEVENT
BEGIN:VEVENT
CATEGORIES:Sport/Freizeit
CATEGORIES:Turnier/Wettbewerb
DESCRIPTION:Der integrative Familiensportnachmittag mit Sportshow präsentie
 rt von der Volksbank Paderborn\n\nmehr Informationen unter http://pages.de
 stination.one/de/teutonavigator/streaming/detail/Event/e_100830153/togethe
 r-in-motion-integratives-sportfest
DTEND;TZID=Europe/Berlin:20271114T235900
DTSTAMP:20260421T114248Z
DTSTART;TZID=Europe/Berlin:20271114T140000
GEO:51.724656;8.752992
LOCATION:Sportzentrum Maspernplatz (Maspernhalle)\, Schützenweg 1b\, Paderb
 orn
ORGANIZER;CN=Stadtsportverband Paderborn e.V.:mailto:stadtsportverband-pade
 rborn@t-online.de
SEQUENCE:0
SUMMARY:Together in Motion | Integratives Sportfest 
UID:e_100830153_iv3
URL:http://pages.destination.one/de/teutonavigator/streaming/detail/Event/e
 _100830153/together-in-motion-integratives-sportfest
END:VEVENT
BEGIN:VEVENT
CATEGORIES:Sport/Freizeit
CATEGORIES:Turnier/Wettbewerb
DESCRIPTION:Der integrative Familiensportnachmittag mit Sportshow präsentie
 rt von der Volksbank Paderborn\n\nmehr Informationen unter http://pages.de
 stination.one/de/teutonavigator/streaming/detail/Event/e_100830153/togethe
 r-in-motion-integratives-sportfest
DTEND;TZID=Europe/Berlin:20281119T235900
DTSTAMP:20260421T114248Z
DTSTART;TZID=Europe/Berlin:20281119T140000
GEO:51.724656;8.752992
LOCATION:Sportzentrum Maspernplatz (Maspernhalle)\, Schützenweg 1b\, Paderb
 orn
ORGANIZER;CN=Stadtsportverband Paderborn e.V.:mailto:stadtsportverband-pade
 rborn@t-online.de
SEQUENCE:0
SUMMARY:Together in Motion | Integratives Sportfest 
UID:e_100830153_iv4
URL:http://pages.destination.one/de/teutonavigator/streaming/detail/Event/e
 _100830153/together-in-motion-integratives-sportfest
END:VEVENT
BEGIN:VTIMEZONE
TZID:Europe/Berlin
X-LIC-LOCATION:Europe/Berlin
BEGIN:DAYLIGHT
DTSTART:19700329T020000
RRULE:FREQ=YEARLY;BYDAY=-1SU;BYMONTH=3
TZNAME:CEST
TZOFFSETFROM:+0100
TZOFFSETTO:+0200
END:DAYLIGHT
BEGIN:STANDARD
DTSTART:19701025T030000
RRULE:FREQ=YEARLY;BYDAY=-1SU;BYMONTH=10
TZNAME:CET
TZOFFSETFROM:+0200
TZOFFSETTO:+0100
END:STANDARD
END:VTIMEZONE
END:VCALENDAR
