BEGIN:VCALENDAR
VERSION:2.0
PRODID:-//destination.one//NONSGML destination.meta API//DE
X-WR-CALDESC:A calendar powered by destination.meta
X-WR-CALNAME:teutonavigator Kalender via destination.meta
BEGIN:VEVENT
CATEGORIES:Markt
CATEGORIES:Genuss/Gourmet
DESCRIPTION:\n\nmehr Informationen unter http://pages.destination.one/de/te
 utonavigator/streaming/detail/Event/e_100824942/deutscher-k-semarkt-in-nie
 heim
DTEND;TZID=Europe/Berlin:20260904T200000
DTSTAMP:20260421T181441Z
DTSTART;TZID=Europe/Berlin:20260904T140000
GEO:51.804334;9.110485
LOCATION:Nieheim\, Marktstraße 18\, Nieheim
ORGANIZER;CN=Stadt Nieheim - Stadt- und Wirtschaftsförderung / Tourismusbür
 o :mailto:wifoe@nieheim.de
PRIORITY:4
SEQUENCE:0
SUMMARY:Deutscher Käsemarkt in Nieheim
UID:e_100824942_iv0
URL:http://pages.destination.one/de/teutonavigator/streaming/detail/Event/e
 _100824942/deutscher-k-semarkt-in-nieheim
END:VEVENT
BEGIN:VEVENT
CATEGORIES:Markt
CATEGORIES:Genuss/Gourmet
DESCRIPTION:\n\nmehr Informationen unter http://pages.destination.one/de/te
 utonavigator/streaming/detail/Event/e_100824942/deutscher-k-semarkt-in-nie
 heim
DTEND;TZID=Europe/Berlin:20260905T200000
DTSTAMP:20260421T181441Z
DTSTART;TZID=Europe/Berlin:20260905T100000
GEO:51.804334;9.110485
LOCATION:Nieheim\, Marktstraße 18\, Nieheim
ORGANIZER;CN=Stadt Nieheim - Stadt- und Wirtschaftsförderung / Tourismusbür
 o :mailto:wifoe@nieheim.de
PRIORITY:4
SEQUENCE:0
SUMMARY:Deutscher Käsemarkt in Nieheim
UID:e_100824942_iv1
URL:http://pages.destination.one/de/teutonavigator/streaming/detail/Event/e
 _100824942/deutscher-k-semarkt-in-nieheim
END:VEVENT
BEGIN:VEVENT
CATEGORIES:Markt
CATEGORIES:Genuss/Gourmet
DESCRIPTION:\n\nmehr Informationen unter http://pages.destination.one/de/te
 utonavigator/streaming/detail/Event/e_100824942/deutscher-k-semarkt-in-nie
 heim
DTEND;TZID=Europe/Berlin:20260906T180000
DTSTAMP:20260421T181441Z
DTSTART;TZID=Europe/Berlin:20260906T100000
GEO:51.804334;9.110485
LOCATION:Nieheim\, Marktstraße 18\, Nieheim
ORGANIZER;CN=Stadt Nieheim - Stadt- und Wirtschaftsförderung / Tourismusbür
 o :mailto:wifoe@nieheim.de
PRIORITY:4
SEQUENCE:0
SUMMARY:Deutscher Käsemarkt in Nieheim
UID:e_100824942_iv2
URL:http://pages.destination.one/de/teutonavigator/streaming/detail/Event/e
 _100824942/deutscher-k-semarkt-in-nieheim
END:VEVENT
BEGIN:VTIMEZONE
TZID:Europe/Berlin
X-LIC-LOCATION:Europe/Berlin
BEGIN:DAYLIGHT
DTSTART:19700329T020000
RRULE:FREQ=YEARLY;BYDAY=-1SU;BYMONTH=3
TZNAME:CEST
TZOFFSETFROM:+0100
TZOFFSETTO:+0200
END:DAYLIGHT
BEGIN:STANDARD
DTSTART:19701025T030000
RRULE:FREQ=YEARLY;BYDAY=-1SU;BYMONTH=10
TZNAME:CET
TZOFFSETFROM:+0200
TZOFFSETTO:+0100
END:STANDARD
END:VTIMEZONE
END:VCALENDAR
