BEGIN:VCALENDAR
VERSION:2.0
PRODID:-//destination.one//NONSGML destination.meta API//DE
X-WR-CALDESC:A calendar powered by destination.meta
X-WR-CALNAME:teutonavigator Kalender via destination.meta
BEGIN:VEVENT
CATEGORIES:Brauchtum/Kultur
DESCRIPTION:Nach der Premiere und den tollen Rückmeldungen des letzten Jahr
 es wird auch in diesem Jahr wieder der Maibaum auf dem Sportgelände im Wal
 dstadion an der Falkenstraße aufgestellt.\n\nmehr Informationen unter http
 ://pages.destination.one/de/teutonavigator/streaming/detail/Event/e_100822
 227/maibaum-aufstellen
DTEND;TZID=Europe/Berlin:20240420T210000
DTSTAMP:20260421T190055Z
DTSTART;TZID=Europe/Berlin:20240420T170000
GEO:51.923536;8.599190
LOCATION:Waldstadion SW Sende\, Falkenstr. 113\, Schloß Holte-Stukenbrock
RRULE:FREQ=YEARLY;BYDAY=3SA;BYMONTH=4
SEQUENCE:0
SUMMARY:Maibaum-Aufstellen
UID:e_100822227_iv0
URL:http://pages.destination.one/de/teutonavigator/streaming/detail/Event/e
 _100822227/maibaum-aufstellen
END:VEVENT
BEGIN:VTIMEZONE
TZID:Europe/Berlin
X-LIC-LOCATION:Europe/Berlin
BEGIN:DAYLIGHT
DTSTART:19700329T020000
RRULE:FREQ=YEARLY;BYDAY=-1SU;BYMONTH=3
TZNAME:CEST
TZOFFSETFROM:+0100
TZOFFSETTO:+0200
END:DAYLIGHT
BEGIN:STANDARD
DTSTART:19701025T030000
RRULE:FREQ=YEARLY;BYDAY=-1SU;BYMONTH=10
TZNAME:CET
TZOFFSETFROM:+0200
TZOFFSETTO:+0100
END:STANDARD
END:VTIMEZONE
END:VCALENDAR
