BEGIN:VCALENDAR
VERSION:2.0
PRODID:-//destination.one//NONSGML destination.meta API//DE
X-WR-CALDESC:A calendar powered by destination.meta
X-WR-CALNAME:teutonavigator Kalender via destination.meta
BEGIN:VEVENT
CATEGORIES:Konzert divers
DESCRIPTION:Vielfalt erleben - Fest der Kulturen\n\nmehr Informationen unte
 r http://pages.destination.one/de/teutonavigator/streaming/detail/Event/e_
 100820542/folk-am-turm
DTEND;TZID=Europe/Berlin:20240817T235900
DTSTAMP:20260421T140150Z
DTSTART;TZID=Europe/Berlin:20240817T194500
GEO:51.516892;8.697113
LOCATION:Gaststätte "bei Wilms"\, Burgstraße 18\, Bad Wünnenberg
ORGANIZER;CN=KuK Kunst & Kultur:http://www.kuk-bad-wuennenberg.de/
SEQUENCE:0
SUMMARY:Folk am Turm
UID:e_100820542_iv0
URL:http://pages.destination.one/de/teutonavigator/streaming/detail/Event/e
 _100820542/folk-am-turm
END:VEVENT
BEGIN:VEVENT
CATEGORIES:Konzert divers
DESCRIPTION:Vielfalt erleben - Fest der Kulturen\n\nmehr Informationen unte
 r http://pages.destination.one/de/teutonavigator/streaming/detail/Event/e_
 100820542/folk-am-turm
DTEND;TZID=Europe/Berlin:20250816T235900
DTSTAMP:20260421T140150Z
DTSTART;TZID=Europe/Berlin:20250816T194500
GEO:51.516892;8.697113
LOCATION:Gaststätte "bei Wilms"\, Burgstraße 18\, Bad Wünnenberg
ORGANIZER;CN=KuK Kunst & Kultur:http://www.kuk-bad-wuennenberg.de/
SEQUENCE:0
SUMMARY:Folk am Turm
UID:e_100820542_iv1
URL:http://pages.destination.one/de/teutonavigator/streaming/detail/Event/e
 _100820542/folk-am-turm
END:VEVENT
BEGIN:VEVENT
CATEGORIES:Konzert divers
DESCRIPTION:Vielfalt erleben - Fest der Kulturen\n\nmehr Informationen unte
 r http://pages.destination.one/de/teutonavigator/streaming/detail/Event/e_
 100820542/folk-am-turm
DTEND;TZID=Europe/Berlin:20260815T235900
DTSTAMP:20260421T140150Z
DTSTART;TZID=Europe/Berlin:20260815T194500
GEO:51.516892;8.697113
LOCATION:Gaststätte "bei Wilms"\, Burgstraße 18\, Bad Wünnenberg
ORGANIZER;CN=KuK Kunst & Kultur:http://www.kuk-bad-wuennenberg.de/
SEQUENCE:0
SUMMARY:Folk am Turm
UID:e_100820542_iv2
URL:http://pages.destination.one/de/teutonavigator/streaming/detail/Event/e
 _100820542/folk-am-turm
END:VEVENT
BEGIN:VTIMEZONE
TZID:Europe/Berlin
X-LIC-LOCATION:Europe/Berlin
BEGIN:DAYLIGHT
DTSTART:19700329T020000
RRULE:FREQ=YEARLY;BYDAY=-1SU;BYMONTH=3
TZNAME:CEST
TZOFFSETFROM:+0100
TZOFFSETTO:+0200
END:DAYLIGHT
BEGIN:STANDARD
DTSTART:19701025T030000
RRULE:FREQ=YEARLY;BYDAY=-1SU;BYMONTH=10
TZNAME:CET
TZOFFSETFROM:+0200
TZOFFSETTO:+0100
END:STANDARD
END:VTIMEZONE
END:VCALENDAR
