BEGIN:VCALENDAR
VERSION:2.0
PRODID:-//destination.one//NONSGML destination.meta API//DE
X-WR-CALDESC:A calendar powered by destination.meta
X-WR-CALNAME:teutonavigator Kalender via destination.meta
BEGIN:VEVENT
CATEGORIES:Geselligkeit/Spiele/Treffen
DESCRIPTION:\n\nmehr Informationen unter http://pages.destination.one/de/te
 utonavigator/streaming/detail/Event/e_100804758/preis-skat
DTEND;TZID=Europe/Berlin:20240307T170000
DTSTAMP:20260421T140151Z
DTSTART;TZID=Europe/Berlin:20240307T143000
GEO:52.196761;8.799997
LOCATION:Gaststätte Drei Linden\, Detmolder Straße 17\, Bad Oeynhausen
RRULE:FREQ=WEEKLY;BYDAY=TH
SEQUENCE:0
SUMMARY:Preis-Skat
UID:e_100804758_iv0
URL:http://pages.destination.one/de/teutonavigator/streaming/detail/Event/e
 _100804758/preis-skat
END:VEVENT
BEGIN:VEVENT
CATEGORIES:Geselligkeit/Spiele/Treffen
DESCRIPTION:\n\nmehr Informationen unter http://pages.destination.one/de/te
 utonavigator/streaming/detail/Event/e_100804758/preis-skat
DTEND;TZID=Europe/Berlin:20240311T210000
DTSTAMP:20260421T140151Z
DTSTART;TZID=Europe/Berlin:20240311T183000
GEO:52.196761;8.799997
LOCATION:Gaststätte Drei Linden\, Detmolder Straße 17\, Bad Oeynhausen
RRULE:FREQ=WEEKLY;BYDAY=MO
SEQUENCE:0
SUMMARY:Preis-Skat
UID:e_100804758_iv1
URL:http://pages.destination.one/de/teutonavigator/streaming/detail/Event/e
 _100804758/preis-skat
END:VEVENT
BEGIN:VTIMEZONE
TZID:Europe/Berlin
X-LIC-LOCATION:Europe/Berlin
BEGIN:DAYLIGHT
DTSTART:19700329T020000
RRULE:FREQ=YEARLY;BYDAY=-1SU;BYMONTH=3
TZNAME:CEST
TZOFFSETFROM:+0100
TZOFFSETTO:+0200
END:DAYLIGHT
BEGIN:STANDARD
DTSTART:19701025T030000
RRULE:FREQ=YEARLY;BYDAY=-1SU;BYMONTH=10
TZNAME:CET
TZOFFSETFROM:+0200
TZOFFSETTO:+0100
END:STANDARD
END:VTIMEZONE
END:VCALENDAR
