BEGIN:VCALENDAR
VERSION:2.0
PRODID:-//destination.one//NONSGML destination.meta API//DE
X-WR-CALDESC:A calendar powered by destination.meta
X-WR-CALNAME:teutonavigator Kalender via destination.meta
BEGIN:VEVENT
CATEGORIES:Weihnachtsmarkt
DESCRIPTION:\n\nmehr Informationen unter http://pages.destination.one/de/te
 utonavigator/streaming/detail/Event/e_100803889/weihnachtsmarkt-in-anreppe
 n
DTEND;TZID=Europe/Berlin;VALUE=DATE:20241216
DTSTAMP:20260422T144749Z
DTSTART;TZID=Europe/Berlin;VALUE=DATE:20241215
GEO:51.744546;8.592703
LOCATION:St. Josef Kirche\, Im Dorfe\, Delbrück
ORGANIZER;CN=Heimatverein Anreppen:mailto:heimatverein@anreppen.de
SEQUENCE:0
SUMMARY:Weihnachtsmarkt in Anreppen
UID:e_100803889_iv0
URL:http://pages.destination.one/de/teutonavigator/streaming/detail/Event/e
 _100803889/weihnachtsmarkt-in-anreppen
END:VEVENT
BEGIN:VEVENT
CATEGORIES:Weihnachtsmarkt
DESCRIPTION:\n\nmehr Informationen unter http://pages.destination.one/de/te
 utonavigator/streaming/detail/Event/e_100803889/weihnachtsmarkt-in-anreppe
 n
DTEND;TZID=Europe/Berlin;VALUE=DATE:20251215
DTSTAMP:20260422T144749Z
DTSTART;TZID=Europe/Berlin;VALUE=DATE:20251214
GEO:51.744546;8.592703
LOCATION:St. Josef Kirche\, Im Dorfe\, Delbrück
ORGANIZER;CN=Heimatverein Anreppen:mailto:heimatverein@anreppen.de
SEQUENCE:0
SUMMARY:Weihnachtsmarkt in Anreppen
UID:e_100803889_iv1
URL:http://pages.destination.one/de/teutonavigator/streaming/detail/Event/e
 _100803889/weihnachtsmarkt-in-anreppen
END:VEVENT
BEGIN:VEVENT
CATEGORIES:Weihnachtsmarkt
DESCRIPTION:\n\nmehr Informationen unter http://pages.destination.one/de/te
 utonavigator/streaming/detail/Event/e_100803889/weihnachtsmarkt-in-anreppe
 n
DTEND;TZID=Europe/Berlin;VALUE=DATE:20261214
DTSTAMP:20260422T144749Z
DTSTART;TZID=Europe/Berlin;VALUE=DATE:20261213
GEO:51.744546;8.592703
LOCATION:St. Josef Kirche\, Im Dorfe\, Delbrück
ORGANIZER;CN=Heimatverein Anreppen:mailto:heimatverein@anreppen.de
SEQUENCE:0
SUMMARY:Weihnachtsmarkt in Anreppen
UID:e_100803889_iv2
URL:http://pages.destination.one/de/teutonavigator/streaming/detail/Event/e
 _100803889/weihnachtsmarkt-in-anreppen
END:VEVENT
BEGIN:VTIMEZONE
TZID:Europe/Berlin
X-LIC-LOCATION:Europe/Berlin
BEGIN:DAYLIGHT
DTSTART:19700329T020000
RRULE:FREQ=YEARLY;BYDAY=-1SU;BYMONTH=3
TZNAME:CEST
TZOFFSETFROM:+0100
TZOFFSETTO:+0200
END:DAYLIGHT
BEGIN:STANDARD
DTSTART:19701025T030000
RRULE:FREQ=YEARLY;BYDAY=-1SU;BYMONTH=10
TZNAME:CET
TZOFFSETFROM:+0200
TZOFFSETTO:+0100
END:STANDARD
END:VTIMEZONE
END:VCALENDAR
