BEGIN:VCALENDAR
VERSION:2.0
PRODID:-//destination.one//NONSGML destination.meta API//DE
X-WR-CALDESC:A calendar powered by destination.meta
X-WR-CALNAME:teutonavigator Kalender via destination.meta
BEGIN:VEVENT
CATEGORIES:Radtour
DESCRIPTION:Mountainbiketour entlang Wälder- und Geländestrecken\n\nmehr In
 formationen unter http://pages.destination.one/de/teutonavigator/streaming
 /detail/Event/e_100803680/mountainbike-tour
DTEND;TZID=Europe/Berlin:20240511T235900
DTSTAMP:20260422T152633Z
DTSTART;TZID=Europe/Berlin:20240511T130000
GEO:51.521583;8.530523
LOCATION:Dorfgemeinschaftshaus "Alte Schule" Siddinghausen\, Drostenberg 4\
 , Büren
ORGANIZER;CN=Heimat- und Verkehrsverein Siddinghausen e.V.:mailto:huv@siddi
 nghausen.de
SEQUENCE:0
SUMMARY:Mountainbike-Tour
UID:e_100803680_iv0
URL:http://pages.destination.one/de/teutonavigator/streaming/detail/Event/e
 _100803680/mountainbike-tour
END:VEVENT
BEGIN:VEVENT
CATEGORIES:Radtour
DESCRIPTION:Mountainbiketour entlang Wälder- und Geländestrecken\n\nmehr In
 formationen unter http://pages.destination.one/de/teutonavigator/streaming
 /detail/Event/e_100803680/mountainbike-tour
DTEND;TZID=Europe/Berlin:20240914T235900
DTSTAMP:20260422T152633Z
DTSTART;TZID=Europe/Berlin:20240914T130000
GEO:51.521583;8.530523
LOCATION:Dorfgemeinschaftshaus "Alte Schule" Siddinghausen\, Drostenberg 4\
 , Büren
ORGANIZER;CN=Heimat- und Verkehrsverein Siddinghausen e.V.:mailto:huv@siddi
 nghausen.de
SEQUENCE:0
SUMMARY:Mountainbike-Tour
UID:e_100803680_iv1
URL:http://pages.destination.one/de/teutonavigator/streaming/detail/Event/e
 _100803680/mountainbike-tour
END:VEVENT
BEGIN:VEVENT
CATEGORIES:Radtour
DESCRIPTION:Mountainbiketour entlang Wälder- und Geländestrecken\n\nmehr In
 formationen unter http://pages.destination.one/de/teutonavigator/streaming
 /detail/Event/e_100803680/mountainbike-tour
DTEND;TZID=Europe/Berlin:20250517T235900
DTSTAMP:20260422T152633Z
DTSTART;TZID=Europe/Berlin:20250517T130000
GEO:51.521583;8.530523
LOCATION:Dorfgemeinschaftshaus "Alte Schule" Siddinghausen\, Drostenberg 4\
 , Büren
ORGANIZER;CN=Heimat- und Verkehrsverein Siddinghausen e.V.:mailto:huv@siddi
 nghausen.de
SEQUENCE:0
SUMMARY:Mountainbike-Tour
UID:e_100803680_iv2
URL:http://pages.destination.one/de/teutonavigator/streaming/detail/Event/e
 _100803680/mountainbike-tour
END:VEVENT
BEGIN:VEVENT
CATEGORIES:Radtour
DESCRIPTION:Mountainbiketour entlang Wälder- und Geländestrecken\n\nmehr In
 formationen unter http://pages.destination.one/de/teutonavigator/streaming
 /detail/Event/e_100803680/mountainbike-tour
DTEND;TZID=Europe/Berlin:20250517T235900
DTSTAMP:20260422T152633Z
DTSTART;TZID=Europe/Berlin:20250517T130000
GEO:51.521583;8.530523
LOCATION:Dorfgemeinschaftshaus "Alte Schule" Siddinghausen\, Drostenberg 4\
 , Büren
ORGANIZER;CN=Heimat- und Verkehrsverein Siddinghausen e.V.:mailto:huv@siddi
 nghausen.de
SEQUENCE:0
SUMMARY:Mountainbike-Tour
UID:e_100803680_iv3
URL:http://pages.destination.one/de/teutonavigator/streaming/detail/Event/e
 _100803680/mountainbike-tour
END:VEVENT
BEGIN:VEVENT
CATEGORIES:Radtour
DESCRIPTION:Mountainbiketour entlang Wälder- und Geländestrecken\n\nmehr In
 formationen unter http://pages.destination.one/de/teutonavigator/streaming
 /detail/Event/e_100803680/mountainbike-tour
DTEND;TZID=Europe/Berlin:20250913T235900
DTSTAMP:20260422T152633Z
DTSTART;TZID=Europe/Berlin:20250913T130000
GEO:51.521583;8.530523
LOCATION:Dorfgemeinschaftshaus "Alte Schule" Siddinghausen\, Drostenberg 4\
 , Büren
ORGANIZER;CN=Heimat- und Verkehrsverein Siddinghausen e.V.:mailto:huv@siddi
 nghausen.de
SEQUENCE:0
SUMMARY:Mountainbike-Tour
UID:e_100803680_iv4
URL:http://pages.destination.one/de/teutonavigator/streaming/detail/Event/e
 _100803680/mountainbike-tour
END:VEVENT
BEGIN:VEVENT
CATEGORIES:Radtour
DESCRIPTION:Mountainbiketour entlang Wälder- und Geländestrecken\n\nmehr In
 formationen unter http://pages.destination.one/de/teutonavigator/streaming
 /detail/Event/e_100803680/mountainbike-tour
DTEND;TZID=Europe/Berlin:20260509T235900
DTSTAMP:20260422T152633Z
DTSTART;TZID=Europe/Berlin:20260509T130000
GEO:51.521583;8.530523
LOCATION:Dorfgemeinschaftshaus "Alte Schule" Siddinghausen\, Drostenberg 4\
 , Büren
ORGANIZER;CN=Heimat- und Verkehrsverein Siddinghausen e.V.:mailto:huv@siddi
 nghausen.de
SEQUENCE:0
SUMMARY:Mountainbike-Tour
UID:e_100803680_iv5
URL:http://pages.destination.one/de/teutonavigator/streaming/detail/Event/e
 _100803680/mountainbike-tour
END:VEVENT
BEGIN:VEVENT
CATEGORIES:Radtour
DESCRIPTION:Mountainbiketour entlang Wälder- und Geländestrecken\n\nmehr In
 formationen unter http://pages.destination.one/de/teutonavigator/streaming
 /detail/Event/e_100803680/mountainbike-tour
DTEND;TZID=Europe/Berlin:20260912T235900
DTSTAMP:20260422T152633Z
DTSTART;TZID=Europe/Berlin:20260912T130000
GEO:51.521583;8.530523
LOCATION:Dorfgemeinschaftshaus "Alte Schule" Siddinghausen\, Drostenberg 4\
 , Büren
ORGANIZER;CN=Heimat- und Verkehrsverein Siddinghausen e.V.:mailto:huv@siddi
 nghausen.de
SEQUENCE:0
SUMMARY:Mountainbike-Tour
UID:e_100803680_iv6
URL:http://pages.destination.one/de/teutonavigator/streaming/detail/Event/e
 _100803680/mountainbike-tour
END:VEVENT
BEGIN:VTIMEZONE
TZID:Europe/Berlin
X-LIC-LOCATION:Europe/Berlin
BEGIN:DAYLIGHT
DTSTART:19700329T020000
RRULE:FREQ=YEARLY;BYDAY=-1SU;BYMONTH=3
TZNAME:CEST
TZOFFSETFROM:+0100
TZOFFSETTO:+0200
END:DAYLIGHT
BEGIN:STANDARD
DTSTART:19701025T030000
RRULE:FREQ=YEARLY;BYDAY=-1SU;BYMONTH=10
TZNAME:CET
TZOFFSETFROM:+0200
TZOFFSETTO:+0100
END:STANDARD
END:VTIMEZONE
END:VCALENDAR
