BEGIN:VCALENDAR
VERSION:2.0
PRODID:-//destination.one//NONSGML destination.meta API//DE
X-WR-CALDESC:A calendar powered by destination.meta
X-WR-CALNAME:teutonavigator Kalender via destination.meta
BEGIN:VEVENT
CATEGORIES:Bühne divers
CATEGORIES:Kirche
DESCRIPTION:Christliche Mysterienspiele sind seit dem 14. Jahrhundert bekan
 nt. Sie haben sich wahrscheinlich aus der Liturgie entwickelt\, in der bib
 lische Texte in verteilten Rollen gelesen wurden.  Wir erleben das Lesen m
 it verteilten Rollen heute noch am Palmsonntag und in der Liturgie des Kar
 freitags bei der Passion unseres Herrn Jesus Christus. Bei den Mysteriensp
 ielen wird dieses Rollenlesen verbunden mit der szenischen Darstellung der
  Inhalte der Verkündigung.\n\nmehr Informationen unter http://pages.destin
 ation.one/de/teutonavigator/streaming/detail/Event/e_100799895/kleinenberg
 er-mysterienspiele
DTEND;TZID=Europe/Berlin:20260912T170000
DTSTAMP:20260421T140319Z
DTSTART;TZID=Europe/Berlin:20260912T140000
GEO:51.584583;8.970230
LOCATION:Wallfahrt Kleinenberg\, Pfarrer-Leifferen-Straße 2\, Lichtenau
ORGANIZER;CN=Wallfahrt Kleinenberg:mailto:info@wallfahrt-kleinenberg.de
SEQUENCE:0
SUMMARY:Kleinenberger Mysterienspiele
UID:e_100799895_iv0
URL:http://pages.destination.one/de/teutonavigator/streaming/detail/Event/e
 _100799895/kleinenberger-mysterienspiele
END:VEVENT
BEGIN:VEVENT
CATEGORIES:Bühne divers
CATEGORIES:Kirche
DESCRIPTION:Christliche Mysterienspiele sind seit dem 14. Jahrhundert bekan
 nt. Sie haben sich wahrscheinlich aus der Liturgie entwickelt\, in der bib
 lische Texte in verteilten Rollen gelesen wurden.  Wir erleben das Lesen m
 it verteilten Rollen heute noch am Palmsonntag und in der Liturgie des Kar
 freitags bei der Passion unseres Herrn Jesus Christus. Bei den Mysteriensp
 ielen wird dieses Rollenlesen verbunden mit der szenischen Darstellung der
  Inhalte der Verkündigung.\n\nmehr Informationen unter http://pages.destin
 ation.one/de/teutonavigator/streaming/detail/Event/e_100799895/kleinenberg
 er-mysterienspiele
DTEND;TZID=Europe/Berlin:20260913T170000
DTSTAMP:20260421T140319Z
DTSTART;TZID=Europe/Berlin:20260913T140000
GEO:51.584583;8.970230
LOCATION:Wallfahrt Kleinenberg\, Pfarrer-Leifferen-Straße 2\, Lichtenau
ORGANIZER;CN=Wallfahrt Kleinenberg:mailto:info@wallfahrt-kleinenberg.de
SEQUENCE:0
SUMMARY:Kleinenberger Mysterienspiele
UID:e_100799895_iv1
URL:http://pages.destination.one/de/teutonavigator/streaming/detail/Event/e
 _100799895/kleinenberger-mysterienspiele
END:VEVENT
BEGIN:VTIMEZONE
TZID:Europe/Berlin
X-LIC-LOCATION:Europe/Berlin
BEGIN:DAYLIGHT
DTSTART:19700329T020000
RRULE:FREQ=YEARLY;BYDAY=-1SU;BYMONTH=3
TZNAME:CEST
TZOFFSETFROM:+0100
TZOFFSETTO:+0200
END:DAYLIGHT
BEGIN:STANDARD
DTSTART:19701025T030000
RRULE:FREQ=YEARLY;BYDAY=-1SU;BYMONTH=10
TZNAME:CET
TZOFFSETFROM:+0200
TZOFFSETTO:+0100
END:STANDARD
END:VTIMEZONE
END:VCALENDAR
