BEGIN:VCALENDAR
VERSION:2.0
PRODID:-//destination.one//NONSGML destination.meta API//DE
X-WR-CALDESC:A calendar powered by destination.meta
X-WR-CALNAME:teutonavigator Kalender via destination.meta
BEGIN:VEVENT
CATEGORIES:Sport/Freizeit
CATEGORIES:Turnier/Wettbewerb
DESCRIPTION:Kaffee & Kuchen | Bratwurst & Pommes | Hüpfburg\n\nmehr Informa
 tionen unter http://pages.destination.one/de/teutonavigator/streaming/deta
 il/Event/e_100795938/wildsch-tz-klostermann-lauf
DTEND;TZID=Europe/Berlin;VALUE=DATE:20240922
DTSTAMP:20260422T144626Z
DTSTART;TZID=Europe/Berlin;VALUE=DATE:20240921
GEO:51.621541;8.903514
LOCATION:Sportplatz\, Driburger Straße 38\, Lichtenau
ORGANIZER;CN=VfL Lichtenau 1924 e.V.:mailto:info@vfl-lichtenau.de
SEQUENCE:0
SUMMARY:Wildschütz-Klostermann-Lauf
UID:e_100795938_iv0
URL:http://pages.destination.one/de/teutonavigator/streaming/detail/Event/e
 _100795938/wildsch-tz-klostermann-lauf
END:VEVENT
BEGIN:VEVENT
CATEGORIES:Sport/Freizeit
CATEGORIES:Turnier/Wettbewerb
DESCRIPTION:Kaffee & Kuchen | Bratwurst & Pommes | Hüpfburg\n\nmehr Informa
 tionen unter http://pages.destination.one/de/teutonavigator/streaming/deta
 il/Event/e_100795938/wildsch-tz-klostermann-lauf
DTEND;TZID=Europe/Berlin:20250927T235900
DTSTAMP:20260422T144626Z
DTSTART;TZID=Europe/Berlin:20250927T133000
GEO:51.621541;8.903514
LOCATION:Sportplatz\, Driburger Straße 38\, Lichtenau
ORGANIZER;CN=VfL Lichtenau 1924 e.V.:mailto:info@vfl-lichtenau.de
SEQUENCE:0
SUMMARY:Wildschütz-Klostermann-Lauf
UID:e_100795938_iv1
URL:http://pages.destination.one/de/teutonavigator/streaming/detail/Event/e
 _100795938/wildsch-tz-klostermann-lauf
END:VEVENT
BEGIN:VEVENT
CATEGORIES:Sport/Freizeit
CATEGORIES:Turnier/Wettbewerb
DESCRIPTION:Kaffee & Kuchen | Bratwurst & Pommes | Hüpfburg\n\nmehr Informa
 tionen unter http://pages.destination.one/de/teutonavigator/streaming/deta
 il/Event/e_100795938/wildsch-tz-klostermann-lauf
DTEND;TZID=Europe/Berlin:20260926T235900
DTSTAMP:20260422T144626Z
DTSTART;TZID=Europe/Berlin:20260926T133000
GEO:51.621541;8.903514
LOCATION:Sportplatz\, Driburger Straße 38\, Lichtenau
ORGANIZER;CN=VfL Lichtenau 1924 e.V.:mailto:info@vfl-lichtenau.de
SEQUENCE:0
SUMMARY:Wildschütz-Klostermann-Lauf
UID:e_100795938_iv2
URL:http://pages.destination.one/de/teutonavigator/streaming/detail/Event/e
 _100795938/wildsch-tz-klostermann-lauf
END:VEVENT
BEGIN:VTIMEZONE
TZID:Europe/Berlin
X-LIC-LOCATION:Europe/Berlin
BEGIN:DAYLIGHT
DTSTART:19700329T020000
RRULE:FREQ=YEARLY;BYDAY=-1SU;BYMONTH=3
TZNAME:CEST
TZOFFSETFROM:+0100
TZOFFSETTO:+0200
END:DAYLIGHT
BEGIN:STANDARD
DTSTART:19701025T030000
RRULE:FREQ=YEARLY;BYDAY=-1SU;BYMONTH=10
TZNAME:CET
TZOFFSETFROM:+0200
TZOFFSETTO:+0100
END:STANDARD
END:VTIMEZONE
END:VCALENDAR
