BEGIN:VCALENDAR
VERSION:2.0
PRODID:-//destination.one//NONSGML destination.meta API//DE
X-WR-CALDESC:A calendar powered by destination.meta
X-WR-CALNAME:teutonavigator Kalender via destination.meta
BEGIN:VEVENT
CATEGORIES:Sport/Freizeit
CATEGORIES:Turnier/Wettbewerb
DESCRIPTION:Wir sorgen für:\n• beste Organisation\n• markierte Strecke\n• z
 eitnahe Auswertung\n• das leibliche Wohl\n• Spaß\, Unterhaltung & Musik\n•
  einen tollen Tag\n\nmehr Informationen unter http://pages.destination.one
 /de/teutonavigator/streaming/detail/Event/e_100795933/marienloher-volkslau
 f
DTEND;TZID=Europe/Berlin:20240615T235900
DTSTAMP:20260422T130747Z
DTSTART;TZID=Europe/Berlin:20240615T150000
GEO:51.763246;8.803362
LOCATION:Sportzentrum Breite Bruch\, Neuenbekener Straße 25\, Paderborn
ORGANIZER;CN=SV Marienloh e.V.:mailto:svm@paderborn.com
SEQUENCE:0
SUMMARY:Marienloher Volkslauf
UID:e_100795933_iv0
URL:http://pages.destination.one/de/teutonavigator/streaming/detail/Event/e
 _100795933/marienloher-volkslauf
END:VEVENT
BEGIN:VEVENT
CATEGORIES:Sport/Freizeit
CATEGORIES:Turnier/Wettbewerb
DESCRIPTION:Wir sorgen für:\n• beste Organisation\n• markierte Strecke\n• z
 eitnahe Auswertung\n• das leibliche Wohl\n• Spaß\, Unterhaltung & Musik\n•
  einen tollen Tag\n\nmehr Informationen unter http://pages.destination.one
 /de/teutonavigator/streaming/detail/Event/e_100795933/marienloher-volkslau
 f
DTEND;TZID=Europe/Berlin:20260620T235900
DTSTAMP:20260422T130747Z
DTSTART;TZID=Europe/Berlin:20260620T150000
GEO:51.763246;8.803362
LOCATION:Sportzentrum Breite Bruch\, Neuenbekener Straße 25\, Paderborn
ORGANIZER;CN=SV Marienloh e.V.:mailto:svm@paderborn.com
SEQUENCE:0
SUMMARY:Marienloher Volkslauf
UID:e_100795933_iv1
URL:http://pages.destination.one/de/teutonavigator/streaming/detail/Event/e
 _100795933/marienloher-volkslauf
END:VEVENT
BEGIN:VTIMEZONE
TZID:Europe/Berlin
X-LIC-LOCATION:Europe/Berlin
BEGIN:DAYLIGHT
DTSTART:19700329T020000
RRULE:FREQ=YEARLY;BYDAY=-1SU;BYMONTH=3
TZNAME:CEST
TZOFFSETFROM:+0100
TZOFFSETTO:+0200
END:DAYLIGHT
BEGIN:STANDARD
DTSTART:19701025T030000
RRULE:FREQ=YEARLY;BYDAY=-1SU;BYMONTH=10
TZNAME:CET
TZOFFSETFROM:+0200
TZOFFSETTO:+0100
END:STANDARD
END:VTIMEZONE
END:VCALENDAR
