BEGIN:VCALENDAR
VERSION:2.0
PRODID:-//destination.one//NONSGML destination.meta API//DE
X-WR-CALDESC:A calendar powered by destination.meta
X-WR-CALNAME:teutonavigator Kalender via destination.meta
BEGIN:VEVENT
CATEGORIES:Sport/Freizeit
CATEGORIES:Turnier/Wettbewerb
DESCRIPTION:Die 4\,7 und 10\,6 km langen Rundstrecken verlaufen mit einer l
 eichten Steigung über Waldwege und Straßen. Die 20 Kilometer lange Rundstr
 ecke ist mit einem Höhenunterschied von etwa 350 Metern etwas für „Laufpro
 fis“.\n\nmehr Informationen unter http://pages.destination.one/de/teutonav
 igator/streaming/detail/Event/e_100795923/leiberger-volkslauf
DTEND;TZID=Europe/Berlin:20240406T235900
DTSTAMP:20260425T133751Z
DTSTART;TZID=Europe/Berlin:20240406T130000
GEO:51.517569;8.643880
LOCATION:Aftetal Stadion\, Am Sohlweg 4\, Bad Wünnenberg
ORGANIZER;CN=HTSV-Leiberg e.V.:mailto:mail@htsv-leiberg.de
SEQUENCE:0
SUMMARY:Leiberger Volkslauf
UID:e_100795923_iv0
URL:http://pages.destination.one/de/teutonavigator/streaming/detail/Event/e
 _100795923/leiberger-volkslauf
END:VEVENT
BEGIN:VEVENT
CATEGORIES:Sport/Freizeit
CATEGORIES:Turnier/Wettbewerb
DESCRIPTION:Die 4\,7 und 10\,6 km langen Rundstrecken verlaufen mit einer l
 eichten Steigung über Waldwege und Straßen. Die 20 Kilometer lange Rundstr
 ecke ist mit einem Höhenunterschied von etwa 350 Metern etwas für „Laufpro
 fis“.\n\nmehr Informationen unter http://pages.destination.one/de/teutonav
 igator/streaming/detail/Event/e_100795923/leiberger-volkslauf
DTEND;TZID=Europe/Berlin:20260425T235900
DTSTAMP:20260425T133751Z
DTSTART;TZID=Europe/Berlin:20260425T130000
GEO:51.517569;8.643880
LOCATION:Aftetal Stadion\, Am Sohlweg 4\, Bad Wünnenberg
ORGANIZER;CN=HTSV-Leiberg e.V.:mailto:mail@htsv-leiberg.de
SEQUENCE:0
SUMMARY:Leiberger Volkslauf
UID:e_100795923_iv1
URL:http://pages.destination.one/de/teutonavigator/streaming/detail/Event/e
 _100795923/leiberger-volkslauf
END:VEVENT
BEGIN:VTIMEZONE
TZID:Europe/Berlin
X-LIC-LOCATION:Europe/Berlin
BEGIN:DAYLIGHT
DTSTART:19700329T020000
RRULE:FREQ=YEARLY;BYDAY=-1SU;BYMONTH=3
TZNAME:CEST
TZOFFSETFROM:+0100
TZOFFSETTO:+0200
END:DAYLIGHT
BEGIN:STANDARD
DTSTART:19701025T030000
RRULE:FREQ=YEARLY;BYDAY=-1SU;BYMONTH=10
TZNAME:CET
TZOFFSETFROM:+0200
TZOFFSETTO:+0100
END:STANDARD
END:VTIMEZONE
END:VCALENDAR
