BEGIN:VCALENDAR
VERSION:2.0
PRODID:-//destination.one//NONSGML destination.meta API//DE
X-WR-CALDESC:A calendar powered by destination.meta
X-WR-CALNAME:teutonavigator Kalender via destination.meta
BEGIN:VEVENT
CATEGORIES:Sport/Freizeit
CATEGORIES:Turnier/Wettbewerb
DESCRIPTION:\n\nmehr Informationen unter http://pages.destination.one/de/te
 utonavigator/streaming/detail/Event/e_100795915/bentfelder-abendlauf
DTEND;TZID=Europe/Berlin;VALUE=DATE:20240525
DTSTAMP:20260422T114353Z
DTSTART;TZID=Europe/Berlin;VALUE=DATE:20240524
GEO:51.737955;8.631656
LOCATION:Sportplatz\, Mühlenweg 5\, Delbrück
ORGANIZER;CN=SV Rot-Weiß Bentfeld:mailto:Vorstand@rw-bentfeld.de
SEQUENCE:0
SUMMARY:Bentfelder Abendlauf
UID:e_100795915_iv0
URL:http://pages.destination.one/de/teutonavigator/streaming/detail/Event/e
 _100795915/bentfelder-abendlauf
END:VEVENT
BEGIN:VEVENT
CATEGORIES:Sport/Freizeit
CATEGORIES:Turnier/Wettbewerb
DESCRIPTION:\n\nmehr Informationen unter http://pages.destination.one/de/te
 utonavigator/streaming/detail/Event/e_100795915/bentfelder-abendlauf
DTEND;TZID=Europe/Berlin:20260529T235900
DTSTAMP:20260422T114353Z
DTSTART;TZID=Europe/Berlin:20260529T173000
GEO:51.737955;8.631656
LOCATION:Sportplatz\, Mühlenweg 5\, Delbrück
ORGANIZER;CN=SV Rot-Weiß Bentfeld:mailto:Vorstand@rw-bentfeld.de
SEQUENCE:0
SUMMARY:Bentfelder Abendlauf
UID:e_100795915_iv1
URL:http://pages.destination.one/de/teutonavigator/streaming/detail/Event/e
 _100795915/bentfelder-abendlauf
END:VEVENT
BEGIN:VTIMEZONE
TZID:Europe/Berlin
X-LIC-LOCATION:Europe/Berlin
BEGIN:DAYLIGHT
DTSTART:19700329T020000
RRULE:FREQ=YEARLY;BYDAY=-1SU;BYMONTH=3
TZNAME:CEST
TZOFFSETFROM:+0100
TZOFFSETTO:+0200
END:DAYLIGHT
BEGIN:STANDARD
DTSTART:19701025T030000
RRULE:FREQ=YEARLY;BYDAY=-1SU;BYMONTH=10
TZNAME:CET
TZOFFSETFROM:+0200
TZOFFSETTO:+0100
END:STANDARD
END:VTIMEZONE
END:VCALENDAR
