BEGIN:VCALENDAR
VERSION:2.0
PRODID:-//destination.one//NONSGML destination.meta API//DE
X-WR-CALDESC:A calendar powered by destination.meta
X-WR-CALNAME:teutonavigator Kalender via destination.meta
BEGIN:VEVENT
CATEGORIES:Sport/Freizeit
CATEGORIES:Turnier/Wettbewerb
DESCRIPTION:Baseball | 1. Bundesliga\n\nmehr Informationen unter http://pag
 es.destination.one/de/teutonavigator/streaming/detail/Event/e_100794828/he
 imspiel-der-untouchables-paderborn
DTEND;TZID=Europe/Berlin:20240406T235900
DTSTAMP:20260421T190107Z
DTSTART;TZID=Europe/Berlin:20240406T170000
GEO:51.723692;8.721514
LOCATION:Ahorn Ballpark\, Ahornallee 2-3\, Paderborn
ORGANIZER;CN=Untouchables Paderborner Baseball Club e.V.:mailto:info@untouc
 hables.eu
SEQUENCE:0
SUMMARY:Heimspiel der Untouchables Paderborn
UID:e_100794828_iv0
URL:http://pages.destination.one/de/teutonavigator/streaming/detail/Event/e
 _100794828/heimspiel-der-untouchables-paderborn
END:VEVENT
BEGIN:VEVENT
CATEGORIES:Sport/Freizeit
CATEGORIES:Turnier/Wettbewerb
DESCRIPTION:Baseball | 1. Bundesliga\n\nmehr Informationen unter http://pag
 es.destination.one/de/teutonavigator/streaming/detail/Event/e_100794828/he
 imspiel-der-untouchables-paderborn
DTEND;TZID=Europe/Berlin:20240407T235900
DTSTAMP:20260421T190107Z
DTSTART;TZID=Europe/Berlin:20240407T120000
GEO:51.723692;8.721514
LOCATION:Ahorn Ballpark\, Ahornallee 2-3\, Paderborn
ORGANIZER;CN=Untouchables Paderborner Baseball Club e.V.:mailto:info@untouc
 hables.eu
SEQUENCE:0
SUMMARY:Heimspiel der Untouchables Paderborn
UID:e_100794828_iv1
URL:http://pages.destination.one/de/teutonavigator/streaming/detail/Event/e
 _100794828/heimspiel-der-untouchables-paderborn
END:VEVENT
BEGIN:VEVENT
CATEGORIES:Sport/Freizeit
CATEGORIES:Turnier/Wettbewerb
DESCRIPTION:Baseball | 1. Bundesliga\n\nmehr Informationen unter http://pag
 es.destination.one/de/teutonavigator/streaming/detail/Event/e_100794828/he
 imspiel-der-untouchables-paderborn
DTEND;TZID=Europe/Berlin:20240427T235900
DTSTAMP:20260421T190107Z
DTSTART;TZID=Europe/Berlin:20240427T180000
GEO:51.723692;8.721514
LOCATION:Ahorn Ballpark\, Ahornallee 2-3\, Paderborn
ORGANIZER;CN=Untouchables Paderborner Baseball Club e.V.:mailto:info@untouc
 hables.eu
SEQUENCE:0
SUMMARY:Heimspiel der Untouchables Paderborn
UID:e_100794828_iv2
URL:http://pages.destination.one/de/teutonavigator/streaming/detail/Event/e
 _100794828/heimspiel-der-untouchables-paderborn
END:VEVENT
BEGIN:VEVENT
CATEGORIES:Sport/Freizeit
CATEGORIES:Turnier/Wettbewerb
DESCRIPTION:Baseball | 1. Bundesliga\n\nmehr Informationen unter http://pag
 es.destination.one/de/teutonavigator/streaming/detail/Event/e_100794828/he
 imspiel-der-untouchables-paderborn
DTEND;TZID=Europe/Berlin:20240428T235900
DTSTAMP:20260421T190107Z
DTSTART;TZID=Europe/Berlin:20240428T120000
GEO:51.723692;8.721514
LOCATION:Ahorn Ballpark\, Ahornallee 2-3\, Paderborn
ORGANIZER;CN=Untouchables Paderborner Baseball Club e.V.:mailto:info@untouc
 hables.eu
SEQUENCE:0
SUMMARY:Heimspiel der Untouchables Paderborn
UID:e_100794828_iv3
URL:http://pages.destination.one/de/teutonavigator/streaming/detail/Event/e
 _100794828/heimspiel-der-untouchables-paderborn
END:VEVENT
BEGIN:VEVENT
CATEGORIES:Sport/Freizeit
CATEGORIES:Turnier/Wettbewerb
DESCRIPTION:Baseball | 1. Bundesliga\n\nmehr Informationen unter http://pag
 es.destination.one/de/teutonavigator/streaming/detail/Event/e_100794828/he
 imspiel-der-untouchables-paderborn
DTEND;TZID=Europe/Berlin:20240509T235900
DTSTAMP:20260421T190107Z
DTSTART;TZID=Europe/Berlin:20240509T120000
GEO:51.723692;8.721514
LOCATION:Ahorn Ballpark\, Ahornallee 2-3\, Paderborn
ORGANIZER;CN=Untouchables Paderborner Baseball Club e.V.:mailto:info@untouc
 hables.eu
SEQUENCE:0
SUMMARY:Heimspiel der Untouchables Paderborn
UID:e_100794828_iv4
URL:http://pages.destination.one/de/teutonavigator/streaming/detail/Event/e
 _100794828/heimspiel-der-untouchables-paderborn
END:VEVENT
BEGIN:VEVENT
CATEGORIES:Sport/Freizeit
CATEGORIES:Turnier/Wettbewerb
DESCRIPTION:Baseball | 1. Bundesliga\n\nmehr Informationen unter http://pag
 es.destination.one/de/teutonavigator/streaming/detail/Event/e_100794828/he
 imspiel-der-untouchables-paderborn
DTEND;TZID=Europe/Berlin:20240509T235900
DTSTAMP:20260421T190107Z
DTSTART;TZID=Europe/Berlin:20240509T153000
GEO:51.723692;8.721514
LOCATION:Ahorn Ballpark\, Ahornallee 2-3\, Paderborn
ORGANIZER;CN=Untouchables Paderborner Baseball Club e.V.:mailto:info@untouc
 hables.eu
SEQUENCE:0
SUMMARY:Heimspiel der Untouchables Paderborn
UID:e_100794828_iv5
URL:http://pages.destination.one/de/teutonavigator/streaming/detail/Event/e
 _100794828/heimspiel-der-untouchables-paderborn
END:VEVENT
BEGIN:VEVENT
CATEGORIES:Sport/Freizeit
CATEGORIES:Turnier/Wettbewerb
DESCRIPTION:Baseball | 1. Bundesliga\n\nmehr Informationen unter http://pag
 es.destination.one/de/teutonavigator/streaming/detail/Event/e_100794828/he
 imspiel-der-untouchables-paderborn
DTEND;TZID=Europe/Berlin:20240601T235900
DTSTAMP:20260421T190107Z
DTSTART;TZID=Europe/Berlin:20240601T180000
GEO:51.723692;8.721514
LOCATION:Ahorn Ballpark\, Ahornallee 2-3\, Paderborn
ORGANIZER;CN=Untouchables Paderborner Baseball Club e.V.:mailto:info@untouc
 hables.eu
SEQUENCE:0
SUMMARY:Heimspiel der Untouchables Paderborn
UID:e_100794828_iv6
URL:http://pages.destination.one/de/teutonavigator/streaming/detail/Event/e
 _100794828/heimspiel-der-untouchables-paderborn
END:VEVENT
BEGIN:VEVENT
CATEGORIES:Sport/Freizeit
CATEGORIES:Turnier/Wettbewerb
DESCRIPTION:Baseball | 1. Bundesliga\n\nmehr Informationen unter http://pag
 es.destination.one/de/teutonavigator/streaming/detail/Event/e_100794828/he
 imspiel-der-untouchables-paderborn
DTEND;TZID=Europe/Berlin:20240602T235900
DTSTAMP:20260421T190107Z
DTSTART;TZID=Europe/Berlin:20240602T120000
GEO:51.723692;8.721514
LOCATION:Ahorn Ballpark\, Ahornallee 2-3\, Paderborn
ORGANIZER;CN=Untouchables Paderborner Baseball Club e.V.:mailto:info@untouc
 hables.eu
SEQUENCE:0
SUMMARY:Heimspiel der Untouchables Paderborn
UID:e_100794828_iv7
URL:http://pages.destination.one/de/teutonavigator/streaming/detail/Event/e
 _100794828/heimspiel-der-untouchables-paderborn
END:VEVENT
BEGIN:VEVENT
CATEGORIES:Sport/Freizeit
CATEGORIES:Turnier/Wettbewerb
DESCRIPTION:Baseball | 1. Bundesliga\n\nmehr Informationen unter http://pag
 es.destination.one/de/teutonavigator/streaming/detail/Event/e_100794828/he
 imspiel-der-untouchables-paderborn
DTEND;TZID=Europe/Berlin:20240608T235900
DTSTAMP:20260421T190107Z
DTSTART;TZID=Europe/Berlin:20240608T180000
GEO:51.723692;8.721514
LOCATION:Ahorn Ballpark\, Ahornallee 2-3\, Paderborn
ORGANIZER;CN=Untouchables Paderborner Baseball Club e.V.:mailto:info@untouc
 hables.eu
SEQUENCE:0
SUMMARY:Heimspiel der Untouchables Paderborn
UID:e_100794828_iv8
URL:http://pages.destination.one/de/teutonavigator/streaming/detail/Event/e
 _100794828/heimspiel-der-untouchables-paderborn
END:VEVENT
BEGIN:VEVENT
CATEGORIES:Sport/Freizeit
CATEGORIES:Turnier/Wettbewerb
DESCRIPTION:Baseball | 1. Bundesliga\n\nmehr Informationen unter http://pag
 es.destination.one/de/teutonavigator/streaming/detail/Event/e_100794828/he
 imspiel-der-untouchables-paderborn
DTEND;TZID=Europe/Berlin:20240609T235900
DTSTAMP:20260421T190107Z
DTSTART;TZID=Europe/Berlin:20240609T120000
GEO:51.723692;8.721514
LOCATION:Ahorn Ballpark\, Ahornallee 2-3\, Paderborn
ORGANIZER;CN=Untouchables Paderborner Baseball Club e.V.:mailto:info@untouc
 hables.eu
SEQUENCE:0
SUMMARY:Heimspiel der Untouchables Paderborn
UID:e_100794828_iv9
URL:http://pages.destination.one/de/teutonavigator/streaming/detail/Event/e
 _100794828/heimspiel-der-untouchables-paderborn
END:VEVENT
BEGIN:VEVENT
CATEGORIES:Sport/Freizeit
CATEGORIES:Turnier/Wettbewerb
DESCRIPTION:Baseball | 1. Bundesliga\n\nmehr Informationen unter http://pag
 es.destination.one/de/teutonavigator/streaming/detail/Event/e_100794828/he
 imspiel-der-untouchables-paderborn
DTEND;TZID=Europe/Berlin:20240622T235900
DTSTAMP:20260421T190107Z
DTSTART;TZID=Europe/Berlin:20240622T180000
GEO:51.723692;8.721514
LOCATION:Ahorn Ballpark\, Ahornallee 2-3\, Paderborn
ORGANIZER;CN=Untouchables Paderborner Baseball Club e.V.:mailto:info@untouc
 hables.eu
SEQUENCE:0
SUMMARY:Heimspiel der Untouchables Paderborn
UID:e_100794828_iv10
URL:http://pages.destination.one/de/teutonavigator/streaming/detail/Event/e
 _100794828/heimspiel-der-untouchables-paderborn
END:VEVENT
BEGIN:VEVENT
CATEGORIES:Sport/Freizeit
CATEGORIES:Turnier/Wettbewerb
DESCRIPTION:Baseball | 1. Bundesliga\n\nmehr Informationen unter http://pag
 es.destination.one/de/teutonavigator/streaming/detail/Event/e_100794828/he
 imspiel-der-untouchables-paderborn
DTEND;TZID=Europe/Berlin:20240623T235900
DTSTAMP:20260421T190107Z
DTSTART;TZID=Europe/Berlin:20240623T120000
GEO:51.723692;8.721514
LOCATION:Ahorn Ballpark\, Ahornallee 2-3\, Paderborn
ORGANIZER;CN=Untouchables Paderborner Baseball Club e.V.:mailto:info@untouc
 hables.eu
SEQUENCE:0
SUMMARY:Heimspiel der Untouchables Paderborn
UID:e_100794828_iv11
URL:http://pages.destination.one/de/teutonavigator/streaming/detail/Event/e
 _100794828/heimspiel-der-untouchables-paderborn
END:VEVENT
BEGIN:VEVENT
CATEGORIES:Sport/Freizeit
CATEGORIES:Turnier/Wettbewerb
DESCRIPTION:Baseball | 1. Bundesliga\n\nmehr Informationen unter http://pag
 es.destination.one/de/teutonavigator/streaming/detail/Event/e_100794828/he
 imspiel-der-untouchables-paderborn
DTEND;TZID=Europe/Berlin:20240803T235900
DTSTAMP:20260421T190107Z
DTSTART;TZID=Europe/Berlin:20240803T180000
GEO:51.723692;8.721514
LOCATION:Ahorn Ballpark\, Ahornallee 2-3\, Paderborn
ORGANIZER;CN=Untouchables Paderborner Baseball Club e.V.:mailto:info@untouc
 hables.eu
SEQUENCE:0
SUMMARY:Heimspiel der Untouchables Paderborn
UID:e_100794828_iv12
URL:http://pages.destination.one/de/teutonavigator/streaming/detail/Event/e
 _100794828/heimspiel-der-untouchables-paderborn
END:VEVENT
BEGIN:VEVENT
CATEGORIES:Sport/Freizeit
CATEGORIES:Turnier/Wettbewerb
DESCRIPTION:Baseball | 1. Bundesliga\n\nmehr Informationen unter http://pag
 es.destination.one/de/teutonavigator/streaming/detail/Event/e_100794828/he
 imspiel-der-untouchables-paderborn
DTEND;TZID=Europe/Berlin:20240804T235900
DTSTAMP:20260421T190107Z
DTSTART;TZID=Europe/Berlin:20240804T140000
GEO:51.723692;8.721514
LOCATION:Ahorn Ballpark\, Ahornallee 2-3\, Paderborn
ORGANIZER;CN=Untouchables Paderborner Baseball Club e.V.:mailto:info@untouc
 hables.eu
SEQUENCE:0
SUMMARY:Heimspiel der Untouchables Paderborn
UID:e_100794828_iv13
URL:http://pages.destination.one/de/teutonavigator/streaming/detail/Event/e
 _100794828/heimspiel-der-untouchables-paderborn
END:VEVENT
BEGIN:VEVENT
CATEGORIES:Sport/Freizeit
CATEGORIES:Turnier/Wettbewerb
DESCRIPTION:Baseball | 1. Bundesliga\n\nmehr Informationen unter http://pag
 es.destination.one/de/teutonavigator/streaming/detail/Event/e_100794828/he
 imspiel-der-untouchables-paderborn
DTEND;TZID=Europe/Berlin:20250517T235900
DTSTAMP:20260421T190107Z
DTSTART;TZID=Europe/Berlin:20250517T180000
GEO:51.723692;8.721514
LOCATION:Ahorn Ballpark\, Ahornallee 2-3\, Paderborn
ORGANIZER;CN=Untouchables Paderborner Baseball Club e.V.:mailto:info@untouc
 hables.eu
SEQUENCE:0
SUMMARY:Heimspiel der Untouchables Paderborn
UID:e_100794828_iv14
URL:http://pages.destination.one/de/teutonavigator/streaming/detail/Event/e
 _100794828/heimspiel-der-untouchables-paderborn
END:VEVENT
BEGIN:VEVENT
CATEGORIES:Sport/Freizeit
CATEGORIES:Turnier/Wettbewerb
DESCRIPTION:Baseball | 1. Bundesliga\n\nmehr Informationen unter http://pag
 es.destination.one/de/teutonavigator/streaming/detail/Event/e_100794828/he
 imspiel-der-untouchables-paderborn
DTEND;TZID=Europe/Berlin:20250518T235900
DTSTAMP:20260421T190107Z
DTSTART;TZID=Europe/Berlin:20250518T140000
GEO:51.723692;8.721514
LOCATION:Ahorn Ballpark\, Ahornallee 2-3\, Paderborn
ORGANIZER;CN=Untouchables Paderborner Baseball Club e.V.:mailto:info@untouc
 hables.eu
SEQUENCE:0
SUMMARY:Heimspiel der Untouchables Paderborn
UID:e_100794828_iv15
URL:http://pages.destination.one/de/teutonavigator/streaming/detail/Event/e
 _100794828/heimspiel-der-untouchables-paderborn
END:VEVENT
BEGIN:VEVENT
CATEGORIES:Sport/Freizeit
CATEGORIES:Turnier/Wettbewerb
DESCRIPTION:Baseball | 1. Bundesliga\n\nmehr Informationen unter http://pag
 es.destination.one/de/teutonavigator/streaming/detail/Event/e_100794828/he
 imspiel-der-untouchables-paderborn
DTEND;TZID=Europe/Berlin:20250529T235900
DTSTAMP:20260421T190107Z
DTSTART;TZID=Europe/Berlin:20250529T130000
GEO:51.723692;8.721514
LOCATION:Ahorn Ballpark\, Ahornallee 2-3\, Paderborn
ORGANIZER;CN=Untouchables Paderborner Baseball Club e.V.:mailto:info@untouc
 hables.eu
SEQUENCE:0
SUMMARY:Heimspiel der Untouchables Paderborn
UID:e_100794828_iv16
URL:http://pages.destination.one/de/teutonavigator/streaming/detail/Event/e
 _100794828/heimspiel-der-untouchables-paderborn
END:VEVENT
BEGIN:VEVENT
CATEGORIES:Sport/Freizeit
CATEGORIES:Turnier/Wettbewerb
DESCRIPTION:Baseball | 1. Bundesliga\n\nmehr Informationen unter http://pag
 es.destination.one/de/teutonavigator/streaming/detail/Event/e_100794828/he
 imspiel-der-untouchables-paderborn
DTEND;TZID=Europe/Berlin:20250531T235900
DTSTAMP:20260421T190107Z
DTSTART;TZID=Europe/Berlin:20250531T180000
GEO:51.723692;8.721514
LOCATION:Ahorn Ballpark\, Ahornallee 2-3\, Paderborn
ORGANIZER;CN=Untouchables Paderborner Baseball Club e.V.:mailto:info@untouc
 hables.eu
SEQUENCE:0
SUMMARY:Heimspiel der Untouchables Paderborn
UID:e_100794828_iv17
URL:http://pages.destination.one/de/teutonavigator/streaming/detail/Event/e
 _100794828/heimspiel-der-untouchables-paderborn
END:VEVENT
BEGIN:VEVENT
CATEGORIES:Sport/Freizeit
CATEGORIES:Turnier/Wettbewerb
DESCRIPTION:Baseball | 1. Bundesliga\n\nmehr Informationen unter http://pag
 es.destination.one/de/teutonavigator/streaming/detail/Event/e_100794828/he
 imspiel-der-untouchables-paderborn
DTEND;TZID=Europe/Berlin:20250601T235900
DTSTAMP:20260421T190107Z
DTSTART;TZID=Europe/Berlin:20250601T140000
GEO:51.723692;8.721514
LOCATION:Ahorn Ballpark\, Ahornallee 2-3\, Paderborn
ORGANIZER;CN=Untouchables Paderborner Baseball Club e.V.:mailto:info@untouc
 hables.eu
SEQUENCE:0
SUMMARY:Heimspiel der Untouchables Paderborn
UID:e_100794828_iv18
URL:http://pages.destination.one/de/teutonavigator/streaming/detail/Event/e
 _100794828/heimspiel-der-untouchables-paderborn
END:VEVENT
BEGIN:VEVENT
CATEGORIES:Sport/Freizeit
CATEGORIES:Turnier/Wettbewerb
DESCRIPTION:Baseball | 1. Bundesliga\n\nmehr Informationen unter http://pag
 es.destination.one/de/teutonavigator/streaming/detail/Event/e_100794828/he
 imspiel-der-untouchables-paderborn
DTEND;TZID=Europe/Berlin:20250614T235900
DTSTAMP:20260421T190107Z
DTSTART;TZID=Europe/Berlin:20250614T180000
GEO:51.723692;8.721514
LOCATION:Ahorn Ballpark\, Ahornallee 2-3\, Paderborn
ORGANIZER;CN=Untouchables Paderborner Baseball Club e.V.:mailto:info@untouc
 hables.eu
SEQUENCE:0
SUMMARY:Heimspiel der Untouchables Paderborn
UID:e_100794828_iv19
URL:http://pages.destination.one/de/teutonavigator/streaming/detail/Event/e
 _100794828/heimspiel-der-untouchables-paderborn
END:VEVENT
BEGIN:VEVENT
CATEGORIES:Sport/Freizeit
CATEGORIES:Turnier/Wettbewerb
DESCRIPTION:Baseball | 1. Bundesliga\n\nmehr Informationen unter http://pag
 es.destination.one/de/teutonavigator/streaming/detail/Event/e_100794828/he
 imspiel-der-untouchables-paderborn
DTEND;TZID=Europe/Berlin:20250615T235900
DTSTAMP:20260421T190107Z
DTSTART;TZID=Europe/Berlin:20250615T130000
GEO:51.723692;8.721514
LOCATION:Ahorn Ballpark\, Ahornallee 2-3\, Paderborn
ORGANIZER;CN=Untouchables Paderborner Baseball Club e.V.:mailto:info@untouc
 hables.eu
SEQUENCE:0
SUMMARY:Heimspiel der Untouchables Paderborn
UID:e_100794828_iv20
URL:http://pages.destination.one/de/teutonavigator/streaming/detail/Event/e
 _100794828/heimspiel-der-untouchables-paderborn
END:VEVENT
BEGIN:VEVENT
CATEGORIES:Sport/Freizeit
CATEGORIES:Turnier/Wettbewerb
DESCRIPTION:Baseball | 1. Bundesliga\n\nmehr Informationen unter http://pag
 es.destination.one/de/teutonavigator/streaming/detail/Event/e_100794828/he
 imspiel-der-untouchables-paderborn
DTEND;TZID=Europe/Berlin:20250621T235900
DTSTAMP:20260421T190107Z
DTSTART;TZID=Europe/Berlin:20250621T180000
GEO:51.723692;8.721514
LOCATION:Ahorn Ballpark\, Ahornallee 2-3\, Paderborn
ORGANIZER;CN=Untouchables Paderborner Baseball Club e.V.:mailto:info@untouc
 hables.eu
SEQUENCE:0
SUMMARY:Heimspiel der Untouchables Paderborn
UID:e_100794828_iv21
URL:http://pages.destination.one/de/teutonavigator/streaming/detail/Event/e
 _100794828/heimspiel-der-untouchables-paderborn
END:VEVENT
BEGIN:VEVENT
CATEGORIES:Sport/Freizeit
CATEGORIES:Turnier/Wettbewerb
DESCRIPTION:Baseball | 1. Bundesliga\n\nmehr Informationen unter http://pag
 es.destination.one/de/teutonavigator/streaming/detail/Event/e_100794828/he
 imspiel-der-untouchables-paderborn
DTEND;TZID=Europe/Berlin:20250622T235900
DTSTAMP:20260421T190107Z
DTSTART;TZID=Europe/Berlin:20250622T140000
GEO:51.723692;8.721514
LOCATION:Ahorn Ballpark\, Ahornallee 2-3\, Paderborn
ORGANIZER;CN=Untouchables Paderborner Baseball Club e.V.:mailto:info@untouc
 hables.eu
SEQUENCE:0
SUMMARY:Heimspiel der Untouchables Paderborn
UID:e_100794828_iv22
URL:http://pages.destination.one/de/teutonavigator/streaming/detail/Event/e
 _100794828/heimspiel-der-untouchables-paderborn
END:VEVENT
BEGIN:VEVENT
CATEGORIES:Sport/Freizeit
CATEGORIES:Turnier/Wettbewerb
DESCRIPTION:Baseball | 1. Bundesliga\n\nmehr Informationen unter http://pag
 es.destination.one/de/teutonavigator/streaming/detail/Event/e_100794828/he
 imspiel-der-untouchables-paderborn
DTEND;TZID=Europe/Berlin:20250712T235900
DTSTAMP:20260421T190107Z
DTSTART;TZID=Europe/Berlin:20250712T180000
GEO:51.723692;8.721514
LOCATION:Ahorn Ballpark\, Ahornallee 2-3\, Paderborn
ORGANIZER;CN=Untouchables Paderborner Baseball Club e.V.:mailto:info@untouc
 hables.eu
SEQUENCE:0
SUMMARY:Heimspiel der Untouchables Paderborn
UID:e_100794828_iv23
URL:http://pages.destination.one/de/teutonavigator/streaming/detail/Event/e
 _100794828/heimspiel-der-untouchables-paderborn
END:VEVENT
BEGIN:VEVENT
CATEGORIES:Sport/Freizeit
CATEGORIES:Turnier/Wettbewerb
DESCRIPTION:Baseball | 1. Bundesliga\n\nmehr Informationen unter http://pag
 es.destination.one/de/teutonavigator/streaming/detail/Event/e_100794828/he
 imspiel-der-untouchables-paderborn
DTEND;TZID=Europe/Berlin:20250713T235900
DTSTAMP:20260421T190107Z
DTSTART;TZID=Europe/Berlin:20250713T140000
GEO:51.723692;8.721514
LOCATION:Ahorn Ballpark\, Ahornallee 2-3\, Paderborn
ORGANIZER;CN=Untouchables Paderborner Baseball Club e.V.:mailto:info@untouc
 hables.eu
SEQUENCE:0
SUMMARY:Heimspiel der Untouchables Paderborn
UID:e_100794828_iv24
URL:http://pages.destination.one/de/teutonavigator/streaming/detail/Event/e
 _100794828/heimspiel-der-untouchables-paderborn
END:VEVENT
BEGIN:VEVENT
CATEGORIES:Sport/Freizeit
CATEGORIES:Turnier/Wettbewerb
DESCRIPTION:Baseball | 1. Bundesliga\n\nmehr Informationen unter http://pag
 es.destination.one/de/teutonavigator/streaming/detail/Event/e_100794828/he
 imspiel-der-untouchables-paderborn
DTEND;TZID=Europe/Berlin:20260411T235900
DTSTAMP:20260421T190107Z
DTSTART;TZID=Europe/Berlin:20260411T180000
GEO:51.723692;8.721514
LOCATION:Ahorn Ballpark\, Ahornallee 2-3\, Paderborn
ORGANIZER;CN=Untouchables Paderborner Baseball Club e.V.:mailto:info@untouc
 hables.eu
SEQUENCE:0
SUMMARY:Heimspiel der Untouchables Paderborn
UID:e_100794828_iv25
URL:http://pages.destination.one/de/teutonavigator/streaming/detail/Event/e
 _100794828/heimspiel-der-untouchables-paderborn
END:VEVENT
BEGIN:VEVENT
CATEGORIES:Sport/Freizeit
CATEGORIES:Turnier/Wettbewerb
DESCRIPTION:Baseball | 1. Bundesliga\n\nmehr Informationen unter http://pag
 es.destination.one/de/teutonavigator/streaming/detail/Event/e_100794828/he
 imspiel-der-untouchables-paderborn
DTEND;TZID=Europe/Berlin:20260412T235900
DTSTAMP:20260421T190107Z
DTSTART;TZID=Europe/Berlin:20260412T140000
GEO:51.723692;8.721514
LOCATION:Ahorn Ballpark\, Ahornallee 2-3\, Paderborn
ORGANIZER;CN=Untouchables Paderborner Baseball Club e.V.:mailto:info@untouc
 hables.eu
SEQUENCE:0
SUMMARY:Heimspiel der Untouchables Paderborn
UID:e_100794828_iv26
URL:http://pages.destination.one/de/teutonavigator/streaming/detail/Event/e
 _100794828/heimspiel-der-untouchables-paderborn
END:VEVENT
BEGIN:VEVENT
CATEGORIES:Sport/Freizeit
CATEGORIES:Turnier/Wettbewerb
DESCRIPTION:Baseball | 1. Bundesliga\n\nmehr Informationen unter http://pag
 es.destination.one/de/teutonavigator/streaming/detail/Event/e_100794828/he
 imspiel-der-untouchables-paderborn
DTEND;TZID=Europe/Berlin:20260419T235900
DTSTAMP:20260421T190107Z
DTSTART;TZID=Europe/Berlin:20260419T170000
GEO:51.723692;8.721514
LOCATION:Ahorn Ballpark\, Ahornallee 2-3\, Paderborn
ORGANIZER;CN=Untouchables Paderborner Baseball Club e.V.:mailto:info@untouc
 hables.eu
SEQUENCE:0
SUMMARY:Heimspiel der Untouchables Paderborn
UID:e_100794828_iv27
URL:http://pages.destination.one/de/teutonavigator/streaming/detail/Event/e
 _100794828/heimspiel-der-untouchables-paderborn
END:VEVENT
BEGIN:VEVENT
CATEGORIES:Sport/Freizeit
CATEGORIES:Turnier/Wettbewerb
DESCRIPTION:Baseball | 1. Bundesliga\n\nmehr Informationen unter http://pag
 es.destination.one/de/teutonavigator/streaming/detail/Event/e_100794828/he
 imspiel-der-untouchables-paderborn
DTEND;TZID=Europe/Berlin:20260424T235900
DTSTAMP:20260421T190107Z
DTSTART;TZID=Europe/Berlin:20260424T180000
GEO:51.723692;8.721514
LOCATION:Ahorn Ballpark\, Ahornallee 2-3\, Paderborn
ORGANIZER;CN=Untouchables Paderborner Baseball Club e.V.:mailto:info@untouc
 hables.eu
SEQUENCE:0
SUMMARY:Heimspiel der Untouchables Paderborn
UID:e_100794828_iv28
URL:http://pages.destination.one/de/teutonavigator/streaming/detail/Event/e
 _100794828/heimspiel-der-untouchables-paderborn
END:VEVENT
BEGIN:VEVENT
CATEGORIES:Sport/Freizeit
CATEGORIES:Turnier/Wettbewerb
DESCRIPTION:Baseball | 1. Bundesliga\n\nmehr Informationen unter http://pag
 es.destination.one/de/teutonavigator/streaming/detail/Event/e_100794828/he
 imspiel-der-untouchables-paderborn
DTEND;TZID=Europe/Berlin:20260508T235900
DTSTAMP:20260421T190107Z
DTSTART;TZID=Europe/Berlin:20260508T180000
GEO:51.723692;8.721514
LOCATION:Ahorn Ballpark\, Ahornallee 2-3\, Paderborn
ORGANIZER;CN=Untouchables Paderborner Baseball Club e.V.:mailto:info@untouc
 hables.eu
SEQUENCE:0
SUMMARY:Heimspiel der Untouchables Paderborn
UID:e_100794828_iv29
URL:http://pages.destination.one/de/teutonavigator/streaming/detail/Event/e
 _100794828/heimspiel-der-untouchables-paderborn
END:VEVENT
BEGIN:VEVENT
CATEGORIES:Sport/Freizeit
CATEGORIES:Turnier/Wettbewerb
DESCRIPTION:Baseball | 1. Bundesliga\n\nmehr Informationen unter http://pag
 es.destination.one/de/teutonavigator/streaming/detail/Event/e_100794828/he
 imspiel-der-untouchables-paderborn
DTEND;TZID=Europe/Berlin:20260509T235900
DTSTAMP:20260421T190107Z
DTSTART;TZID=Europe/Berlin:20260509T140000
GEO:51.723692;8.721514
LOCATION:Ahorn Ballpark\, Ahornallee 2-3\, Paderborn
ORGANIZER;CN=Untouchables Paderborner Baseball Club e.V.:mailto:info@untouc
 hables.eu
SEQUENCE:0
SUMMARY:Heimspiel der Untouchables Paderborn
UID:e_100794828_iv30
URL:http://pages.destination.one/de/teutonavigator/streaming/detail/Event/e
 _100794828/heimspiel-der-untouchables-paderborn
END:VEVENT
BEGIN:VEVENT
CATEGORIES:Sport/Freizeit
CATEGORIES:Turnier/Wettbewerb
DESCRIPTION:Baseball | 1. Bundesliga\n\nmehr Informationen unter http://pag
 es.destination.one/de/teutonavigator/streaming/detail/Event/e_100794828/he
 imspiel-der-untouchables-paderborn
DTEND;TZID=Europe/Berlin:20260530T235900
DTSTAMP:20260421T190107Z
DTSTART;TZID=Europe/Berlin:20260530T180000
GEO:51.723692;8.721514
LOCATION:Ahorn Ballpark\, Ahornallee 2-3\, Paderborn
ORGANIZER;CN=Untouchables Paderborner Baseball Club e.V.:mailto:info@untouc
 hables.eu
SEQUENCE:0
SUMMARY:Heimspiel der Untouchables Paderborn
UID:e_100794828_iv31
URL:http://pages.destination.one/de/teutonavigator/streaming/detail/Event/e
 _100794828/heimspiel-der-untouchables-paderborn
END:VEVENT
BEGIN:VEVENT
CATEGORIES:Sport/Freizeit
CATEGORIES:Turnier/Wettbewerb
DESCRIPTION:Baseball | 1. Bundesliga\n\nmehr Informationen unter http://pag
 es.destination.one/de/teutonavigator/streaming/detail/Event/e_100794828/he
 imspiel-der-untouchables-paderborn
DTEND;TZID=Europe/Berlin:20260606T235900
DTSTAMP:20260421T190107Z
DTSTART;TZID=Europe/Berlin:20260606T190000
GEO:51.723692;8.721514
LOCATION:Ahorn Ballpark\, Ahornallee 2-3\, Paderborn
ORGANIZER;CN=Untouchables Paderborner Baseball Club e.V.:mailto:info@untouc
 hables.eu
SEQUENCE:0
SUMMARY:Heimspiel der Untouchables Paderborn
UID:e_100794828_iv32
URL:http://pages.destination.one/de/teutonavigator/streaming/detail/Event/e
 _100794828/heimspiel-der-untouchables-paderborn
END:VEVENT
BEGIN:VEVENT
CATEGORIES:Sport/Freizeit
CATEGORIES:Turnier/Wettbewerb
DESCRIPTION:Baseball | 1. Bundesliga\n\nmehr Informationen unter http://pag
 es.destination.one/de/teutonavigator/streaming/detail/Event/e_100794828/he
 imspiel-der-untouchables-paderborn
DTEND;TZID=Europe/Berlin:20260613T235900
DTSTAMP:20260421T190107Z
DTSTART;TZID=Europe/Berlin:20260613T180000
GEO:51.723692;8.721514
LOCATION:Ahorn Ballpark\, Ahornallee 2-3\, Paderborn
ORGANIZER;CN=Untouchables Paderborner Baseball Club e.V.:mailto:info@untouc
 hables.eu
SEQUENCE:0
SUMMARY:Heimspiel der Untouchables Paderborn
UID:e_100794828_iv33
URL:http://pages.destination.one/de/teutonavigator/streaming/detail/Event/e
 _100794828/heimspiel-der-untouchables-paderborn
END:VEVENT
BEGIN:VEVENT
CATEGORIES:Sport/Freizeit
CATEGORIES:Turnier/Wettbewerb
DESCRIPTION:Baseball | 1. Bundesliga\n\nmehr Informationen unter http://pag
 es.destination.one/de/teutonavigator/streaming/detail/Event/e_100794828/he
 imspiel-der-untouchables-paderborn
DTEND;TZID=Europe/Berlin:20260614T235900
DTSTAMP:20260421T190107Z
DTSTART;TZID=Europe/Berlin:20260614T130000
GEO:51.723692;8.721514
LOCATION:Ahorn Ballpark\, Ahornallee 2-3\, Paderborn
ORGANIZER;CN=Untouchables Paderborner Baseball Club e.V.:mailto:info@untouc
 hables.eu
SEQUENCE:0
SUMMARY:Heimspiel der Untouchables Paderborn
UID:e_100794828_iv34
URL:http://pages.destination.one/de/teutonavigator/streaming/detail/Event/e
 _100794828/heimspiel-der-untouchables-paderborn
END:VEVENT
BEGIN:VTIMEZONE
TZID:Europe/Berlin
X-LIC-LOCATION:Europe/Berlin
BEGIN:DAYLIGHT
DTSTART:19700329T020000
RRULE:FREQ=YEARLY;BYDAY=-1SU;BYMONTH=3
TZNAME:CEST
TZOFFSETFROM:+0100
TZOFFSETTO:+0200
END:DAYLIGHT
BEGIN:STANDARD
DTSTART:19701025T030000
RRULE:FREQ=YEARLY;BYDAY=-1SU;BYMONTH=10
TZNAME:CET
TZOFFSETFROM:+0200
TZOFFSETTO:+0100
END:STANDARD
END:VTIMEZONE
END:VCALENDAR
