BEGIN:VCALENDAR
VERSION:2.0
PRODID:-//destination.one//NONSGML destination.meta API//DE
X-WR-CALDESC:A calendar powered by destination.meta
X-WR-CALNAME:teutonavigator Kalender via destination.meta
BEGIN:VEVENT
CATEGORIES:Stadtfest/Kirmes/Jahrmarkt
DESCRIPTION:"Von Bürgern\, mit Bürgern\, für Bürger" lautet das Motto\, das
  dem Kirschblütenfest bei aller Professionalität seinen heimeligen\, fast 
 familiären Charakter verleiht.\n\nmehr Informationen unter http://pages.de
 stination.one/de/teutonavigator/streaming/detail/Event/e_100789315/kirschb
 l-tenfest
DTEND;TZID=Europe/Berlin;VALUE=DATE:20240429
DTSTAMP:20260422T144024Z
DTSTART;TZID=Europe/Berlin;VALUE=DATE:20240426
GEO:52.139201;8.557417
LOCATION:Königin-Mathilde-Platz\, Königin-Mathilde Platz 4\, Enger
PRIORITY:4
RRULE:FREQ=YEARLY;BYMONTH=4;BYMONTHDAY=26
SEQUENCE:0
SUMMARY:Kirschblütenfest
UID:e_100789315_iv0
URL:http://pages.destination.one/de/teutonavigator/streaming/detail/Event/e
 _100789315/kirschbl-tenfest
END:VEVENT
BEGIN:VTIMEZONE
TZID:Europe/Berlin
X-LIC-LOCATION:Europe/Berlin
BEGIN:DAYLIGHT
DTSTART:19700329T020000
RRULE:FREQ=YEARLY;BYDAY=-1SU;BYMONTH=3
TZNAME:CEST
TZOFFSETFROM:+0100
TZOFFSETTO:+0200
END:DAYLIGHT
BEGIN:STANDARD
DTSTART:19701025T030000
RRULE:FREQ=YEARLY;BYDAY=-1SU;BYMONTH=10
TZNAME:CET
TZOFFSETFROM:+0200
TZOFFSETTO:+0100
END:STANDARD
END:VTIMEZONE
END:VCALENDAR
