BEGIN:VCALENDAR
VERSION:2.0
PRODID:-//destination.one//NONSGML destination.meta API//DE
X-WR-CALDESC:A calendar powered by destination.meta
X-WR-CALNAME:teutonavigator Kalender via destination.meta
BEGIN:VEVENT
CATEGORIES:Markt
DESCRIPTION:Der Wochenmarkt findet an jedem Freitag in der Zeit von 14:00-1
 8.00 Uhr auf dem Parkplatz "Wiemenkamp" in Delbrück statt.\n\nmehr Informa
 tionen unter http://pages.destination.one/de/teutonavigator/streaming/deta
 il/Event/e_100789163/delbr-cker-wochenmarkt
DTEND;TZID=Europe/Berlin:20240216T180000
DTSTAMP:20260421T124122Z
DTSTART;TZID=Europe/Berlin:20240216T140000
GEO:51.763033;8.564723
LOCATION:Parkplatz Am Wiemenkamp\, Am Wiemenkamp\, Delbrück
ORGANIZER;CN=Stadt Delbrück:mailto:tourist@delbrueck.de
RRULE:FREQ=WEEKLY;BYDAY=FR
SEQUENCE:0
SUMMARY:Delbrücker Wochenmarkt
UID:e_100789163_iv0
URL:http://pages.destination.one/de/teutonavigator/streaming/detail/Event/e
 _100789163/delbr-cker-wochenmarkt
END:VEVENT
BEGIN:VTIMEZONE
TZID:Europe/Berlin
X-LIC-LOCATION:Europe/Berlin
BEGIN:DAYLIGHT
DTSTART:19700329T020000
RRULE:FREQ=YEARLY;BYDAY=-1SU;BYMONTH=3
TZNAME:CEST
TZOFFSETFROM:+0100
TZOFFSETTO:+0200
END:DAYLIGHT
BEGIN:STANDARD
DTSTART:19701025T030000
RRULE:FREQ=YEARLY;BYDAY=-1SU;BYMONTH=10
TZNAME:CET
TZOFFSETFROM:+0200
TZOFFSETTO:+0100
END:STANDARD
END:VTIMEZONE
END:VCALENDAR
