BEGIN:VCALENDAR
VERSION:2.0
PRODID:-//destination.one//NONSGML destination.meta API//DE
X-WR-CALDESC:A calendar powered by destination.meta
X-WR-CALNAME:teutonavigator Kalender via destination.meta
BEGIN:VEVENT
CATEGORIES:Markt
DESCRIPTION:Gutes aus der Region - Gutes für die Region\n\nmehr Information
 en unter http://pages.destination.one/de/teutonavigator/streaming/detail/E
 vent/e_100789151/scheunenmarkt1a-wochenmarkt-in-f-rstenberg
DTEND;TZID=Europe/Berlin:20240215T180000
DTSTAMP:20260422T182042Z
DTSTART;TZID=Europe/Berlin:20240215T150000
GEO:51.516361;8.740021
LOCATION:KulturScheune1a\, Am Schlosspark 1a\, Bad Wünnenberg
ORGANIZER;CN=KulturScheune1a:mailto:info@kulturscheune1a.de
RRULE:FREQ=WEEKLY;UNTIL=20240703T160000;BYDAY=TH
SEQUENCE:0
SUMMARY:ScheunenMarkt1a - Wochenmarkt in Fürstenberg
UID:e_100789151_iv0
URL:http://pages.destination.one/de/teutonavigator/streaming/detail/Event/e
 _100789151/scheunenmarkt1a-wochenmarkt-in-f-rstenberg
END:VEVENT
BEGIN:VEVENT
CATEGORIES:Markt
DESCRIPTION:Gutes aus der Region - Gutes für die Region\n\nmehr Information
 en unter http://pages.destination.one/de/teutonavigator/streaming/detail/E
 vent/e_100789151/scheunenmarkt1a-wochenmarkt-in-f-rstenberg
DTEND;TZID=Europe/Berlin:20240704T190000
DTSTAMP:20260422T182042Z
DTSTART;TZID=Europe/Berlin:20240704T150000
GEO:51.516361;8.740021
LOCATION:KulturScheune1a\, Am Schlosspark 1a\, Bad Wünnenberg
ORGANIZER;CN=KulturScheune1a:mailto:info@kulturscheune1a.de
SEQUENCE:0
SUMMARY:ScheunenMarkt1a - Wochenmarkt in Fürstenberg
UID:e_100789151_iv1
URL:http://pages.destination.one/de/teutonavigator/streaming/detail/Event/e
 _100789151/scheunenmarkt1a-wochenmarkt-in-f-rstenberg
END:VEVENT
BEGIN:VEVENT
CATEGORIES:Markt
DESCRIPTION:Gutes aus der Region - Gutes für die Region\n\nmehr Information
 en unter http://pages.destination.one/de/teutonavigator/streaming/detail/E
 vent/e_100789151/scheunenmarkt1a-wochenmarkt-in-f-rstenberg
DTEND;TZID=Europe/Berlin:20240711T190000
DTSTAMP:20260422T182042Z
DTSTART;TZID=Europe/Berlin:20240711T150000
GEO:51.516361;8.740021
LOCATION:KulturScheune1a\, Am Schlosspark 1a\, Bad Wünnenberg
ORGANIZER;CN=KulturScheune1a:mailto:info@kulturscheune1a.de
SEQUENCE:0
SUMMARY:ScheunenMarkt1a - Wochenmarkt in Fürstenberg
UID:e_100789151_iv2
URL:http://pages.destination.one/de/teutonavigator/streaming/detail/Event/e
 _100789151/scheunenmarkt1a-wochenmarkt-in-f-rstenberg
END:VEVENT
BEGIN:VEVENT
CATEGORIES:Markt
DESCRIPTION:Gutes aus der Region - Gutes für die Region\n\nmehr Information
 en unter http://pages.destination.one/de/teutonavigator/streaming/detail/E
 vent/e_100789151/scheunenmarkt1a-wochenmarkt-in-f-rstenberg
DTEND;TZID=Europe/Berlin:20240718T190000
DTSTAMP:20260422T182042Z
DTSTART;TZID=Europe/Berlin:20240718T150000
GEO:51.516361;8.740021
LOCATION:KulturScheune1a\, Am Schlosspark 1a\, Bad Wünnenberg
ORGANIZER;CN=KulturScheune1a:mailto:info@kulturscheune1a.de
SEQUENCE:0
SUMMARY:ScheunenMarkt1a - Wochenmarkt in Fürstenberg
UID:e_100789151_iv3
URL:http://pages.destination.one/de/teutonavigator/streaming/detail/Event/e
 _100789151/scheunenmarkt1a-wochenmarkt-in-f-rstenberg
END:VEVENT
BEGIN:VEVENT
CATEGORIES:Markt
DESCRIPTION:Gutes aus der Region - Gutes für die Region\n\nmehr Information
 en unter http://pages.destination.one/de/teutonavigator/streaming/detail/E
 vent/e_100789151/scheunenmarkt1a-wochenmarkt-in-f-rstenberg
DTEND;TZID=Europe/Berlin:20240725T190000
DTSTAMP:20260422T182042Z
DTSTART;TZID=Europe/Berlin:20240725T150000
GEO:51.516361;8.740021
LOCATION:KulturScheune1a\, Am Schlosspark 1a\, Bad Wünnenberg
ORGANIZER;CN=KulturScheune1a:mailto:info@kulturscheune1a.de
SEQUENCE:0
SUMMARY:ScheunenMarkt1a - Wochenmarkt in Fürstenberg
UID:e_100789151_iv4
URL:http://pages.destination.one/de/teutonavigator/streaming/detail/Event/e
 _100789151/scheunenmarkt1a-wochenmarkt-in-f-rstenberg
END:VEVENT
BEGIN:VEVENT
CATEGORIES:Markt
DESCRIPTION:Gutes aus der Region - Gutes für die Region\n\nmehr Information
 en unter http://pages.destination.one/de/teutonavigator/streaming/detail/E
 vent/e_100789151/scheunenmarkt1a-wochenmarkt-in-f-rstenberg
DTEND;TZID=Europe/Berlin:20240801T190000
DTSTAMP:20260422T182042Z
DTSTART;TZID=Europe/Berlin:20240801T150000
GEO:51.516361;8.740021
LOCATION:KulturScheune1a\, Am Schlosspark 1a\, Bad Wünnenberg
ORGANIZER;CN=KulturScheune1a:mailto:info@kulturscheune1a.de
SEQUENCE:0
SUMMARY:ScheunenMarkt1a - Wochenmarkt in Fürstenberg
UID:e_100789151_iv5
URL:http://pages.destination.one/de/teutonavigator/streaming/detail/Event/e
 _100789151/scheunenmarkt1a-wochenmarkt-in-f-rstenberg
END:VEVENT
BEGIN:VEVENT
CATEGORIES:Markt
DESCRIPTION:Gutes aus der Region - Gutes für die Region\n\nmehr Information
 en unter http://pages.destination.one/de/teutonavigator/streaming/detail/E
 vent/e_100789151/scheunenmarkt1a-wochenmarkt-in-f-rstenberg
DTEND;TZID=Europe/Berlin:20240808T190000
DTSTAMP:20260422T182042Z
DTSTART;TZID=Europe/Berlin:20240808T150000
GEO:51.516361;8.740021
LOCATION:KulturScheune1a\, Am Schlosspark 1a\, Bad Wünnenberg
ORGANIZER;CN=KulturScheune1a:mailto:info@kulturscheune1a.de
SEQUENCE:0
SUMMARY:ScheunenMarkt1a - Wochenmarkt in Fürstenberg
UID:e_100789151_iv6
URL:http://pages.destination.one/de/teutonavigator/streaming/detail/Event/e
 _100789151/scheunenmarkt1a-wochenmarkt-in-f-rstenberg
END:VEVENT
BEGIN:VEVENT
CATEGORIES:Markt
DESCRIPTION:Gutes aus der Region - Gutes für die Region\n\nmehr Information
 en unter http://pages.destination.one/de/teutonavigator/streaming/detail/E
 vent/e_100789151/scheunenmarkt1a-wochenmarkt-in-f-rstenberg
DTEND;TZID=Europe/Berlin:20240815T190000
DTSTAMP:20260422T182042Z
DTSTART;TZID=Europe/Berlin:20240815T150000
GEO:51.516361;8.740021
LOCATION:KulturScheune1a\, Am Schlosspark 1a\, Bad Wünnenberg
ORGANIZER;CN=KulturScheune1a:mailto:info@kulturscheune1a.de
SEQUENCE:0
SUMMARY:ScheunenMarkt1a - Wochenmarkt in Fürstenberg
UID:e_100789151_iv7
URL:http://pages.destination.one/de/teutonavigator/streaming/detail/Event/e
 _100789151/scheunenmarkt1a-wochenmarkt-in-f-rstenberg
END:VEVENT
BEGIN:VEVENT
CATEGORIES:Markt
DESCRIPTION:Gutes aus der Region - Gutes für die Region\n\nmehr Information
 en unter http://pages.destination.one/de/teutonavigator/streaming/detail/E
 vent/e_100789151/scheunenmarkt1a-wochenmarkt-in-f-rstenberg
DTEND;TZID=Europe/Berlin:20240822T190000
DTSTAMP:20260422T182042Z
DTSTART;TZID=Europe/Berlin:20240822T150000
GEO:51.516361;8.740021
LOCATION:KulturScheune1a\, Am Schlosspark 1a\, Bad Wünnenberg
ORGANIZER;CN=KulturScheune1a:mailto:info@kulturscheune1a.de
SEQUENCE:0
SUMMARY:ScheunenMarkt1a - Wochenmarkt in Fürstenberg
UID:e_100789151_iv8
URL:http://pages.destination.one/de/teutonavigator/streaming/detail/Event/e
 _100789151/scheunenmarkt1a-wochenmarkt-in-f-rstenberg
END:VEVENT
BEGIN:VEVENT
CATEGORIES:Markt
DESCRIPTION:Gutes aus der Region - Gutes für die Region\n\nmehr Information
 en unter http://pages.destination.one/de/teutonavigator/streaming/detail/E
 vent/e_100789151/scheunenmarkt1a-wochenmarkt-in-f-rstenberg
DTEND;TZID=Europe/Berlin:20240829T190000
DTSTAMP:20260422T182042Z
DTSTART;TZID=Europe/Berlin:20240829T150000
GEO:51.516361;8.740021
LOCATION:KulturScheune1a\, Am Schlosspark 1a\, Bad Wünnenberg
ORGANIZER;CN=KulturScheune1a:mailto:info@kulturscheune1a.de
SEQUENCE:0
SUMMARY:ScheunenMarkt1a - Wochenmarkt in Fürstenberg
UID:e_100789151_iv9
URL:http://pages.destination.one/de/teutonavigator/streaming/detail/Event/e
 _100789151/scheunenmarkt1a-wochenmarkt-in-f-rstenberg
END:VEVENT
BEGIN:VEVENT
CATEGORIES:Markt
DESCRIPTION:Gutes aus der Region - Gutes für die Region\n\nmehr Information
 en unter http://pages.destination.one/de/teutonavigator/streaming/detail/E
 vent/e_100789151/scheunenmarkt1a-wochenmarkt-in-f-rstenberg
DTEND;TZID=Europe/Berlin:20240905T190000
DTSTAMP:20260422T182042Z
DTSTART;TZID=Europe/Berlin:20240905T150000
GEO:51.516361;8.740021
LOCATION:KulturScheune1a\, Am Schlosspark 1a\, Bad Wünnenberg
ORGANIZER;CN=KulturScheune1a:mailto:info@kulturscheune1a.de
SEQUENCE:0
SUMMARY:ScheunenMarkt1a - Wochenmarkt in Fürstenberg
UID:e_100789151_iv10
URL:http://pages.destination.one/de/teutonavigator/streaming/detail/Event/e
 _100789151/scheunenmarkt1a-wochenmarkt-in-f-rstenberg
END:VEVENT
BEGIN:VEVENT
CATEGORIES:Markt
DESCRIPTION:Gutes aus der Region - Gutes für die Region\n\nmehr Information
 en unter http://pages.destination.one/de/teutonavigator/streaming/detail/E
 vent/e_100789151/scheunenmarkt1a-wochenmarkt-in-f-rstenberg
DTEND;TZID=Europe/Berlin:20240912T190000
DTSTAMP:20260422T182042Z
DTSTART;TZID=Europe/Berlin:20240912T150000
GEO:51.516361;8.740021
LOCATION:KulturScheune1a\, Am Schlosspark 1a\, Bad Wünnenberg
ORGANIZER;CN=KulturScheune1a:mailto:info@kulturscheune1a.de
SEQUENCE:0
SUMMARY:ScheunenMarkt1a - Wochenmarkt in Fürstenberg
UID:e_100789151_iv11
URL:http://pages.destination.one/de/teutonavigator/streaming/detail/Event/e
 _100789151/scheunenmarkt1a-wochenmarkt-in-f-rstenberg
END:VEVENT
BEGIN:VEVENT
CATEGORIES:Markt
DESCRIPTION:Gutes aus der Region - Gutes für die Region\n\nmehr Information
 en unter http://pages.destination.one/de/teutonavigator/streaming/detail/E
 vent/e_100789151/scheunenmarkt1a-wochenmarkt-in-f-rstenberg
DTEND;TZID=Europe/Berlin:20240919T190000
DTSTAMP:20260422T182042Z
DTSTART;TZID=Europe/Berlin:20240919T150000
GEO:51.516361;8.740021
LOCATION:KulturScheune1a\, Am Schlosspark 1a\, Bad Wünnenberg
ORGANIZER;CN=KulturScheune1a:mailto:info@kulturscheune1a.de
SEQUENCE:0
SUMMARY:ScheunenMarkt1a - Wochenmarkt in Fürstenberg
UID:e_100789151_iv12
URL:http://pages.destination.one/de/teutonavigator/streaming/detail/Event/e
 _100789151/scheunenmarkt1a-wochenmarkt-in-f-rstenberg
END:VEVENT
BEGIN:VEVENT
CATEGORIES:Markt
DESCRIPTION:Gutes aus der Region - Gutes für die Region\n\nmehr Information
 en unter http://pages.destination.one/de/teutonavigator/streaming/detail/E
 vent/e_100789151/scheunenmarkt1a-wochenmarkt-in-f-rstenberg
DTEND;TZID=Europe/Berlin:20240926T190000
DTSTAMP:20260422T182042Z
DTSTART;TZID=Europe/Berlin:20240926T150000
GEO:51.516361;8.740021
LOCATION:KulturScheune1a\, Am Schlosspark 1a\, Bad Wünnenberg
ORGANIZER;CN=KulturScheune1a:mailto:info@kulturscheune1a.de
SEQUENCE:0
SUMMARY:ScheunenMarkt1a - Wochenmarkt in Fürstenberg
UID:e_100789151_iv13
URL:http://pages.destination.one/de/teutonavigator/streaming/detail/Event/e
 _100789151/scheunenmarkt1a-wochenmarkt-in-f-rstenberg
END:VEVENT
BEGIN:VEVENT
CATEGORIES:Markt
DESCRIPTION:Gutes aus der Region - Gutes für die Region\n\nmehr Information
 en unter http://pages.destination.one/de/teutonavigator/streaming/detail/E
 vent/e_100789151/scheunenmarkt1a-wochenmarkt-in-f-rstenberg
DTEND;TZID=Europe/Berlin:20241003T190000
DTSTAMP:20260422T182042Z
DTSTART;TZID=Europe/Berlin:20241003T150000
GEO:51.516361;8.740021
LOCATION:KulturScheune1a\, Am Schlosspark 1a\, Bad Wünnenberg
ORGANIZER;CN=KulturScheune1a:mailto:info@kulturscheune1a.de
SEQUENCE:0
SUMMARY:ScheunenMarkt1a - Wochenmarkt in Fürstenberg
UID:e_100789151_iv14
URL:http://pages.destination.one/de/teutonavigator/streaming/detail/Event/e
 _100789151/scheunenmarkt1a-wochenmarkt-in-f-rstenberg
END:VEVENT
BEGIN:VEVENT
CATEGORIES:Markt
DESCRIPTION:Gutes aus der Region - Gutes für die Region\n\nmehr Information
 en unter http://pages.destination.one/de/teutonavigator/streaming/detail/E
 vent/e_100789151/scheunenmarkt1a-wochenmarkt-in-f-rstenberg
DTEND;TZID=Europe/Berlin:20241010T190000
DTSTAMP:20260422T182042Z
DTSTART;TZID=Europe/Berlin:20241010T150000
GEO:51.516361;8.740021
LOCATION:KulturScheune1a\, Am Schlosspark 1a\, Bad Wünnenberg
ORGANIZER;CN=KulturScheune1a:mailto:info@kulturscheune1a.de
SEQUENCE:0
SUMMARY:ScheunenMarkt1a - Wochenmarkt in Fürstenberg
UID:e_100789151_iv15
URL:http://pages.destination.one/de/teutonavigator/streaming/detail/Event/e
 _100789151/scheunenmarkt1a-wochenmarkt-in-f-rstenberg
END:VEVENT
BEGIN:VEVENT
CATEGORIES:Markt
DESCRIPTION:Gutes aus der Region - Gutes für die Region\n\nmehr Information
 en unter http://pages.destination.one/de/teutonavigator/streaming/detail/E
 vent/e_100789151/scheunenmarkt1a-wochenmarkt-in-f-rstenberg
DTEND;TZID=Europe/Berlin:20241017T190000
DTSTAMP:20260422T182042Z
DTSTART;TZID=Europe/Berlin:20241017T150000
GEO:51.516361;8.740021
LOCATION:KulturScheune1a\, Am Schlosspark 1a\, Bad Wünnenberg
ORGANIZER;CN=KulturScheune1a:mailto:info@kulturscheune1a.de
SEQUENCE:0
SUMMARY:ScheunenMarkt1a - Wochenmarkt in Fürstenberg
UID:e_100789151_iv16
URL:http://pages.destination.one/de/teutonavigator/streaming/detail/Event/e
 _100789151/scheunenmarkt1a-wochenmarkt-in-f-rstenberg
END:VEVENT
BEGIN:VEVENT
CATEGORIES:Markt
DESCRIPTION:Gutes aus der Region - Gutes für die Region\n\nmehr Information
 en unter http://pages.destination.one/de/teutonavigator/streaming/detail/E
 vent/e_100789151/scheunenmarkt1a-wochenmarkt-in-f-rstenberg
DTEND;TZID=Europe/Berlin:20241024T190000
DTSTAMP:20260422T182042Z
DTSTART;TZID=Europe/Berlin:20241024T150000
GEO:51.516361;8.740021
LOCATION:KulturScheune1a\, Am Schlosspark 1a\, Bad Wünnenberg
ORGANIZER;CN=KulturScheune1a:mailto:info@kulturscheune1a.de
SEQUENCE:0
SUMMARY:ScheunenMarkt1a - Wochenmarkt in Fürstenberg
UID:e_100789151_iv17
URL:http://pages.destination.one/de/teutonavigator/streaming/detail/Event/e
 _100789151/scheunenmarkt1a-wochenmarkt-in-f-rstenberg
END:VEVENT
BEGIN:VEVENT
CATEGORIES:Markt
DESCRIPTION:Gutes aus der Region - Gutes für die Region\n\nmehr Information
 en unter http://pages.destination.one/de/teutonavigator/streaming/detail/E
 vent/e_100789151/scheunenmarkt1a-wochenmarkt-in-f-rstenberg
DTEND;TZID=Europe/Berlin:20241031T180000
DTSTAMP:20260422T182042Z
DTSTART;TZID=Europe/Berlin:20241031T150000
GEO:51.516361;8.740021
LOCATION:KulturScheune1a\, Am Schlosspark 1a\, Bad Wünnenberg
ORGANIZER;CN=KulturScheune1a:mailto:info@kulturscheune1a.de
RRULE:FREQ=WEEKLY;BYDAY=TH
SEQUENCE:0
SUMMARY:ScheunenMarkt1a - Wochenmarkt in Fürstenberg
UID:e_100789151_iv18
URL:http://pages.destination.one/de/teutonavigator/streaming/detail/Event/e
 _100789151/scheunenmarkt1a-wochenmarkt-in-f-rstenberg
END:VEVENT
BEGIN:VTIMEZONE
TZID:Europe/Berlin
X-LIC-LOCATION:Europe/Berlin
BEGIN:DAYLIGHT
DTSTART:19700329T020000
RRULE:FREQ=YEARLY;BYDAY=-1SU;BYMONTH=3
TZNAME:CEST
TZOFFSETFROM:+0100
TZOFFSETTO:+0200
END:DAYLIGHT
BEGIN:STANDARD
DTSTART:19701025T030000
RRULE:FREQ=YEARLY;BYDAY=-1SU;BYMONTH=10
TZNAME:CET
TZOFFSETFROM:+0200
TZOFFSETTO:+0100
END:STANDARD
END:VTIMEZONE
END:VCALENDAR
