BEGIN:VCALENDAR
VERSION:2.0
PRODID:-//destination.one//NONSGML destination.meta API//DE
X-WR-CALDESC:A calendar powered by destination.meta
X-WR-CALNAME:teutonavigator Kalender via destination.meta
BEGIN:VEVENT
CATEGORIES:Bühne divers
CATEGORIES:Konzert divers
CATEGORIES:Punkrock
CATEGORIES:Rock
DESCRIPTION:Rockmusik für Kinder\n\nmehr Informationen unter http://pages.d
 estination.one/de/teutonavigator/streaming/detail/Event/e_100787011/randal
 e-sandkastenrocker
DTEND;TZID=Europe/Berlin:20240308T235900
DTSTAMP:20260419T144159Z
DTSTART;TZID=Europe/Berlin:20240308T160000
GEO:52.433955;8.461661
LOCATION:Life House\, Am Schulzentrum 14\, Stemwede
ORGANIZER;CN="Verein für Jugend, Freizeit und Kultur in Stemwede e.V.":mail
 to:info@jfk-stemwede.de
SEQUENCE:0
SUMMARY:Randale: Sandkastenrocker
UID:e_100787011_iv0
URL:http://pages.destination.one/de/teutonavigator/streaming/detail/Event/e
 _100787011/randale-sandkastenrocker
END:VEVENT
BEGIN:VEVENT
CATEGORIES:Bühne divers
CATEGORIES:Konzert divers
CATEGORIES:Punkrock
CATEGORIES:Rock
DESCRIPTION:Rockmusik für Kinder\n\nmehr Informationen unter http://pages.d
 estination.one/de/teutonavigator/streaming/detail/Event/e_100787011/randal
 e-sandkastenrocker
DTEND;TZID=Europe/Berlin:20260508T173000
DTSTAMP:20260419T144159Z
DTSTART;TZID=Europe/Berlin:20260508T160000
GEO:52.433955;8.461661
LOCATION:Life House\, Am Schulzentrum 14\, Stemwede
ORGANIZER;CN="Verein für Jugend, Freizeit und Kultur in Stemwede e.V.":mail
 to:info@jfk-stemwede.de
SEQUENCE:0
SUMMARY:Randale: Sandkastenrocker
UID:e_100787011_iv1
URL:http://pages.destination.one/de/teutonavigator/streaming/detail/Event/e
 _100787011/randale-sandkastenrocker
END:VEVENT
BEGIN:VTIMEZONE
TZID:Europe/Berlin
X-LIC-LOCATION:Europe/Berlin
BEGIN:DAYLIGHT
DTSTART:19700329T020000
RRULE:FREQ=YEARLY;BYDAY=-1SU;BYMONTH=3
TZNAME:CEST
TZOFFSETFROM:+0100
TZOFFSETTO:+0200
END:DAYLIGHT
BEGIN:STANDARD
DTSTART:19701025T030000
RRULE:FREQ=YEARLY;BYDAY=-1SU;BYMONTH=10
TZNAME:CET
TZOFFSETFROM:+0200
TZOFFSETTO:+0100
END:STANDARD
END:VTIMEZONE
END:VCALENDAR
