BEGIN:VCALENDAR
VERSION:2.0
PRODID:-//destination.one//NONSGML destination.meta API//DE
X-WR-CALDESC:A calendar powered by destination.meta
X-WR-CALNAME:teutonavigator Kalender via destination.meta
BEGIN:VEVENT
CATEGORIES:Festival/Open-Air
DESCRIPTION:Unter dem Motto „Regeln und Brüche“ wird es beim Dalheimer Somm
 er 2026 im besten Sinne spannungsreich. Freuen Sie sich auf schwarzen Humo
 r\, mitreißende Beats\, intellektuelles Vergnügen und prominente Gesichter
 .\n\nmehr Informationen unter http://pages.destination.one/de/teutonavigat
 or/streaming/detail/Event/e_100780784/dalheimer-sommer-theater-und-musikfe
 stival
DTEND;TZID=Europe/Berlin;VALUE=DATE:20240624
DTSTAMP:20260421T155020Z
DTSTART;TZID=Europe/Berlin;VALUE=DATE:20240607
GEO:51.566515;8.840857
LOCATION:Kloster Dalheim - LWL Landesmuseum für Klosterkultur\, Am Kloster 
 9\, Lichtenau
ORGANIZER;CN=Kloster Dalheim - LWL Landesmuseum für Klosterkultur:mailto:kl
 oster-dalheim@lwl.org
SEQUENCE:0
SUMMARY:„Dalheimer Sommer“ | Theater- und Musikfestival
UID:e_100780784_iv0
URL:http://pages.destination.one/de/teutonavigator/streaming/detail/Event/e
 _100780784/dalheimer-sommer-theater-und-musikfestival
END:VEVENT
BEGIN:VEVENT
CATEGORIES:Festival/Open-Air
DESCRIPTION:Unter dem Motto „Regeln und Brüche“ wird es beim Dalheimer Somm
 er 2026 im besten Sinne spannungsreich. Freuen Sie sich auf schwarzen Humo
 r\, mitreißende Beats\, intellektuelles Vergnügen und prominente Gesichter
 .\n\nmehr Informationen unter http://pages.destination.one/de/teutonavigat
 or/streaming/detail/Event/e_100780784/dalheimer-sommer-theater-und-musikfe
 stival
DTEND;TZID=Europe/Berlin;VALUE=DATE:20240624
DTSTAMP:20260421T155020Z
DTSTART;TZID=Europe/Berlin;VALUE=DATE:20240607
GEO:51.566515;8.840857
LOCATION:Kloster Dalheim - LWL Landesmuseum für Klosterkultur\, Am Kloster 
 9\, Lichtenau
ORGANIZER;CN=Kloster Dalheim - LWL Landesmuseum für Klosterkultur:mailto:kl
 oster-dalheim@lwl.org
SEQUENCE:0
SUMMARY:„Dalheimer Sommer“ | Theater- und Musikfestival
UID:e_100780784_iv1
URL:http://pages.destination.one/de/teutonavigator/streaming/detail/Event/e
 _100780784/dalheimer-sommer-theater-und-musikfestival
END:VEVENT
BEGIN:VEVENT
CATEGORIES:Festival/Open-Air
DESCRIPTION:Unter dem Motto „Regeln und Brüche“ wird es beim Dalheimer Somm
 er 2026 im besten Sinne spannungsreich. Freuen Sie sich auf schwarzen Humo
 r\, mitreißende Beats\, intellektuelles Vergnügen und prominente Gesichter
 .\n\nmehr Informationen unter http://pages.destination.one/de/teutonavigat
 or/streaming/detail/Event/e_100780784/dalheimer-sommer-theater-und-musikfe
 stival
DTEND;TZID=Europe/Berlin:20260612T235900
DTSTAMP:20260421T155020Z
DTSTART;TZID=Europe/Berlin:20260612T193000
GEO:51.566515;8.840857
LOCATION:Kloster Dalheim - LWL Landesmuseum für Klosterkultur\, Am Kloster 
 9\, Lichtenau
ORGANIZER;CN=Kloster Dalheim - LWL Landesmuseum für Klosterkultur:mailto:kl
 oster-dalheim@lwl.org
SEQUENCE:0
SUMMARY:„Dalheimer Sommer“ | Theater- und Musikfestival
UID:e_100780784_iv2
URL:http://pages.destination.one/de/teutonavigator/streaming/detail/Event/e
 _100780784/dalheimer-sommer-theater-und-musikfestival
END:VEVENT
BEGIN:VEVENT
CATEGORIES:Festival/Open-Air
DESCRIPTION:Unter dem Motto „Regeln und Brüche“ wird es beim Dalheimer Somm
 er 2026 im besten Sinne spannungsreich. Freuen Sie sich auf schwarzen Humo
 r\, mitreißende Beats\, intellektuelles Vergnügen und prominente Gesichter
 .\n\nmehr Informationen unter http://pages.destination.one/de/teutonavigat
 or/streaming/detail/Event/e_100780784/dalheimer-sommer-theater-und-musikfe
 stival
DTEND;TZID=Europe/Berlin:20260613T235900
DTSTAMP:20260421T155020Z
DTSTART;TZID=Europe/Berlin:20260613T180000
GEO:51.566515;8.840857
LOCATION:Kloster Dalheim - LWL Landesmuseum für Klosterkultur\, Am Kloster 
 9\, Lichtenau
ORGANIZER;CN=Kloster Dalheim - LWL Landesmuseum für Klosterkultur:mailto:kl
 oster-dalheim@lwl.org
SEQUENCE:0
SUMMARY:„Dalheimer Sommer“ | Theater- und Musikfestival
UID:e_100780784_iv3
URL:http://pages.destination.one/de/teutonavigator/streaming/detail/Event/e
 _100780784/dalheimer-sommer-theater-und-musikfestival
END:VEVENT
BEGIN:VEVENT
CATEGORIES:Festival/Open-Air
DESCRIPTION:Unter dem Motto „Regeln und Brüche“ wird es beim Dalheimer Somm
 er 2026 im besten Sinne spannungsreich. Freuen Sie sich auf schwarzen Humo
 r\, mitreißende Beats\, intellektuelles Vergnügen und prominente Gesichter
 .\n\nmehr Informationen unter http://pages.destination.one/de/teutonavigat
 or/streaming/detail/Event/e_100780784/dalheimer-sommer-theater-und-musikfe
 stival
DTEND;TZID=Europe/Berlin:20260614T235900
DTSTAMP:20260421T155020Z
DTSTART;TZID=Europe/Berlin:20260614T160000
GEO:51.566515;8.840857
LOCATION:Kloster Dalheim - LWL Landesmuseum für Klosterkultur\, Am Kloster 
 9\, Lichtenau
ORGANIZER;CN=Kloster Dalheim - LWL Landesmuseum für Klosterkultur:mailto:kl
 oster-dalheim@lwl.org
SEQUENCE:0
SUMMARY:„Dalheimer Sommer“ | Theater- und Musikfestival
UID:e_100780784_iv4
URL:http://pages.destination.one/de/teutonavigator/streaming/detail/Event/e
 _100780784/dalheimer-sommer-theater-und-musikfestival
END:VEVENT
BEGIN:VEVENT
CATEGORIES:Festival/Open-Air
DESCRIPTION:Unter dem Motto „Regeln und Brüche“ wird es beim Dalheimer Somm
 er 2026 im besten Sinne spannungsreich. Freuen Sie sich auf schwarzen Humo
 r\, mitreißende Beats\, intellektuelles Vergnügen und prominente Gesichter
 .\n\nmehr Informationen unter http://pages.destination.one/de/teutonavigat
 or/streaming/detail/Event/e_100780784/dalheimer-sommer-theater-und-musikfe
 stival
DTEND;TZID=Europe/Berlin:20260620T235900
DTSTAMP:20260421T155020Z
DTSTART;TZID=Europe/Berlin:20260620T180000
GEO:51.566515;8.840857
LOCATION:Kloster Dalheim - LWL Landesmuseum für Klosterkultur\, Am Kloster 
 9\, Lichtenau
ORGANIZER;CN=Kloster Dalheim - LWL Landesmuseum für Klosterkultur:mailto:kl
 oster-dalheim@lwl.org
SEQUENCE:0
SUMMARY:„Dalheimer Sommer“ | Theater- und Musikfestival
UID:e_100780784_iv5
URL:http://pages.destination.one/de/teutonavigator/streaming/detail/Event/e
 _100780784/dalheimer-sommer-theater-und-musikfestival
END:VEVENT
BEGIN:VEVENT
CATEGORIES:Festival/Open-Air
DESCRIPTION:Unter dem Motto „Regeln und Brüche“ wird es beim Dalheimer Somm
 er 2026 im besten Sinne spannungsreich. Freuen Sie sich auf schwarzen Humo
 r\, mitreißende Beats\, intellektuelles Vergnügen und prominente Gesichter
 .\n\nmehr Informationen unter http://pages.destination.one/de/teutonavigat
 or/streaming/detail/Event/e_100780784/dalheimer-sommer-theater-und-musikfe
 stival
DTEND;TZID=Europe/Berlin:20260621T235900
DTSTAMP:20260421T155020Z
DTSTART;TZID=Europe/Berlin:20260621T180000
GEO:51.566515;8.840857
LOCATION:Kloster Dalheim - LWL Landesmuseum für Klosterkultur\, Am Kloster 
 9\, Lichtenau
ORGANIZER;CN=Kloster Dalheim - LWL Landesmuseum für Klosterkultur:mailto:kl
 oster-dalheim@lwl.org
SEQUENCE:0
SUMMARY:„Dalheimer Sommer“ | Theater- und Musikfestival
UID:e_100780784_iv6
URL:http://pages.destination.one/de/teutonavigator/streaming/detail/Event/e
 _100780784/dalheimer-sommer-theater-und-musikfestival
END:VEVENT
BEGIN:VEVENT
CATEGORIES:Festival/Open-Air
DESCRIPTION:Unter dem Motto „Regeln und Brüche“ wird es beim Dalheimer Somm
 er 2026 im besten Sinne spannungsreich. Freuen Sie sich auf schwarzen Humo
 r\, mitreißende Beats\, intellektuelles Vergnügen und prominente Gesichter
 .\n\nmehr Informationen unter http://pages.destination.one/de/teutonavigat
 or/streaming/detail/Event/e_100780784/dalheimer-sommer-theater-und-musikfe
 stival
DTEND;TZID=Europe/Berlin:20260627T235900
DTSTAMP:20260421T155020Z
DTSTART;TZID=Europe/Berlin:20260627T180000
GEO:51.566515;8.840857
LOCATION:Kloster Dalheim - LWL Landesmuseum für Klosterkultur\, Am Kloster 
 9\, Lichtenau
ORGANIZER;CN=Kloster Dalheim - LWL Landesmuseum für Klosterkultur:mailto:kl
 oster-dalheim@lwl.org
SEQUENCE:0
SUMMARY:„Dalheimer Sommer“ | Theater- und Musikfestival
UID:e_100780784_iv7
URL:http://pages.destination.one/de/teutonavigator/streaming/detail/Event/e
 _100780784/dalheimer-sommer-theater-und-musikfestival
END:VEVENT
BEGIN:VEVENT
CATEGORIES:Festival/Open-Air
DESCRIPTION:Unter dem Motto „Regeln und Brüche“ wird es beim Dalheimer Somm
 er 2026 im besten Sinne spannungsreich. Freuen Sie sich auf schwarzen Humo
 r\, mitreißende Beats\, intellektuelles Vergnügen und prominente Gesichter
 .\n\nmehr Informationen unter http://pages.destination.one/de/teutonavigat
 or/streaming/detail/Event/e_100780784/dalheimer-sommer-theater-und-musikfe
 stival
DTEND;TZID=Europe/Berlin:20260628T235900
DTSTAMP:20260421T155020Z
DTSTART;TZID=Europe/Berlin:20260628T160000
GEO:51.566515;8.840857
LOCATION:Kloster Dalheim - LWL Landesmuseum für Klosterkultur\, Am Kloster 
 9\, Lichtenau
ORGANIZER;CN=Kloster Dalheim - LWL Landesmuseum für Klosterkultur:mailto:kl
 oster-dalheim@lwl.org
SEQUENCE:0
SUMMARY:„Dalheimer Sommer“ | Theater- und Musikfestival
UID:e_100780784_iv8
URL:http://pages.destination.one/de/teutonavigator/streaming/detail/Event/e
 _100780784/dalheimer-sommer-theater-und-musikfestival
END:VEVENT
BEGIN:VTIMEZONE
TZID:Europe/Berlin
X-LIC-LOCATION:Europe/Berlin
BEGIN:DAYLIGHT
DTSTART:19700329T020000
RRULE:FREQ=YEARLY;BYDAY=-1SU;BYMONTH=3
TZNAME:CEST
TZOFFSETFROM:+0100
TZOFFSETTO:+0200
END:DAYLIGHT
BEGIN:STANDARD
DTSTART:19701025T030000
RRULE:FREQ=YEARLY;BYDAY=-1SU;BYMONTH=10
TZNAME:CET
TZOFFSETFROM:+0200
TZOFFSETTO:+0100
END:STANDARD
END:VTIMEZONE
END:VCALENDAR
