BEGIN:VCALENDAR
VERSION:2.0
PRODID:-//destination.one//NONSGML destination.meta API//DE
X-WR-CALDESC:A calendar powered by destination.meta
X-WR-CALNAME:teutonavigator Kalender via destination.meta
BEGIN:VEVENT
CATEGORIES:Wanderung
DESCRIPTION:Jeden 2. Mittwoch kann in Wewelsburg an der Mittwochwanderung t
 eilgenommen werden.\n\nmehr Informationen unter http://pages.destination.o
 ne/de/teutonavigator/streaming/detail/Event/e_100752924/mittwochswanderung
DTEND;TZID=Europe/Berlin:20240103T235900
DTSTAMP:20260424T141620Z
DTSTART;TZID=Europe/Berlin:20240103T133000
GEO:51.605927;8.655235
LOCATION:Lummers Ecke\, Lange Straße 2\, Büren
ORGANIZER;CN=SGV Bürener Land e.V.:mailto:info@sgv-bueren.de
RRULE:FREQ=WEEKLY;UNTIL=20240220T225900;BYDAY=WE
SEQUENCE:0
SUMMARY:Mittwochswanderung
UID:e_100752924_iv0
URL:http://pages.destination.one/de/teutonavigator/streaming/detail/Event/e
 _100752924/mittwochswanderung
END:VEVENT
BEGIN:VEVENT
CATEGORIES:Wanderung
DESCRIPTION:Jeden 2. Mittwoch kann in Wewelsburg an der Mittwochwanderung t
 eilgenommen werden.\n\nmehr Informationen unter http://pages.destination.o
 ne/de/teutonavigator/streaming/detail/Event/e_100752924/mittwochswanderung
DTEND;TZID=Europe/Berlin:20240228T235900
DTSTAMP:20260424T141620Z
DTSTART;TZID=Europe/Berlin:20240228T133000
GEO:51.605927;8.655235
LOCATION:Lummers Ecke\, Lange Straße 2\, Büren
ORGANIZER;CN=SGV Bürener Land e.V.:mailto:info@sgv-bueren.de
RRULE:FREQ=WEEKLY;UNTIL=20240305T225900;BYDAY=WE
SEQUENCE:0
SUMMARY:Mittwochswanderung
UID:e_100752924_iv1
URL:http://pages.destination.one/de/teutonavigator/streaming/detail/Event/e
 _100752924/mittwochswanderung
END:VEVENT
BEGIN:VEVENT
CATEGORIES:Wanderung
DESCRIPTION:Jeden 2. Mittwoch kann in Wewelsburg an der Mittwochwanderung t
 eilgenommen werden.\n\nmehr Informationen unter http://pages.destination.o
 ne/de/teutonavigator/streaming/detail/Event/e_100752924/mittwochswanderung
DTEND;TZID=Europe/Berlin:20240313T235900
DTSTAMP:20260424T141620Z
DTSTART;TZID=Europe/Berlin:20240313T133000
GEO:51.605927;8.655235
LOCATION:Lummers Ecke\, Lange Straße 2\, Büren
ORGANIZER;CN=SGV Bürener Land e.V.:mailto:info@sgv-bueren.de
RRULE:FREQ=WEEKLY;UNTIL=20240416T215900;BYDAY=WE
SEQUENCE:0
SUMMARY:Mittwochswanderung
UID:e_100752924_iv2
URL:http://pages.destination.one/de/teutonavigator/streaming/detail/Event/e
 _100752924/mittwochswanderung
END:VEVENT
BEGIN:VEVENT
CATEGORIES:Wanderung
DESCRIPTION:Jeden 2. Mittwoch kann in Wewelsburg an der Mittwochwanderung t
 eilgenommen werden.\n\nmehr Informationen unter http://pages.destination.o
 ne/de/teutonavigator/streaming/detail/Event/e_100752924/mittwochswanderung
DTEND;TZID=Europe/Berlin:20240424T235900
DTSTAMP:20260424T141620Z
DTSTART;TZID=Europe/Berlin:20240424T133000
GEO:51.605927;8.655235
LOCATION:Lummers Ecke\, Lange Straße 2\, Büren
ORGANIZER;CN=SGV Bürener Land e.V.:mailto:info@sgv-bueren.de
RRULE:FREQ=WEEKLY;UNTIL=20240430T215900;BYDAY=WE
SEQUENCE:0
SUMMARY:Mittwochswanderung
UID:e_100752924_iv3
URL:http://pages.destination.one/de/teutonavigator/streaming/detail/Event/e
 _100752924/mittwochswanderung
END:VEVENT
BEGIN:VEVENT
CATEGORIES:Wanderung
DESCRIPTION:Jeden 2. Mittwoch kann in Wewelsburg an der Mittwochwanderung t
 eilgenommen werden.\n\nmehr Informationen unter http://pages.destination.o
 ne/de/teutonavigator/streaming/detail/Event/e_100752924/mittwochswanderung
DTEND;TZID=Europe/Berlin:20240508T235900
DTSTAMP:20260424T141620Z
DTSTART;TZID=Europe/Berlin:20240508T133000
GEO:51.605927;8.655235
LOCATION:Lummers Ecke\, Lange Straße 2\, Büren
ORGANIZER;CN=SGV Bürener Land e.V.:mailto:info@sgv-bueren.de
RRULE:FREQ=WEEKLY;UNTIL=20240514T215900;BYDAY=WE
SEQUENCE:0
SUMMARY:Mittwochswanderung
UID:e_100752924_iv4
URL:http://pages.destination.one/de/teutonavigator/streaming/detail/Event/e
 _100752924/mittwochswanderung
END:VEVENT
BEGIN:VEVENT
CATEGORIES:Wanderung
DESCRIPTION:Jeden 2. Mittwoch kann in Wewelsburg an der Mittwochwanderung t
 eilgenommen werden.\n\nmehr Informationen unter http://pages.destination.o
 ne/de/teutonavigator/streaming/detail/Event/e_100752924/mittwochswanderung
DTEND;TZID=Europe/Berlin:20240522T235900
DTSTAMP:20260424T141620Z
DTSTART;TZID=Europe/Berlin:20240522T133000
GEO:51.605927;8.655235
LOCATION:Lummers Ecke\, Lange Straße 2\, Büren
ORGANIZER;CN=SGV Bürener Land e.V.:mailto:info@sgv-bueren.de
RRULE:FREQ=WEEKLY;UNTIL=20240528T215900;BYDAY=WE
SEQUENCE:0
SUMMARY:Mittwochswanderung
UID:e_100752924_iv5
URL:http://pages.destination.one/de/teutonavigator/streaming/detail/Event/e
 _100752924/mittwochswanderung
END:VEVENT
BEGIN:VEVENT
CATEGORIES:Wanderung
DESCRIPTION:Jeden 2. Mittwoch kann in Wewelsburg an der Mittwochwanderung t
 eilgenommen werden.\n\nmehr Informationen unter http://pages.destination.o
 ne/de/teutonavigator/streaming/detail/Event/e_100752924/mittwochswanderung
DTEND;TZID=Europe/Berlin:20240605T235900
DTSTAMP:20260424T141620Z
DTSTART;TZID=Europe/Berlin:20240605T133000
GEO:51.605927;8.655235
LOCATION:Lummers Ecke\, Lange Straße 2\, Büren
ORGANIZER;CN=SGV Bürener Land e.V.:mailto:info@sgv-bueren.de
RRULE:FREQ=WEEKLY;UNTIL=20240611T215900;BYDAY=WE
SEQUENCE:0
SUMMARY:Mittwochswanderung
UID:e_100752924_iv6
URL:http://pages.destination.one/de/teutonavigator/streaming/detail/Event/e
 _100752924/mittwochswanderung
END:VEVENT
BEGIN:VEVENT
CATEGORIES:Wanderung
DESCRIPTION:Jeden 2. Mittwoch kann in Wewelsburg an der Mittwochwanderung t
 eilgenommen werden.\n\nmehr Informationen unter http://pages.destination.o
 ne/de/teutonavigator/streaming/detail/Event/e_100752924/mittwochswanderung
DTEND;TZID=Europe/Berlin:20240619T235900
DTSTAMP:20260424T141620Z
DTSTART;TZID=Europe/Berlin:20240619T133000
GEO:51.605927;8.655235
LOCATION:Lummers Ecke\, Lange Straße 2\, Büren
ORGANIZER;CN=SGV Bürener Land e.V.:mailto:info@sgv-bueren.de
RRULE:FREQ=WEEKLY;UNTIL=20240625T215900;BYDAY=WE
SEQUENCE:0
SUMMARY:Mittwochswanderung
UID:e_100752924_iv7
URL:http://pages.destination.one/de/teutonavigator/streaming/detail/Event/e
 _100752924/mittwochswanderung
END:VEVENT
BEGIN:VEVENT
CATEGORIES:Wanderung
DESCRIPTION:Jeden 2. Mittwoch kann in Wewelsburg an der Mittwochwanderung t
 eilgenommen werden.\n\nmehr Informationen unter http://pages.destination.o
 ne/de/teutonavigator/streaming/detail/Event/e_100752924/mittwochswanderung
DTEND;TZID=Europe/Berlin:20240703T235900
DTSTAMP:20260424T141620Z
DTSTART;TZID=Europe/Berlin:20240703T133000
GEO:51.605927;8.655235
LOCATION:Lummers Ecke\, Lange Straße 2\, Büren
ORGANIZER;CN=SGV Bürener Land e.V.:mailto:info@sgv-bueren.de
RRULE:FREQ=WEEKLY;UNTIL=20240709T215900;BYDAY=WE
SEQUENCE:0
SUMMARY:Mittwochswanderung
UID:e_100752924_iv8
URL:http://pages.destination.one/de/teutonavigator/streaming/detail/Event/e
 _100752924/mittwochswanderung
END:VEVENT
BEGIN:VEVENT
CATEGORIES:Wanderung
DESCRIPTION:Jeden 2. Mittwoch kann in Wewelsburg an der Mittwochwanderung t
 eilgenommen werden.\n\nmehr Informationen unter http://pages.destination.o
 ne/de/teutonavigator/streaming/detail/Event/e_100752924/mittwochswanderung
DTEND;TZID=Europe/Berlin:20240717T235900
DTSTAMP:20260424T141620Z
DTSTART;TZID=Europe/Berlin:20240717T133000
GEO:51.605927;8.655235
LOCATION:Lummers Ecke\, Lange Straße 2\, Büren
ORGANIZER;CN=SGV Bürener Land e.V.:mailto:info@sgv-bueren.de
RRULE:FREQ=WEEKLY;UNTIL=20240723T215900;BYDAY=WE
SEQUENCE:0
SUMMARY:Mittwochswanderung
UID:e_100752924_iv9
URL:http://pages.destination.one/de/teutonavigator/streaming/detail/Event/e
 _100752924/mittwochswanderung
END:VEVENT
BEGIN:VEVENT
CATEGORIES:Wanderung
DESCRIPTION:Jeden 2. Mittwoch kann in Wewelsburg an der Mittwochwanderung t
 eilgenommen werden.\n\nmehr Informationen unter http://pages.destination.o
 ne/de/teutonavigator/streaming/detail/Event/e_100752924/mittwochswanderung
DTEND;TZID=Europe/Berlin:20240731T235900
DTSTAMP:20260424T141620Z
DTSTART;TZID=Europe/Berlin:20240731T133000
GEO:51.605927;8.655235
LOCATION:Lummers Ecke\, Lange Straße 2\, Büren
ORGANIZER;CN=SGV Bürener Land e.V.:mailto:info@sgv-bueren.de
RRULE:FREQ=WEEKLY;UNTIL=20240806T215900;BYDAY=WE
SEQUENCE:0
SUMMARY:Mittwochswanderung
UID:e_100752924_iv10
URL:http://pages.destination.one/de/teutonavigator/streaming/detail/Event/e
 _100752924/mittwochswanderung
END:VEVENT
BEGIN:VEVENT
CATEGORIES:Wanderung
DESCRIPTION:Jeden 2. Mittwoch kann in Wewelsburg an der Mittwochwanderung t
 eilgenommen werden.\n\nmehr Informationen unter http://pages.destination.o
 ne/de/teutonavigator/streaming/detail/Event/e_100752924/mittwochswanderung
DTEND;TZID=Europe/Berlin:20240814T235900
DTSTAMP:20260424T141620Z
DTSTART;TZID=Europe/Berlin:20240814T133000
GEO:51.605927;8.655235
LOCATION:Lummers Ecke\, Lange Straße 2\, Büren
ORGANIZER;CN=SGV Bürener Land e.V.:mailto:info@sgv-bueren.de
RRULE:FREQ=WEEKLY;UNTIL=20240820T215900;BYDAY=WE
SEQUENCE:0
SUMMARY:Mittwochswanderung
UID:e_100752924_iv11
URL:http://pages.destination.one/de/teutonavigator/streaming/detail/Event/e
 _100752924/mittwochswanderung
END:VEVENT
BEGIN:VEVENT
CATEGORIES:Wanderung
DESCRIPTION:Jeden 2. Mittwoch kann in Wewelsburg an der Mittwochwanderung t
 eilgenommen werden.\n\nmehr Informationen unter http://pages.destination.o
 ne/de/teutonavigator/streaming/detail/Event/e_100752924/mittwochswanderung
DTEND;TZID=Europe/Berlin:20240828T235900
DTSTAMP:20260424T141620Z
DTSTART;TZID=Europe/Berlin:20240828T133000
GEO:51.605927;8.655235
LOCATION:Lummers Ecke\, Lange Straße 2\, Büren
ORGANIZER;CN=SGV Bürener Land e.V.:mailto:info@sgv-bueren.de
RRULE:FREQ=WEEKLY;UNTIL=20240903T215900;BYDAY=WE
SEQUENCE:0
SUMMARY:Mittwochswanderung
UID:e_100752924_iv12
URL:http://pages.destination.one/de/teutonavigator/streaming/detail/Event/e
 _100752924/mittwochswanderung
END:VEVENT
BEGIN:VEVENT
CATEGORIES:Wanderung
DESCRIPTION:Jeden 2. Mittwoch kann in Wewelsburg an der Mittwochwanderung t
 eilgenommen werden.\n\nmehr Informationen unter http://pages.destination.o
 ne/de/teutonavigator/streaming/detail/Event/e_100752924/mittwochswanderung
DTEND;TZID=Europe/Berlin:20240911T235900
DTSTAMP:20260424T141620Z
DTSTART;TZID=Europe/Berlin:20240911T133000
GEO:51.605927;8.655235
LOCATION:Lummers Ecke\, Lange Straße 2\, Büren
ORGANIZER;CN=SGV Bürener Land e.V.:mailto:info@sgv-bueren.de
RRULE:FREQ=WEEKLY;UNTIL=20240917T215900;BYDAY=WE
SEQUENCE:0
SUMMARY:Mittwochswanderung
UID:e_100752924_iv13
URL:http://pages.destination.one/de/teutonavigator/streaming/detail/Event/e
 _100752924/mittwochswanderung
END:VEVENT
BEGIN:VEVENT
CATEGORIES:Wanderung
DESCRIPTION:Jeden 2. Mittwoch kann in Wewelsburg an der Mittwochwanderung t
 eilgenommen werden.\n\nmehr Informationen unter http://pages.destination.o
 ne/de/teutonavigator/streaming/detail/Event/e_100752924/mittwochswanderung
DTEND;TZID=Europe/Berlin:20240925T235900
DTSTAMP:20260424T141620Z
DTSTART;TZID=Europe/Berlin:20240925T133000
GEO:51.605927;8.655235
LOCATION:Lummers Ecke\, Lange Straße 2\, Büren
ORGANIZER;CN=SGV Bürener Land e.V.:mailto:info@sgv-bueren.de
RRULE:FREQ=WEEKLY;UNTIL=20241001T215900;BYDAY=WE
SEQUENCE:0
SUMMARY:Mittwochswanderung
UID:e_100752924_iv14
URL:http://pages.destination.one/de/teutonavigator/streaming/detail/Event/e
 _100752924/mittwochswanderung
END:VEVENT
BEGIN:VEVENT
CATEGORIES:Wanderung
DESCRIPTION:Jeden 2. Mittwoch kann in Wewelsburg an der Mittwochwanderung t
 eilgenommen werden.\n\nmehr Informationen unter http://pages.destination.o
 ne/de/teutonavigator/streaming/detail/Event/e_100752924/mittwochswanderung
DTEND;TZID=Europe/Berlin:20241009T235900
DTSTAMP:20260424T141620Z
DTSTART;TZID=Europe/Berlin:20241009T133000
GEO:51.605927;8.655235
LOCATION:Lummers Ecke\, Lange Straße 2\, Büren
ORGANIZER;CN=SGV Bürener Land e.V.:mailto:info@sgv-bueren.de
RRULE:FREQ=WEEKLY;UNTIL=20241015T215900;BYDAY=WE
SEQUENCE:0
SUMMARY:Mittwochswanderung
UID:e_100752924_iv15
URL:http://pages.destination.one/de/teutonavigator/streaming/detail/Event/e
 _100752924/mittwochswanderung
END:VEVENT
BEGIN:VEVENT
CATEGORIES:Wanderung
DESCRIPTION:Jeden 2. Mittwoch kann in Wewelsburg an der Mittwochwanderung t
 eilgenommen werden.\n\nmehr Informationen unter http://pages.destination.o
 ne/de/teutonavigator/streaming/detail/Event/e_100752924/mittwochswanderung
DTEND;TZID=Europe/Berlin:20241023T235900
DTSTAMP:20260424T141620Z
DTSTART;TZID=Europe/Berlin:20241023T133000
GEO:51.605927;8.655235
LOCATION:Lummers Ecke\, Lange Straße 2\, Büren
ORGANIZER;CN=SGV Bürener Land e.V.:mailto:info@sgv-bueren.de
RRULE:FREQ=WEEKLY;UNTIL=20241029T225900;BYDAY=WE
SEQUENCE:0
SUMMARY:Mittwochswanderung
UID:e_100752924_iv16
URL:http://pages.destination.one/de/teutonavigator/streaming/detail/Event/e
 _100752924/mittwochswanderung
END:VEVENT
BEGIN:VEVENT
CATEGORIES:Wanderung
DESCRIPTION:Jeden 2. Mittwoch kann in Wewelsburg an der Mittwochwanderung t
 eilgenommen werden.\n\nmehr Informationen unter http://pages.destination.o
 ne/de/teutonavigator/streaming/detail/Event/e_100752924/mittwochswanderung
DTEND;TZID=Europe/Berlin:20241106T235900
DTSTAMP:20260424T141620Z
DTSTART;TZID=Europe/Berlin:20241106T133000
GEO:51.605927;8.655235
LOCATION:Lummers Ecke\, Lange Straße 2\, Büren
ORGANIZER;CN=SGV Bürener Land e.V.:mailto:info@sgv-bueren.de
RRULE:FREQ=WEEKLY;UNTIL=20241112T225900;BYDAY=WE
SEQUENCE:0
SUMMARY:Mittwochswanderung
UID:e_100752924_iv17
URL:http://pages.destination.one/de/teutonavigator/streaming/detail/Event/e
 _100752924/mittwochswanderung
END:VEVENT
BEGIN:VEVENT
CATEGORIES:Wanderung
DESCRIPTION:Jeden 2. Mittwoch kann in Wewelsburg an der Mittwochwanderung t
 eilgenommen werden.\n\nmehr Informationen unter http://pages.destination.o
 ne/de/teutonavigator/streaming/detail/Event/e_100752924/mittwochswanderung
DTEND;TZID=Europe/Berlin:20241120T235900
DTSTAMP:20260424T141620Z
DTSTART;TZID=Europe/Berlin:20241120T133000
GEO:51.605927;8.655235
LOCATION:Lummers Ecke\, Lange Straße 2\, Büren
ORGANIZER;CN=SGV Bürener Land e.V.:mailto:info@sgv-bueren.de
RRULE:FREQ=WEEKLY;UNTIL=20241126T225900;BYDAY=WE
SEQUENCE:0
SUMMARY:Mittwochswanderung
UID:e_100752924_iv18
URL:http://pages.destination.one/de/teutonavigator/streaming/detail/Event/e
 _100752924/mittwochswanderung
END:VEVENT
BEGIN:VEVENT
CATEGORIES:Wanderung
DESCRIPTION:Jeden 2. Mittwoch kann in Wewelsburg an der Mittwochwanderung t
 eilgenommen werden.\n\nmehr Informationen unter http://pages.destination.o
 ne/de/teutonavigator/streaming/detail/Event/e_100752924/mittwochswanderung
DTEND;TZID=Europe/Berlin:20241204T235900
DTSTAMP:20260424T141620Z
DTSTART;TZID=Europe/Berlin:20241204T133000
GEO:51.605927;8.655235
LOCATION:Lummers Ecke\, Lange Straße 2\, Büren
ORGANIZER;CN=SGV Bürener Land e.V.:mailto:info@sgv-bueren.de
RRULE:FREQ=WEEKLY;UNTIL=20241210T225900;BYDAY=WE
SEQUENCE:0
SUMMARY:Mittwochswanderung
UID:e_100752924_iv19
URL:http://pages.destination.one/de/teutonavigator/streaming/detail/Event/e
 _100752924/mittwochswanderung
END:VEVENT
BEGIN:VEVENT
CATEGORIES:Wanderung
DESCRIPTION:Jeden 2. Mittwoch kann in Wewelsburg an der Mittwochwanderung t
 eilgenommen werden.\n\nmehr Informationen unter http://pages.destination.o
 ne/de/teutonavigator/streaming/detail/Event/e_100752924/mittwochswanderung
DTEND;TZID=Europe/Berlin:20241218T235900
DTSTAMP:20260424T141620Z
DTSTART;TZID=Europe/Berlin:20241218T133000
GEO:51.605927;8.655235
LOCATION:Lummers Ecke\, Lange Straße 2\, Büren
ORGANIZER;CN=SGV Bürener Land e.V.:mailto:info@sgv-bueren.de
RRULE:FREQ=WEEKLY;UNTIL=20241224T225900;BYDAY=WE
SEQUENCE:0
SUMMARY:Mittwochswanderung
UID:e_100752924_iv20
URL:http://pages.destination.one/de/teutonavigator/streaming/detail/Event/e
 _100752924/mittwochswanderung
END:VEVENT
BEGIN:VEVENT
CATEGORIES:Wanderung
DESCRIPTION:Jeden 2. Mittwoch kann in Wewelsburg an der Mittwochwanderung t
 eilgenommen werden.\n\nmehr Informationen unter http://pages.destination.o
 ne/de/teutonavigator/streaming/detail/Event/e_100752924/mittwochswanderung
DTEND;TZID=Europe/Berlin:20250115T235900
DTSTAMP:20260424T141620Z
DTSTART;TZID=Europe/Berlin:20250115T133000
GEO:51.605927;8.655235
LOCATION:Lummers Ecke\, Lange Straße 2\, Büren
ORGANIZER;CN=SGV Bürener Land e.V.:mailto:info@sgv-bueren.de
SEQUENCE:0
SUMMARY:Mittwochswanderung
UID:e_100752924_iv21
URL:http://pages.destination.one/de/teutonavigator/streaming/detail/Event/e
 _100752924/mittwochswanderung
END:VEVENT
BEGIN:VEVENT
CATEGORIES:Wanderung
DESCRIPTION:Jeden 2. Mittwoch kann in Wewelsburg an der Mittwochwanderung t
 eilgenommen werden.\n\nmehr Informationen unter http://pages.destination.o
 ne/de/teutonavigator/streaming/detail/Event/e_100752924/mittwochswanderung
DTEND;TZID=Europe/Berlin:20250129T235900
DTSTAMP:20260424T141620Z
DTSTART;TZID=Europe/Berlin:20250129T133000
GEO:51.605927;8.655235
LOCATION:Lummers Ecke\, Lange Straße 2\, Büren
ORGANIZER;CN=SGV Bürener Land e.V.:mailto:info@sgv-bueren.de
RRULE:FREQ=WEEKLY;INTERVAL=2;BYDAY=WE
SEQUENCE:0
SUMMARY:Mittwochswanderung
UID:e_100752924_iv22
URL:http://pages.destination.one/de/teutonavigator/streaming/detail/Event/e
 _100752924/mittwochswanderung
END:VEVENT
BEGIN:VTIMEZONE
TZID:Europe/Berlin
X-LIC-LOCATION:Europe/Berlin
BEGIN:DAYLIGHT
DTSTART:19700329T020000
RRULE:FREQ=YEARLY;BYDAY=-1SU;BYMONTH=3
TZNAME:CEST
TZOFFSETFROM:+0100
TZOFFSETTO:+0200
END:DAYLIGHT
BEGIN:STANDARD
DTSTART:19701025T030000
RRULE:FREQ=YEARLY;BYDAY=-1SU;BYMONTH=10
TZNAME:CET
TZOFFSETFROM:+0200
TZOFFSETTO:+0100
END:STANDARD
END:VTIMEZONE
END:VCALENDAR
