BEGIN:VCALENDAR
VERSION:2.0
PRODID:-//destination.one//NONSGML destination.meta API//DE
X-WR-CALDESC:A calendar powered by destination.meta
X-WR-CALNAME:teutonavigator Kalender via destination.meta
BEGIN:VEVENT
CATEGORIES:Flohmarkt
DESCRIPTION:\n\nmehr Informationen unter http://pages.destination.one/de/te
 utonavigator/streaming/detail/Event/e_100749350/b-rener-floh-und-tr-delmar
 kt
DTEND;TZID=Europe/Berlin:20240413T200000
DTSTAMP:20260419T221622Z
DTSTART;TZID=Europe/Berlin:20240413T140000
GEO:51.552470;8.559267
LOCATION:Wochenmarkt Büren\, Markt\, Büren
SEQUENCE:0
SUMMARY:Bürener Floh- und Trödelmarkt
UID:e_100749350_iv0
URL:http://pages.destination.one/de/teutonavigator/streaming/detail/Event/e
 _100749350/b-rener-floh-und-tr-delmarkt
END:VEVENT
BEGIN:VEVENT
CATEGORIES:Flohmarkt
DESCRIPTION:\n\nmehr Informationen unter http://pages.destination.one/de/te
 utonavigator/streaming/detail/Event/e_100749350/b-rener-floh-und-tr-delmar
 kt
DTEND;TZID=Europe/Berlin:20241012T200000
DTSTAMP:20260419T221622Z
DTSTART;TZID=Europe/Berlin:20241012T140000
GEO:51.552470;8.559267
LOCATION:Wochenmarkt Büren\, Markt\, Büren
SEQUENCE:0
SUMMARY:Bürener Floh- und Trödelmarkt
UID:e_100749350_iv1
URL:http://pages.destination.one/de/teutonavigator/streaming/detail/Event/e
 _100749350/b-rener-floh-und-tr-delmarkt
END:VEVENT
BEGIN:VEVENT
CATEGORIES:Flohmarkt
DESCRIPTION:\n\nmehr Informationen unter http://pages.destination.one/de/te
 utonavigator/streaming/detail/Event/e_100749350/b-rener-floh-und-tr-delmar
 kt
DTEND;TZID=Europe/Berlin;VALUE=DATE:20250413
DTSTAMP:20260419T221622Z
DTSTART;TZID=Europe/Berlin;VALUE=DATE:20250412
GEO:51.552470;8.559267
LOCATION:Wochenmarkt Büren\, Markt\, Büren
SEQUENCE:0
SUMMARY:Bürener Floh- und Trödelmarkt
UID:e_100749350_iv2
URL:http://pages.destination.one/de/teutonavigator/streaming/detail/Event/e
 _100749350/b-rener-floh-und-tr-delmarkt
END:VEVENT
BEGIN:VEVENT
CATEGORIES:Flohmarkt
DESCRIPTION:\n\nmehr Informationen unter http://pages.destination.one/de/te
 utonavigator/streaming/detail/Event/e_100749350/b-rener-floh-und-tr-delmar
 kt
DTEND;TZID=Europe/Berlin:20260411T235900
DTSTAMP:20260419T221622Z
DTSTART;TZID=Europe/Berlin:20260411T140000
GEO:51.552470;8.559267
LOCATION:Wochenmarkt Büren\, Markt\, Büren
SEQUENCE:0
SUMMARY:Bürener Floh- und Trödelmarkt
UID:e_100749350_iv3
URL:http://pages.destination.one/de/teutonavigator/streaming/detail/Event/e
 _100749350/b-rener-floh-und-tr-delmarkt
END:VEVENT
BEGIN:VEVENT
CATEGORIES:Flohmarkt
DESCRIPTION:\n\nmehr Informationen unter http://pages.destination.one/de/te
 utonavigator/streaming/detail/Event/e_100749350/b-rener-floh-und-tr-delmar
 kt
DTEND;TZID=Europe/Berlin:20261010T235900
DTSTAMP:20260419T221622Z
DTSTART;TZID=Europe/Berlin:20261010T140000
GEO:51.552470;8.559267
LOCATION:Wochenmarkt Büren\, Markt\, Büren
SEQUENCE:0
SUMMARY:Bürener Floh- und Trödelmarkt
UID:e_100749350_iv4
URL:http://pages.destination.one/de/teutonavigator/streaming/detail/Event/e
 _100749350/b-rener-floh-und-tr-delmarkt
END:VEVENT
BEGIN:VTIMEZONE
TZID:Europe/Berlin
X-LIC-LOCATION:Europe/Berlin
BEGIN:DAYLIGHT
DTSTART:19700329T020000
RRULE:FREQ=YEARLY;BYDAY=-1SU;BYMONTH=3
TZNAME:CEST
TZOFFSETFROM:+0100
TZOFFSETTO:+0200
END:DAYLIGHT
BEGIN:STANDARD
DTSTART:19701025T030000
RRULE:FREQ=YEARLY;BYDAY=-1SU;BYMONTH=10
TZNAME:CET
TZOFFSETFROM:+0200
TZOFFSETTO:+0100
END:STANDARD
END:VTIMEZONE
END:VCALENDAR
