BEGIN:VCALENDAR
VERSION:2.0
PRODID:-//destination.one//NONSGML destination.meta API//DE
X-WR-CALDESC:A calendar powered by destination.meta
X-WR-CALNAME:teutonavigator Kalender via destination.meta
BEGIN:VEVENT
CATEGORIES:Weihnachtsmarkt
CATEGORIES:Markt
DESCRIPTION:Advents- und Kunsthandwerkermarkt im und am Heimathaus Mantingh
 ausen\n\nmehr Informationen unter http://pages.destination.one/de/teutonav
 igator/streaming/detail/Event/e_100733966/adventsmarkt-mantinghausen
DTEND;TZID=Europe/Berlin:20231125T180000
DTSTAMP:20260422T144144Z
DTSTART;TZID=Europe/Berlin:20231125T130000
GEO:51.703738;8.484957
LOCATION:Heimathaus Mantinghausen\, Lippestraße 22\, Salzkotten
ORGANIZER;CN=Heimatverein Mantinghausen e.V.:http://www.mantinghausen.de/
SEQUENCE:0
SUMMARY:Adventsmarkt Mantinghausen
UID:e_100733966_iv0
URL:http://pages.destination.one/de/teutonavigator/streaming/detail/Event/e
 _100733966/adventsmarkt-mantinghausen
END:VEVENT
BEGIN:VEVENT
CATEGORIES:Weihnachtsmarkt
CATEGORIES:Markt
DESCRIPTION:Advents- und Kunsthandwerkermarkt im und am Heimathaus Mantingh
 ausen\n\nmehr Informationen unter http://pages.destination.one/de/teutonav
 igator/streaming/detail/Event/e_100733966/adventsmarkt-mantinghausen
DTEND;TZID=Europe/Berlin:20231126T180000
DTSTAMP:20260422T144144Z
DTSTART;TZID=Europe/Berlin:20231126T110000
GEO:51.703738;8.484957
LOCATION:Heimathaus Mantinghausen\, Lippestraße 22\, Salzkotten
ORGANIZER;CN=Heimatverein Mantinghausen e.V.:http://www.mantinghausen.de/
SEQUENCE:0
SUMMARY:Adventsmarkt Mantinghausen
UID:e_100733966_iv1
URL:http://pages.destination.one/de/teutonavigator/streaming/detail/Event/e
 _100733966/adventsmarkt-mantinghausen
END:VEVENT
BEGIN:VEVENT
CATEGORIES:Weihnachtsmarkt
CATEGORIES:Markt
DESCRIPTION:Advents- und Kunsthandwerkermarkt im und am Heimathaus Mantingh
 ausen\n\nmehr Informationen unter http://pages.destination.one/de/teutonav
 igator/streaming/detail/Event/e_100733966/adventsmarkt-mantinghausen
DTEND;TZID=Europe/Berlin:20251122T180000
DTSTAMP:20260422T144144Z
DTSTART;TZID=Europe/Berlin:20251122T130000
GEO:51.703738;8.484957
LOCATION:Heimathaus Mantinghausen\, Lippestraße 22\, Salzkotten
ORGANIZER;CN=Heimatverein Mantinghausen e.V.:http://www.mantinghausen.de/
SEQUENCE:0
SUMMARY:Adventsmarkt Mantinghausen
UID:e_100733966_iv2
URL:http://pages.destination.one/de/teutonavigator/streaming/detail/Event/e
 _100733966/adventsmarkt-mantinghausen
END:VEVENT
BEGIN:VEVENT
CATEGORIES:Weihnachtsmarkt
CATEGORIES:Markt
DESCRIPTION:Advents- und Kunsthandwerkermarkt im und am Heimathaus Mantingh
 ausen\n\nmehr Informationen unter http://pages.destination.one/de/teutonav
 igator/streaming/detail/Event/e_100733966/adventsmarkt-mantinghausen
DTEND;TZID=Europe/Berlin:20251123T180000
DTSTAMP:20260422T144144Z
DTSTART;TZID=Europe/Berlin:20251123T110000
GEO:51.703738;8.484957
LOCATION:Heimathaus Mantinghausen\, Lippestraße 22\, Salzkotten
ORGANIZER;CN=Heimatverein Mantinghausen e.V.:http://www.mantinghausen.de/
SEQUENCE:0
SUMMARY:Adventsmarkt Mantinghausen
UID:e_100733966_iv3
URL:http://pages.destination.one/de/teutonavigator/streaming/detail/Event/e
 _100733966/adventsmarkt-mantinghausen
END:VEVENT
BEGIN:VEVENT
CATEGORIES:Weihnachtsmarkt
CATEGORIES:Markt
DESCRIPTION:Advents- und Kunsthandwerkermarkt im und am Heimathaus Mantingh
 ausen\n\nmehr Informationen unter http://pages.destination.one/de/teutonav
 igator/streaming/detail/Event/e_100733966/adventsmarkt-mantinghausen
DTEND;TZID=Europe/Berlin:20261121T180000
DTSTAMP:20260422T144144Z
DTSTART;TZID=Europe/Berlin:20261121T130000
GEO:51.703738;8.484957
LOCATION:Heimathaus Mantinghausen\, Lippestraße 22\, Salzkotten
ORGANIZER;CN=Heimatverein Mantinghausen e.V.:http://www.mantinghausen.de/
SEQUENCE:0
SUMMARY:Adventsmarkt Mantinghausen
UID:e_100733966_iv4
URL:http://pages.destination.one/de/teutonavigator/streaming/detail/Event/e
 _100733966/adventsmarkt-mantinghausen
END:VEVENT
BEGIN:VEVENT
CATEGORIES:Weihnachtsmarkt
CATEGORIES:Markt
DESCRIPTION:Advents- und Kunsthandwerkermarkt im und am Heimathaus Mantingh
 ausen\n\nmehr Informationen unter http://pages.destination.one/de/teutonav
 igator/streaming/detail/Event/e_100733966/adventsmarkt-mantinghausen
DTEND;TZID=Europe/Berlin:20261122T180000
DTSTAMP:20260422T144144Z
DTSTART;TZID=Europe/Berlin:20261122T110000
GEO:51.703738;8.484957
LOCATION:Heimathaus Mantinghausen\, Lippestraße 22\, Salzkotten
ORGANIZER;CN=Heimatverein Mantinghausen e.V.:http://www.mantinghausen.de/
SEQUENCE:0
SUMMARY:Adventsmarkt Mantinghausen
UID:e_100733966_iv5
URL:http://pages.destination.one/de/teutonavigator/streaming/detail/Event/e
 _100733966/adventsmarkt-mantinghausen
END:VEVENT
BEGIN:VTIMEZONE
TZID:Europe/Berlin
X-LIC-LOCATION:Europe/Berlin
BEGIN:DAYLIGHT
DTSTART:19700329T020000
RRULE:FREQ=YEARLY;BYDAY=-1SU;BYMONTH=3
TZNAME:CEST
TZOFFSETFROM:+0100
TZOFFSETTO:+0200
END:DAYLIGHT
BEGIN:STANDARD
DTSTART:19701025T030000
RRULE:FREQ=YEARLY;BYDAY=-1SU;BYMONTH=10
TZNAME:CET
TZOFFSETFROM:+0200
TZOFFSETTO:+0100
END:STANDARD
END:VTIMEZONE
END:VCALENDAR
