BEGIN:VCALENDAR
VERSION:2.0
PRODID:-//destination.one//NONSGML destination.meta API//DE
X-WR-CALDESC:A calendar powered by destination.meta
X-WR-CALNAME:teutonavigator Kalender via destination.meta
BEGIN:VEVENT
CATEGORIES:Weihnachtsmarkt
DESCRIPTION:Hüttendorf an der Herz-Jesu-Kirche lädt zum Adventssonntag ein.
 \n\nmehr Informationen unter http://pages.destination.one/de/teutonavigato
 r/streaming/detail/Event/e_100714478/weihnachtsmarkt-in-lippling
DTEND;TZID=Europe/Berlin;VALUE=DATE:20231218
DTSTAMP:20260422T144228Z
DTSTART;TZID=Europe/Berlin;VALUE=DATE:20231217
GEO:51.796366;8.553011
LOCATION:Herz-Jesu-Kirche\, Zur alten Kapelle 25\, Delbrück
SEQUENCE:0
SUMMARY:Weihnachtsmarkt in Lippling
UID:e_100714478_iv0
URL:http://pages.destination.one/de/teutonavigator/streaming/detail/Event/e
 _100714478/weihnachtsmarkt-in-lippling
END:VEVENT
BEGIN:VEVENT
CATEGORIES:Weihnachtsmarkt
DESCRIPTION:Hüttendorf an der Herz-Jesu-Kirche lädt zum Adventssonntag ein.
 \n\nmehr Informationen unter http://pages.destination.one/de/teutonavigato
 r/streaming/detail/Event/e_100714478/weihnachtsmarkt-in-lippling
DTEND;TZID=Europe/Berlin:20241215T235900
DTSTAMP:20260422T144228Z
DTSTART;TZID=Europe/Berlin:20241215T140000
GEO:51.796366;8.553011
LOCATION:Herz-Jesu-Kirche\, Zur alten Kapelle 25\, Delbrück
SEQUENCE:0
SUMMARY:Weihnachtsmarkt in Lippling
UID:e_100714478_iv1
URL:http://pages.destination.one/de/teutonavigator/streaming/detail/Event/e
 _100714478/weihnachtsmarkt-in-lippling
END:VEVENT
BEGIN:VEVENT
CATEGORIES:Weihnachtsmarkt
DESCRIPTION:Hüttendorf an der Herz-Jesu-Kirche lädt zum Adventssonntag ein.
 \n\nmehr Informationen unter http://pages.destination.one/de/teutonavigato
 r/streaming/detail/Event/e_100714478/weihnachtsmarkt-in-lippling
DTEND;TZID=Europe/Berlin;VALUE=DATE:20251215
DTSTAMP:20260422T144228Z
DTSTART;TZID=Europe/Berlin;VALUE=DATE:20251214
GEO:51.796366;8.553011
LOCATION:Herz-Jesu-Kirche\, Zur alten Kapelle 25\, Delbrück
SEQUENCE:0
SUMMARY:Weihnachtsmarkt in Lippling
UID:e_100714478_iv2
URL:http://pages.destination.one/de/teutonavigator/streaming/detail/Event/e
 _100714478/weihnachtsmarkt-in-lippling
END:VEVENT
BEGIN:VEVENT
CATEGORIES:Weihnachtsmarkt
DESCRIPTION:Hüttendorf an der Herz-Jesu-Kirche lädt zum Adventssonntag ein.
 \n\nmehr Informationen unter http://pages.destination.one/de/teutonavigato
 r/streaming/detail/Event/e_100714478/weihnachtsmarkt-in-lippling
DTEND;TZID=Europe/Berlin;VALUE=DATE:20261214
DTSTAMP:20260422T144228Z
DTSTART;TZID=Europe/Berlin;VALUE=DATE:20261213
GEO:51.796366;8.553011
LOCATION:Herz-Jesu-Kirche\, Zur alten Kapelle 25\, Delbrück
SEQUENCE:0
SUMMARY:Weihnachtsmarkt in Lippling
UID:e_100714478_iv3
URL:http://pages.destination.one/de/teutonavigator/streaming/detail/Event/e
 _100714478/weihnachtsmarkt-in-lippling
END:VEVENT
BEGIN:VTIMEZONE
TZID:Europe/Berlin
X-LIC-LOCATION:Europe/Berlin
BEGIN:DAYLIGHT
DTSTART:19700329T020000
RRULE:FREQ=YEARLY;BYDAY=-1SU;BYMONTH=3
TZNAME:CEST
TZOFFSETFROM:+0100
TZOFFSETTO:+0200
END:DAYLIGHT
BEGIN:STANDARD
DTSTART:19701025T030000
RRULE:FREQ=YEARLY;BYDAY=-1SU;BYMONTH=10
TZNAME:CET
TZOFFSETFROM:+0200
TZOFFSETTO:+0100
END:STANDARD
END:VTIMEZONE
END:VCALENDAR
