BEGIN:VCALENDAR
VERSION:2.0
PRODID:-//destination.one//NONSGML destination.meta API//DE
X-WR-CALDESC:A calendar powered by destination.meta
X-WR-CALNAME:teutonavigator Kalender via destination.meta
BEGIN:VEVENT
CATEGORIES:Messe
DESCRIPTION:\n\nmehr Informationen unter http://pages.destination.one/de/te
 utonavigator/streaming/detail/Event/e_100714346/die-reisemesse
DTEND;TZID=Europe/Berlin;VALUE=DATE:20231127
DTSTAMP:20260422T142736Z
DTSTART;TZID=Europe/Berlin;VALUE=DATE:20231125
GEO:51.610662;8.619890
LOCATION:Paderborn/Lippstadt Airport\, Flughafenstraße  33\, Büren
ORGANIZER;CN=Paderborn/Lippstadt Airport:mailto:info@airport-pad.com
SEQUENCE:0
SUMMARY:Die Reisemesse
UID:e_100714346_iv0
URL:http://pages.destination.one/de/teutonavigator/streaming/detail/Event/e
 _100714346/die-reisemesse
END:VEVENT
BEGIN:VEVENT
CATEGORIES:Messe
DESCRIPTION:\n\nmehr Informationen unter http://pages.destination.one/de/te
 utonavigator/streaming/detail/Event/e_100714346/die-reisemesse
DTEND;TZID=Europe/Berlin:20250503T170000
DTSTAMP:20260422T142736Z
DTSTART;TZID=Europe/Berlin:20250503T100000
GEO:51.610662;8.619890
LOCATION:Paderborn/Lippstadt Airport\, Flughafenstraße  33\, Büren
ORGANIZER;CN=Paderborn/Lippstadt Airport:mailto:info@airport-pad.com
SEQUENCE:0
SUMMARY:Die Reisemesse
UID:e_100714346_iv1
URL:http://pages.destination.one/de/teutonavigator/streaming/detail/Event/e
 _100714346/die-reisemesse
END:VEVENT
BEGIN:VEVENT
CATEGORIES:Messe
DESCRIPTION:\n\nmehr Informationen unter http://pages.destination.one/de/te
 utonavigator/streaming/detail/Event/e_100714346/die-reisemesse
DTEND;TZID=Europe/Berlin:20250504T170000
DTSTAMP:20260422T142736Z
DTSTART;TZID=Europe/Berlin:20250504T100000
GEO:51.610662;8.619890
LOCATION:Paderborn/Lippstadt Airport\, Flughafenstraße  33\, Büren
ORGANIZER;CN=Paderborn/Lippstadt Airport:mailto:info@airport-pad.com
SEQUENCE:0
SUMMARY:Die Reisemesse
UID:e_100714346_iv2
URL:http://pages.destination.one/de/teutonavigator/streaming/detail/Event/e
 _100714346/die-reisemesse
END:VEVENT
BEGIN:VEVENT
CATEGORIES:Messe
DESCRIPTION:\n\nmehr Informationen unter http://pages.destination.one/de/te
 utonavigator/streaming/detail/Event/e_100714346/die-reisemesse
DTEND;TZID=Europe/Berlin:20260425T170000
DTSTAMP:20260422T142736Z
DTSTART;TZID=Europe/Berlin:20260425T100000
GEO:51.610662;8.619890
LOCATION:Paderborn/Lippstadt Airport\, Flughafenstraße  33\, Büren
ORGANIZER;CN=Paderborn/Lippstadt Airport:mailto:info@airport-pad.com
SEQUENCE:0
SUMMARY:Die Reisemesse
UID:e_100714346_iv3
URL:http://pages.destination.one/de/teutonavigator/streaming/detail/Event/e
 _100714346/die-reisemesse
END:VEVENT
BEGIN:VEVENT
CATEGORIES:Messe
DESCRIPTION:\n\nmehr Informationen unter http://pages.destination.one/de/te
 utonavigator/streaming/detail/Event/e_100714346/die-reisemesse
DTEND;TZID=Europe/Berlin:20260426T170000
DTSTAMP:20260422T142736Z
DTSTART;TZID=Europe/Berlin:20260426T100000
GEO:51.610662;8.619890
LOCATION:Paderborn/Lippstadt Airport\, Flughafenstraße  33\, Büren
ORGANIZER;CN=Paderborn/Lippstadt Airport:mailto:info@airport-pad.com
SEQUENCE:0
SUMMARY:Die Reisemesse
UID:e_100714346_iv4
URL:http://pages.destination.one/de/teutonavigator/streaming/detail/Event/e
 _100714346/die-reisemesse
END:VEVENT
BEGIN:VTIMEZONE
TZID:Europe/Berlin
X-LIC-LOCATION:Europe/Berlin
BEGIN:DAYLIGHT
DTSTART:19700329T020000
RRULE:FREQ=YEARLY;BYDAY=-1SU;BYMONTH=3
TZNAME:CEST
TZOFFSETFROM:+0100
TZOFFSETTO:+0200
END:DAYLIGHT
BEGIN:STANDARD
DTSTART:19701025T030000
RRULE:FREQ=YEARLY;BYDAY=-1SU;BYMONTH=10
TZNAME:CET
TZOFFSETFROM:+0200
TZOFFSETTO:+0100
END:STANDARD
END:VTIMEZONE
END:VCALENDAR
