BEGIN:VCALENDAR
VERSION:2.0
PRODID:-//destination.one//NONSGML destination.meta API//DE
X-WR-CALDESC:A calendar powered by destination.meta
X-WR-CALNAME:teutonavigator Kalender via destination.meta
BEGIN:VEVENT
CATEGORIES:Weihnachtsmarkt
CATEGORIES:Markt
DESCRIPTION:Zahlreiche Marktstände mit vielen weihnachtlichen Angeboten und
  Geschenkideen.\n\nmehr Informationen unter http://pages.destination.one/d
 e/teutonavigator/streaming/detail/Event/e_100709926/adventsmarkt-henglarn
DTEND;TZID=Europe/Berlin:20231203T190000
DTSTAMP:20260421T140307Z
DTSTART;TZID=Europe/Berlin:20231203T130000
GEO:51.600413;8.776246
LOCATION:St. Andreas Kirche\, Kirchstraße\, Lichtenau
ORGANIZER;CN=Heimatverein Henglarn e.V.:mailto:heimatverein@henglarn.de
SEQUENCE:0
SUMMARY:Adventsmarkt Henglarn
UID:e_100709926_iv0
URL:http://pages.destination.one/de/teutonavigator/streaming/detail/Event/e
 _100709926/adventsmarkt-henglarn
END:VEVENT
BEGIN:VEVENT
CATEGORIES:Weihnachtsmarkt
CATEGORIES:Markt
DESCRIPTION:Zahlreiche Marktstände mit vielen weihnachtlichen Angeboten und
  Geschenkideen.\n\nmehr Informationen unter http://pages.destination.one/d
 e/teutonavigator/streaming/detail/Event/e_100709926/adventsmarkt-henglarn
DTEND;TZID=Europe/Berlin:20241201T190000
DTSTAMP:20260421T140307Z
DTSTART;TZID=Europe/Berlin:20241201T130000
GEO:51.600413;8.776246
LOCATION:St. Andreas Kirche\, Kirchstraße\, Lichtenau
ORGANIZER;CN=Heimatverein Henglarn e.V.:mailto:heimatverein@henglarn.de
SEQUENCE:0
SUMMARY:Adventsmarkt Henglarn
UID:e_100709926_iv1
URL:http://pages.destination.one/de/teutonavigator/streaming/detail/Event/e
 _100709926/adventsmarkt-henglarn
END:VEVENT
BEGIN:VEVENT
CATEGORIES:Weihnachtsmarkt
CATEGORIES:Markt
DESCRIPTION:Zahlreiche Marktstände mit vielen weihnachtlichen Angeboten und
  Geschenkideen.\n\nmehr Informationen unter http://pages.destination.one/d
 e/teutonavigator/streaming/detail/Event/e_100709926/adventsmarkt-henglarn
DTEND;TZID=Europe/Berlin:20251130T235900
DTSTAMP:20260421T140307Z
DTSTART;TZID=Europe/Berlin:20251130T130000
GEO:51.600413;8.776246
LOCATION:St. Andreas Kirche\, Kirchstraße\, Lichtenau
ORGANIZER;CN=Heimatverein Henglarn e.V.:mailto:heimatverein@henglarn.de
SEQUENCE:0
SUMMARY:Adventsmarkt Henglarn
UID:e_100709926_iv2
URL:http://pages.destination.one/de/teutonavigator/streaming/detail/Event/e
 _100709926/adventsmarkt-henglarn
END:VEVENT
BEGIN:VEVENT
CATEGORIES:Weihnachtsmarkt
CATEGORIES:Markt
DESCRIPTION:Zahlreiche Marktstände mit vielen weihnachtlichen Angeboten und
  Geschenkideen.\n\nmehr Informationen unter http://pages.destination.one/d
 e/teutonavigator/streaming/detail/Event/e_100709926/adventsmarkt-henglarn
DTEND;TZID=Europe/Berlin:20261129T235900
DTSTAMP:20260421T140307Z
DTSTART;TZID=Europe/Berlin:20261129T130000
GEO:51.600413;8.776246
LOCATION:St. Andreas Kirche\, Kirchstraße\, Lichtenau
ORGANIZER;CN=Heimatverein Henglarn e.V.:mailto:heimatverein@henglarn.de
SEQUENCE:0
SUMMARY:Adventsmarkt Henglarn
UID:e_100709926_iv3
URL:http://pages.destination.one/de/teutonavigator/streaming/detail/Event/e
 _100709926/adventsmarkt-henglarn
END:VEVENT
BEGIN:VTIMEZONE
TZID:Europe/Berlin
X-LIC-LOCATION:Europe/Berlin
BEGIN:DAYLIGHT
DTSTART:19700329T020000
RRULE:FREQ=YEARLY;BYDAY=-1SU;BYMONTH=3
TZNAME:CEST
TZOFFSETFROM:+0100
TZOFFSETTO:+0200
END:DAYLIGHT
BEGIN:STANDARD
DTSTART:19701025T030000
RRULE:FREQ=YEARLY;BYDAY=-1SU;BYMONTH=10
TZNAME:CET
TZOFFSETFROM:+0200
TZOFFSETTO:+0100
END:STANDARD
END:VTIMEZONE
END:VCALENDAR
