BEGIN:VCALENDAR
VERSION:2.0
PRODID:-//destination.one//NONSGML destination.meta API//DE
X-WR-CALDESC:A calendar powered by destination.meta
X-WR-CALNAME:teutonavigator Kalender via destination.meta
BEGIN:VEVENT
CATEGORIES:Führung/Besichtigung
CATEGORIES:Vortrag/Lesung
DESCRIPTION:Bei einer Führung durch die Räumlichkeiten lernen die Besucher 
 das Observatorium mit den computergesteuerten Teleskopen kennen und können
  bei klarem Himmel selbstverständlich auch einen Blick durchs Fernrohr wer
 fen.\n\nmehr Informationen unter http://pages.destination.one/de/teutonavi
 gator/streaming/detail/Event/e_100705326/astronomie-erleben
DTEND;TZID=Europe/Berlin:20231117T210000
DTSTAMP:20260423T095919Z
DTSTART;TZID=Europe/Berlin:20231117T190000
GEO:51.746773;8.709428
LOCATION:Volkssternwarte Paderborn e.V.\, Im Schloßpark 13\, Paderborn
ORGANIZER;CN=Volkssternwarte Paderborn e.V.:mailto:webmaster@vspb.de
SEQUENCE:0
SUMMARY:Astronomie erleben
UID:e_100705326_iv0
URL:http://pages.destination.one/de/teutonavigator/streaming/detail/Event/e
 _100705326/astronomie-erleben
END:VEVENT
BEGIN:VEVENT
CATEGORIES:Führung/Besichtigung
CATEGORIES:Vortrag/Lesung
DESCRIPTION:Bei einer Führung durch die Räumlichkeiten lernen die Besucher 
 das Observatorium mit den computergesteuerten Teleskopen kennen und können
  bei klarem Himmel selbstverständlich auch einen Blick durchs Fernrohr wer
 fen.\n\nmehr Informationen unter http://pages.destination.one/de/teutonavi
 gator/streaming/detail/Event/e_100705326/astronomie-erleben
DTEND;TZID=Europe/Berlin:20231124T210000
DTSTAMP:20260423T095919Z
DTSTART;TZID=Europe/Berlin:20231124T190000
GEO:51.746773;8.709428
LOCATION:Volkssternwarte Paderborn e.V.\, Im Schloßpark 13\, Paderborn
ORGANIZER;CN=Volkssternwarte Paderborn e.V.:mailto:webmaster@vspb.de
SEQUENCE:0
SUMMARY:Astronomie erleben
UID:e_100705326_iv1
URL:http://pages.destination.one/de/teutonavigator/streaming/detail/Event/e
 _100705326/astronomie-erleben
END:VEVENT
BEGIN:VEVENT
CATEGORIES:Führung/Besichtigung
CATEGORIES:Vortrag/Lesung
DESCRIPTION:Bei einer Führung durch die Räumlichkeiten lernen die Besucher 
 das Observatorium mit den computergesteuerten Teleskopen kennen und können
  bei klarem Himmel selbstverständlich auch einen Blick durchs Fernrohr wer
 fen.\n\nmehr Informationen unter http://pages.destination.one/de/teutonavi
 gator/streaming/detail/Event/e_100705326/astronomie-erleben
DTEND;TZID=Europe/Berlin:20240119T210000
DTSTAMP:20260423T095919Z
DTSTART;TZID=Europe/Berlin:20240119T190000
GEO:51.746773;8.709428
LOCATION:Volkssternwarte Paderborn e.V.\, Im Schloßpark 13\, Paderborn
ORGANIZER;CN=Volkssternwarte Paderborn e.V.:mailto:webmaster@vspb.de
SEQUENCE:0
SUMMARY:Astronomie erleben
UID:e_100705326_iv2
URL:http://pages.destination.one/de/teutonavigator/streaming/detail/Event/e
 _100705326/astronomie-erleben
END:VEVENT
BEGIN:VEVENT
CATEGORIES:Führung/Besichtigung
CATEGORIES:Vortrag/Lesung
DESCRIPTION:Bei einer Führung durch die Räumlichkeiten lernen die Besucher 
 das Observatorium mit den computergesteuerten Teleskopen kennen und können
  bei klarem Himmel selbstverständlich auch einen Blick durchs Fernrohr wer
 fen.\n\nmehr Informationen unter http://pages.destination.one/de/teutonavi
 gator/streaming/detail/Event/e_100705326/astronomie-erleben
DTEND;TZID=Europe/Berlin:20251010T235900
DTSTAMP:20260423T095919Z
DTSTART;TZID=Europe/Berlin:20251010T190000
GEO:51.746773;8.709428
LOCATION:Volkssternwarte Paderborn e.V.\, Im Schloßpark 13\, Paderborn
ORGANIZER;CN=Volkssternwarte Paderborn e.V.:mailto:webmaster@vspb.de
SEQUENCE:0
SUMMARY:Astronomie erleben
UID:e_100705326_iv3
URL:http://pages.destination.one/de/teutonavigator/streaming/detail/Event/e
 _100705326/astronomie-erleben
END:VEVENT
BEGIN:VEVENT
CATEGORIES:Führung/Besichtigung
CATEGORIES:Vortrag/Lesung
DESCRIPTION:Bei einer Führung durch die Räumlichkeiten lernen die Besucher 
 das Observatorium mit den computergesteuerten Teleskopen kennen und können
  bei klarem Himmel selbstverständlich auch einen Blick durchs Fernrohr wer
 fen.\n\nmehr Informationen unter http://pages.destination.one/de/teutonavi
 gator/streaming/detail/Event/e_100705326/astronomie-erleben
DTEND;TZID=Europe/Berlin:20251017T235900
DTSTAMP:20260423T095919Z
DTSTART;TZID=Europe/Berlin:20251017T190000
GEO:51.746773;8.709428
LOCATION:Volkssternwarte Paderborn e.V.\, Im Schloßpark 13\, Paderborn
ORGANIZER;CN=Volkssternwarte Paderborn e.V.:mailto:webmaster@vspb.de
SEQUENCE:0
SUMMARY:Astronomie erleben
UID:e_100705326_iv4
URL:http://pages.destination.one/de/teutonavigator/streaming/detail/Event/e
 _100705326/astronomie-erleben
END:VEVENT
BEGIN:VEVENT
CATEGORIES:Führung/Besichtigung
CATEGORIES:Vortrag/Lesung
DESCRIPTION:Bei einer Führung durch die Räumlichkeiten lernen die Besucher 
 das Observatorium mit den computergesteuerten Teleskopen kennen und können
  bei klarem Himmel selbstverständlich auch einen Blick durchs Fernrohr wer
 fen.\n\nmehr Informationen unter http://pages.destination.one/de/teutonavi
 gator/streaming/detail/Event/e_100705326/astronomie-erleben
DTEND;TZID=Europe/Berlin:20251024T235900
DTSTAMP:20260423T095919Z
DTSTART;TZID=Europe/Berlin:20251024T190000
GEO:51.746773;8.709428
LOCATION:Volkssternwarte Paderborn e.V.\, Im Schloßpark 13\, Paderborn
ORGANIZER;CN=Volkssternwarte Paderborn e.V.:mailto:webmaster@vspb.de
SEQUENCE:0
SUMMARY:Astronomie erleben
UID:e_100705326_iv5
URL:http://pages.destination.one/de/teutonavigator/streaming/detail/Event/e
 _100705326/astronomie-erleben
END:VEVENT
BEGIN:VEVENT
CATEGORIES:Führung/Besichtigung
CATEGORIES:Vortrag/Lesung
DESCRIPTION:Bei einer Führung durch die Räumlichkeiten lernen die Besucher 
 das Observatorium mit den computergesteuerten Teleskopen kennen und können
  bei klarem Himmel selbstverständlich auch einen Blick durchs Fernrohr wer
 fen.\n\nmehr Informationen unter http://pages.destination.one/de/teutonavi
 gator/streaming/detail/Event/e_100705326/astronomie-erleben
DTEND;TZID=Europe/Berlin:20251031T235900
DTSTAMP:20260423T095919Z
DTSTART;TZID=Europe/Berlin:20251031T190000
GEO:51.746773;8.709428
LOCATION:Volkssternwarte Paderborn e.V.\, Im Schloßpark 13\, Paderborn
ORGANIZER;CN=Volkssternwarte Paderborn e.V.:mailto:webmaster@vspb.de
SEQUENCE:0
SUMMARY:Astronomie erleben
UID:e_100705326_iv6
URL:http://pages.destination.one/de/teutonavigator/streaming/detail/Event/e
 _100705326/astronomie-erleben
END:VEVENT
BEGIN:VEVENT
CATEGORIES:Führung/Besichtigung
CATEGORIES:Vortrag/Lesung
DESCRIPTION:Bei einer Führung durch die Räumlichkeiten lernen die Besucher 
 das Observatorium mit den computergesteuerten Teleskopen kennen und können
  bei klarem Himmel selbstverständlich auch einen Blick durchs Fernrohr wer
 fen.\n\nmehr Informationen unter http://pages.destination.one/de/teutonavi
 gator/streaming/detail/Event/e_100705326/astronomie-erleben
DTEND;TZID=Europe/Berlin:20260206T235900
DTSTAMP:20260423T095919Z
DTSTART;TZID=Europe/Berlin:20260206T190000
GEO:51.746773;8.709428
LOCATION:Volkssternwarte Paderborn e.V.\, Im Schloßpark 13\, Paderborn
ORGANIZER;CN=Volkssternwarte Paderborn e.V.:mailto:webmaster@vspb.de
SEQUENCE:0
SUMMARY:Astronomie erleben
UID:e_100705326_iv7
URL:http://pages.destination.one/de/teutonavigator/streaming/detail/Event/e
 _100705326/astronomie-erleben
END:VEVENT
BEGIN:VEVENT
CATEGORIES:Führung/Besichtigung
CATEGORIES:Vortrag/Lesung
DESCRIPTION:Bei einer Führung durch die Räumlichkeiten lernen die Besucher 
 das Observatorium mit den computergesteuerten Teleskopen kennen und können
  bei klarem Himmel selbstverständlich auch einen Blick durchs Fernrohr wer
 fen.\n\nmehr Informationen unter http://pages.destination.one/de/teutonavi
 gator/streaming/detail/Event/e_100705326/astronomie-erleben
DTEND;TZID=Europe/Berlin:20260328T235900
DTSTAMP:20260423T095919Z
DTSTART;TZID=Europe/Berlin:20260328T190000
GEO:51.746773;8.709428
LOCATION:Volkssternwarte Paderborn e.V.\, Im Schloßpark 13\, Paderborn
ORGANIZER;CN=Volkssternwarte Paderborn e.V.:mailto:webmaster@vspb.de
SEQUENCE:0
SUMMARY:Astronomie erleben
UID:e_100705326_iv8
URL:http://pages.destination.one/de/teutonavigator/streaming/detail/Event/e
 _100705326/astronomie-erleben
END:VEVENT
BEGIN:VEVENT
CATEGORIES:Führung/Besichtigung
CATEGORIES:Vortrag/Lesung
DESCRIPTION:Bei einer Führung durch die Räumlichkeiten lernen die Besucher 
 das Observatorium mit den computergesteuerten Teleskopen kennen und können
  bei klarem Himmel selbstverständlich auch einen Blick durchs Fernrohr wer
 fen.\n\nmehr Informationen unter http://pages.destination.one/de/teutonavi
 gator/streaming/detail/Event/e_100705326/astronomie-erleben
DTEND;TZID=Europe/Berlin:20260424T235900
DTSTAMP:20260423T095919Z
DTSTART;TZID=Europe/Berlin:20260424T190000
GEO:51.746773;8.709428
LOCATION:Volkssternwarte Paderborn e.V.\, Im Schloßpark 13\, Paderborn
ORGANIZER;CN=Volkssternwarte Paderborn e.V.:mailto:webmaster@vspb.de
SEQUENCE:0
SUMMARY:Astronomie erleben
UID:e_100705326_iv9
URL:http://pages.destination.one/de/teutonavigator/streaming/detail/Event/e
 _100705326/astronomie-erleben
END:VEVENT
BEGIN:VEVENT
CATEGORIES:Führung/Besichtigung
CATEGORIES:Vortrag/Lesung
DESCRIPTION:Bei einer Führung durch die Räumlichkeiten lernen die Besucher 
 das Observatorium mit den computergesteuerten Teleskopen kennen und können
  bei klarem Himmel selbstverständlich auch einen Blick durchs Fernrohr wer
 fen.\n\nmehr Informationen unter http://pages.destination.one/de/teutonavi
 gator/streaming/detail/Event/e_100705326/astronomie-erleben
DTEND;TZID=Europe/Berlin:20260508T235900
DTSTAMP:20260423T095919Z
DTSTART;TZID=Europe/Berlin:20260508T190000
GEO:51.746773;8.709428
LOCATION:Volkssternwarte Paderborn e.V.\, Im Schloßpark 13\, Paderborn
ORGANIZER;CN=Volkssternwarte Paderborn e.V.:mailto:webmaster@vspb.de
SEQUENCE:0
SUMMARY:Astronomie erleben
UID:e_100705326_iv10
URL:http://pages.destination.one/de/teutonavigator/streaming/detail/Event/e
 _100705326/astronomie-erleben
END:VEVENT
BEGIN:VTIMEZONE
TZID:Europe/Berlin
X-LIC-LOCATION:Europe/Berlin
BEGIN:DAYLIGHT
DTSTART:19700329T020000
RRULE:FREQ=YEARLY;BYDAY=-1SU;BYMONTH=3
TZNAME:CEST
TZOFFSETFROM:+0100
TZOFFSETTO:+0200
END:DAYLIGHT
BEGIN:STANDARD
DTSTART:19701025T030000
RRULE:FREQ=YEARLY;BYDAY=-1SU;BYMONTH=10
TZNAME:CET
TZOFFSETFROM:+0200
TZOFFSETTO:+0100
END:STANDARD
END:VTIMEZONE
END:VCALENDAR
