BEGIN:VCALENDAR
VERSION:2.0
PRODID:-//destination.one//NONSGML destination.meta API//DE
X-WR-CALDESC:A calendar powered by destination.meta
X-WR-CALNAME:teutonavigator Kalender via destination.meta
BEGIN:VEVENT
CATEGORIES:Stadtfest/Kirmes/Jahrmarkt
DESCRIPTION:Kirmes-Spektakel von Samstagnachmittag bis Montagnacht in Schlo
 ß Holte-Stukenbrock!\nLos- und Schießbuden\, Karussells\, Geisterbahnen\, 
 Autoscooter und nostalgische und moderne Verkaufsstände halten ein breit g
 efächertes Angebot bereit. Fast fünf Kilometer Frontfläche kann abschreite
 n\, wer den gesamten Pollhansmarkt erobern will. Auch für das leibliche Wo
 hl ist mit einer reichhaltigen Palette heimischer und internationaler Spez
 ialitäten gesorgt.\n\nmehr Informationen unter http://pages.destination.on
 e/de/teutonavigator/streaming/detail/Event/e_100696884/pollhans-markt-schl
 o-holte
DTEND;TZID=Europe/Berlin:20231015T040000
DTSTAMP:20260421T174323Z
DTSTART;TZID=Europe/Berlin:20231014T141500
GEO:51.905837;8.610948
LOCATION:Pollhans-Platz Schloß Holte\, Pollstraße \, Schloß Holte-Stukenbro
 ck
PRIORITY:4
SEQUENCE:0
SUMMARY:Pollhans-Markt Schloß Holte
UID:e_100696884_iv0
URL:http://pages.destination.one/de/teutonavigator/streaming/detail/Event/e
 _100696884/pollhans-markt-schlo-holte
END:VEVENT
BEGIN:VEVENT
CATEGORIES:Stadtfest/Kirmes/Jahrmarkt
DESCRIPTION:Kirmes-Spektakel von Samstagnachmittag bis Montagnacht in Schlo
 ß Holte-Stukenbrock!\nLos- und Schießbuden\, Karussells\, Geisterbahnen\, 
 Autoscooter und nostalgische und moderne Verkaufsstände halten ein breit g
 efächertes Angebot bereit. Fast fünf Kilometer Frontfläche kann abschreite
 n\, wer den gesamten Pollhansmarkt erobern will. Auch für das leibliche Wo
 hl ist mit einer reichhaltigen Palette heimischer und internationaler Spez
 ialitäten gesorgt.\n\nmehr Informationen unter http://pages.destination.on
 e/de/teutonavigator/streaming/detail/Event/e_100696884/pollhans-markt-schl
 o-holte
DTEND;TZID=Europe/Berlin:20241020T040000
DTSTAMP:20260421T174323Z
DTSTART;TZID=Europe/Berlin:20241019T141500
GEO:51.905837;8.610948
LOCATION:Pollhans-Platz Schloß Holte\, Pollstraße \, Schloß Holte-Stukenbro
 ck
PRIORITY:4
RRULE:FREQ=YEARLY;UNTIL=20251017T020000;BYDAY=3SA;BYMONTH=10
SEQUENCE:0
SUMMARY:Pollhans-Markt Schloß Holte
UID:e_100696884_iv1
URL:http://pages.destination.one/de/teutonavigator/streaming/detail/Event/e
 _100696884/pollhans-markt-schlo-holte
END:VEVENT
BEGIN:VEVENT
CATEGORIES:Stadtfest/Kirmes/Jahrmarkt
DESCRIPTION:Kirmes-Spektakel von Samstagnachmittag bis Montagnacht in Schlo
 ß Holte-Stukenbrock!\nLos- und Schießbuden\, Karussells\, Geisterbahnen\, 
 Autoscooter und nostalgische und moderne Verkaufsstände halten ein breit g
 efächertes Angebot bereit. Fast fünf Kilometer Frontfläche kann abschreite
 n\, wer den gesamten Pollhansmarkt erobern will. Auch für das leibliche Wo
 hl ist mit einer reichhaltigen Palette heimischer und internationaler Spez
 ialitäten gesorgt.\n\nmehr Informationen unter http://pages.destination.on
 e/de/teutonavigator/streaming/detail/Event/e_100696884/pollhans-markt-schl
 o-holte
DTEND;TZID=Europe/Berlin:20251019T040000
DTSTAMP:20260421T174323Z
DTSTART;TZID=Europe/Berlin:20251018T141500
GEO:51.905837;8.610948
LOCATION:Pollhans-Platz Schloß Holte\, Pollstraße \, Schloß Holte-Stukenbro
 ck
PRIORITY:4
RRULE:FREQ=YEARLY;UNTIL=20261016T121500;BYDAY=3SA;BYMONTH=10
SEQUENCE:0
SUMMARY:Pollhans-Markt Schloß Holte
UID:e_100696884_iv2
URL:http://pages.destination.one/de/teutonavigator/streaming/detail/Event/e
 _100696884/pollhans-markt-schlo-holte
END:VEVENT
BEGIN:VEVENT
CATEGORIES:Stadtfest/Kirmes/Jahrmarkt
DESCRIPTION:Kirmes-Spektakel von Samstagnachmittag bis Montagnacht in Schlo
 ß Holte-Stukenbrock!\nLos- und Schießbuden\, Karussells\, Geisterbahnen\, 
 Autoscooter und nostalgische und moderne Verkaufsstände halten ein breit g
 efächertes Angebot bereit. Fast fünf Kilometer Frontfläche kann abschreite
 n\, wer den gesamten Pollhansmarkt erobern will. Auch für das leibliche Wo
 hl ist mit einer reichhaltigen Palette heimischer und internationaler Spez
 ialitäten gesorgt.\n\nmehr Informationen unter http://pages.destination.on
 e/de/teutonavigator/streaming/detail/Event/e_100696884/pollhans-markt-schl
 o-holte
DTEND;TZID=Europe/Berlin:20251020T030000
DTSTAMP:20260421T174323Z
DTSTART;TZID=Europe/Berlin:20251019T110000
GEO:51.905837;8.610948
LOCATION:Pollhans-Platz Schloß Holte\, Pollstraße \, Schloß Holte-Stukenbro
 ck
PRIORITY:4
RRULE:FREQ=YEARLY;BYDAY=3SU;BYMONTH=10
SEQUENCE:0
SUMMARY:Pollhans-Markt Schloß Holte
UID:e_100696884_iv3
URL:http://pages.destination.one/de/teutonavigator/streaming/detail/Event/e
 _100696884/pollhans-markt-schlo-holte
END:VEVENT
BEGIN:VEVENT
CATEGORIES:Stadtfest/Kirmes/Jahrmarkt
DESCRIPTION:Kirmes-Spektakel von Samstagnachmittag bis Montagnacht in Schlo
 ß Holte-Stukenbrock!\nLos- und Schießbuden\, Karussells\, Geisterbahnen\, 
 Autoscooter und nostalgische und moderne Verkaufsstände halten ein breit g
 efächertes Angebot bereit. Fast fünf Kilometer Frontfläche kann abschreite
 n\, wer den gesamten Pollhansmarkt erobern will. Auch für das leibliche Wo
 hl ist mit einer reichhaltigen Palette heimischer und internationaler Spez
 ialitäten gesorgt.\n\nmehr Informationen unter http://pages.destination.on
 e/de/teutonavigator/streaming/detail/Event/e_100696884/pollhans-markt-schl
 o-holte
DTEND;TZID=Europe/Berlin:20251021T020000
DTSTAMP:20260421T174323Z
DTSTART;TZID=Europe/Berlin:20251020T100000
GEO:51.905837;8.610948
LOCATION:Pollhans-Platz Schloß Holte\, Pollstraße \, Schloß Holte-Stukenbro
 ck
PRIORITY:4
RRULE:FREQ=YEARLY;UNTIL=20291014T000000;BYDAY=3MO;BYMONTH=10
SEQUENCE:0
SUMMARY:Pollhans-Markt Schloß Holte
UID:e_100696884_iv4
URL:http://pages.destination.one/de/teutonavigator/streaming/detail/Event/e
 _100696884/pollhans-markt-schlo-holte
END:VEVENT
BEGIN:VEVENT
CATEGORIES:Stadtfest/Kirmes/Jahrmarkt
DESCRIPTION:Kirmes-Spektakel von Samstagnachmittag bis Montagnacht in Schlo
 ß Holte-Stukenbrock!\nLos- und Schießbuden\, Karussells\, Geisterbahnen\, 
 Autoscooter und nostalgische und moderne Verkaufsstände halten ein breit g
 efächertes Angebot bereit. Fast fünf Kilometer Frontfläche kann abschreite
 n\, wer den gesamten Pollhansmarkt erobern will. Auch für das leibliche Wo
 hl ist mit einer reichhaltigen Palette heimischer und internationaler Spez
 ialitäten gesorgt.\n\nmehr Informationen unter http://pages.destination.on
 e/de/teutonavigator/streaming/detail/Event/e_100696884/pollhans-markt-schl
 o-holte
DTEND;TZID=Europe/Berlin:20261018T040000
DTSTAMP:20260421T174323Z
DTSTART;TZID=Europe/Berlin:20261017T141500
GEO:51.905837;8.610948
LOCATION:Pollhans-Platz Schloß Holte\, Pollstraße \, Schloß Holte-Stukenbro
 ck
PRIORITY:4
RRULE:FREQ=YEARLY;UNTIL=20281020T020000;BYDAY=3SA;BYMONTH=10
SEQUENCE:0
SUMMARY:Pollhans-Markt Schloß Holte
UID:e_100696884_iv5
URL:http://pages.destination.one/de/teutonavigator/streaming/detail/Event/e
 _100696884/pollhans-markt-schlo-holte
END:VEVENT
BEGIN:VEVENT
CATEGORIES:Stadtfest/Kirmes/Jahrmarkt
DESCRIPTION:Kirmes-Spektakel von Samstagnachmittag bis Montagnacht in Schlo
 ß Holte-Stukenbrock!\nLos- und Schießbuden\, Karussells\, Geisterbahnen\, 
 Autoscooter und nostalgische und moderne Verkaufsstände halten ein breit g
 efächertes Angebot bereit. Fast fünf Kilometer Frontfläche kann abschreite
 n\, wer den gesamten Pollhansmarkt erobern will. Auch für das leibliche Wo
 hl ist mit einer reichhaltigen Palette heimischer und internationaler Spez
 ialitäten gesorgt.\n\nmehr Informationen unter http://pages.destination.on
 e/de/teutonavigator/streaming/detail/Event/e_100696884/pollhans-markt-schl
 o-holte
DTEND;TZID=Europe/Berlin:20281015T040000
DTSTAMP:20260421T174323Z
DTSTART;TZID=Europe/Berlin:20281014T141500
GEO:51.905837;8.610948
LOCATION:Pollhans-Platz Schloß Holte\, Pollstraße \, Schloß Holte-Stukenbro
 ck
PRIORITY:4
RRULE:FREQ=YEARLY;UNTIL=20291013T020000;BYMONTH=10;BYMONTHDAY=14
SEQUENCE:0
SUMMARY:Pollhans-Markt Schloß Holte
UID:e_100696884_iv6
URL:http://pages.destination.one/de/teutonavigator/streaming/detail/Event/e
 _100696884/pollhans-markt-schlo-holte
END:VEVENT
BEGIN:VEVENT
CATEGORIES:Stadtfest/Kirmes/Jahrmarkt
DESCRIPTION:Kirmes-Spektakel von Samstagnachmittag bis Montagnacht in Schlo
 ß Holte-Stukenbrock!\nLos- und Schießbuden\, Karussells\, Geisterbahnen\, 
 Autoscooter und nostalgische und moderne Verkaufsstände halten ein breit g
 efächertes Angebot bereit. Fast fünf Kilometer Frontfläche kann abschreite
 n\, wer den gesamten Pollhansmarkt erobern will. Auch für das leibliche Wo
 hl ist mit einer reichhaltigen Palette heimischer und internationaler Spez
 ialitäten gesorgt.\n\nmehr Informationen unter http://pages.destination.on
 e/de/teutonavigator/streaming/detail/Event/e_100696884/pollhans-markt-schl
 o-holte
DTEND;TZID=Europe/Berlin:20291021T040000
DTSTAMP:20260421T174323Z
DTSTART;TZID=Europe/Berlin:20291020T141500
GEO:51.905837;8.610948
LOCATION:Pollhans-Platz Schloß Holte\, Pollstraße \, Schloß Holte-Stukenbro
 ck
PRIORITY:4
RRULE:FREQ=YEARLY;UNTIL=20341020T020000;BYDAY=3SA;BYMONTH=10
SEQUENCE:0
SUMMARY:Pollhans-Markt Schloß Holte
UID:e_100696884_iv7
URL:http://pages.destination.one/de/teutonavigator/streaming/detail/Event/e
 _100696884/pollhans-markt-schlo-holte
END:VEVENT
BEGIN:VEVENT
CATEGORIES:Stadtfest/Kirmes/Jahrmarkt
DESCRIPTION:Kirmes-Spektakel von Samstagnachmittag bis Montagnacht in Schlo
 ß Holte-Stukenbrock!\nLos- und Schießbuden\, Karussells\, Geisterbahnen\, 
 Autoscooter und nostalgische und moderne Verkaufsstände halten ein breit g
 efächertes Angebot bereit. Fast fünf Kilometer Frontfläche kann abschreite
 n\, wer den gesamten Pollhansmarkt erobern will. Auch für das leibliche Wo
 hl ist mit einer reichhaltigen Palette heimischer und internationaler Spez
 ialitäten gesorgt.\n\nmehr Informationen unter http://pages.destination.on
 e/de/teutonavigator/streaming/detail/Event/e_100696884/pollhans-markt-schl
 o-holte
DTEND;TZID=Europe/Berlin:20291023T030000
DTSTAMP:20260421T174323Z
DTSTART;TZID=Europe/Berlin:20291022T100000
GEO:51.905837;8.610948
LOCATION:Pollhans-Platz Schloß Holte\, Pollstraße \, Schloß Holte-Stukenbro
 ck
PRIORITY:4
RRULE:FREQ=YEARLY;UNTIL=20301021T080000;BYMONTH=10;BYMONTHDAY=22
SEQUENCE:0
SUMMARY:Pollhans-Markt Schloß Holte
UID:e_100696884_iv8
URL:http://pages.destination.one/de/teutonavigator/streaming/detail/Event/e
 _100696884/pollhans-markt-schlo-holte
END:VEVENT
BEGIN:VEVENT
CATEGORIES:Stadtfest/Kirmes/Jahrmarkt
DESCRIPTION:Kirmes-Spektakel von Samstagnachmittag bis Montagnacht in Schlo
 ß Holte-Stukenbrock!\nLos- und Schießbuden\, Karussells\, Geisterbahnen\, 
 Autoscooter und nostalgische und moderne Verkaufsstände halten ein breit g
 efächertes Angebot bereit. Fast fünf Kilometer Frontfläche kann abschreite
 n\, wer den gesamten Pollhansmarkt erobern will. Auch für das leibliche Wo
 hl ist mit einer reichhaltigen Palette heimischer und internationaler Spez
 ialitäten gesorgt.\n\nmehr Informationen unter http://pages.destination.on
 e/de/teutonavigator/streaming/detail/Event/e_100696884/pollhans-markt-schl
 o-holte
DTEND;TZID=Europe/Berlin:20301015T030000
DTSTAMP:20260421T174323Z
DTSTART;TZID=Europe/Berlin:20301014T100000
GEO:51.905837;8.610948
LOCATION:Pollhans-Platz Schloß Holte\, Pollstraße \, Schloß Holte-Stukenbro
 ck
PRIORITY:4
RRULE:FREQ=YEARLY;BYDAY=3MO;BYMONTH=10
SEQUENCE:0
SUMMARY:Pollhans-Markt Schloß Holte
UID:e_100696884_iv9
URL:http://pages.destination.one/de/teutonavigator/streaming/detail/Event/e
 _100696884/pollhans-markt-schlo-holte
END:VEVENT
BEGIN:VEVENT
CATEGORIES:Stadtfest/Kirmes/Jahrmarkt
DESCRIPTION:Kirmes-Spektakel von Samstagnachmittag bis Montagnacht in Schlo
 ß Holte-Stukenbrock!\nLos- und Schießbuden\, Karussells\, Geisterbahnen\, 
 Autoscooter und nostalgische und moderne Verkaufsstände halten ein breit g
 efächertes Angebot bereit. Fast fünf Kilometer Frontfläche kann abschreite
 n\, wer den gesamten Pollhansmarkt erobern will. Auch für das leibliche Wo
 hl ist mit einer reichhaltigen Palette heimischer und internationaler Spez
 ialitäten gesorgt.\n\nmehr Informationen unter http://pages.destination.on
 e/de/teutonavigator/streaming/detail/Event/e_100696884/pollhans-markt-schl
 o-holte
DTEND;TZID=Europe/Berlin:20331030T040000
DTSTAMP:20260421T174323Z
DTSTART;TZID=Europe/Berlin:20331029T141500
GEO:51.905837;8.610948
LOCATION:Pollhans-Platz Schloß Holte\, Pollstraße \, Schloß Holte-Stukenbro
 ck
PRIORITY:4
RRULE:FREQ=YEARLY;UNTIL=20341020T020000;BYDAY=4SA;BYMONTH=10
SEQUENCE:0
SUMMARY:Pollhans-Markt Schloß Holte
UID:e_100696884_iv10
URL:http://pages.destination.one/de/teutonavigator/streaming/detail/Event/e
 _100696884/pollhans-markt-schlo-holte
END:VEVENT
BEGIN:VEVENT
CATEGORIES:Stadtfest/Kirmes/Jahrmarkt
DESCRIPTION:Kirmes-Spektakel von Samstagnachmittag bis Montagnacht in Schlo
 ß Holte-Stukenbrock!\nLos- und Schießbuden\, Karussells\, Geisterbahnen\, 
 Autoscooter und nostalgische und moderne Verkaufsstände halten ein breit g
 efächertes Angebot bereit. Fast fünf Kilometer Frontfläche kann abschreite
 n\, wer den gesamten Pollhansmarkt erobern will. Auch für das leibliche Wo
 hl ist mit einer reichhaltigen Palette heimischer und internationaler Spez
 ialitäten gesorgt.\n\nmehr Informationen unter http://pages.destination.on
 e/de/teutonavigator/streaming/detail/Event/e_100696884/pollhans-markt-schl
 o-holte
DTEND;TZID=Europe/Berlin:20341015T040000
DTSTAMP:20260421T174323Z
DTSTART;TZID=Europe/Berlin:20341014T141500
GEO:51.905837;8.610948
LOCATION:Pollhans-Platz Schloß Holte\, Pollstraße \, Schloß Holte-Stukenbro
 ck
PRIORITY:4
RRULE:FREQ=YEARLY;UNTIL=20351013T020000;BYMONTH=10;BYMONTHDAY=14
SEQUENCE:0
SUMMARY:Pollhans-Markt Schloß Holte
UID:e_100696884_iv11
URL:http://pages.destination.one/de/teutonavigator/streaming/detail/Event/e
 _100696884/pollhans-markt-schlo-holte
END:VEVENT
BEGIN:VEVENT
CATEGORIES:Stadtfest/Kirmes/Jahrmarkt
DESCRIPTION:Kirmes-Spektakel von Samstagnachmittag bis Montagnacht in Schlo
 ß Holte-Stukenbrock!\nLos- und Schießbuden\, Karussells\, Geisterbahnen\, 
 Autoscooter und nostalgische und moderne Verkaufsstände halten ein breit g
 efächertes Angebot bereit. Fast fünf Kilometer Frontfläche kann abschreite
 n\, wer den gesamten Pollhansmarkt erobern will. Auch für das leibliche Wo
 hl ist mit einer reichhaltigen Palette heimischer und internationaler Spez
 ialitäten gesorgt.\n\nmehr Informationen unter http://pages.destination.on
 e/de/teutonavigator/streaming/detail/Event/e_100696884/pollhans-markt-schl
 o-holte
DTEND;TZID=Europe/Berlin:20351021T040000
DTSTAMP:20260421T174323Z
DTSTART;TZID=Europe/Berlin:20351020T141500
GEO:51.905837;8.610948
LOCATION:Pollhans-Platz Schloß Holte\, Pollstraße \, Schloß Holte-Stukenbro
 ck
PRIORITY:4
RRULE:FREQ=YEARLY;BYDAY=3SA;BYMONTH=10
SEQUENCE:0
SUMMARY:Pollhans-Markt Schloß Holte
UID:e_100696884_iv12
URL:http://pages.destination.one/de/teutonavigator/streaming/detail/Event/e
 _100696884/pollhans-markt-schlo-holte
END:VEVENT
BEGIN:VEVENT
CATEGORIES:Stadtfest/Kirmes/Jahrmarkt
DESCRIPTION:Kirmes-Spektakel von Samstagnachmittag bis Montagnacht in Schlo
 ß Holte-Stukenbrock!\nLos- und Schießbuden\, Karussells\, Geisterbahnen\, 
 Autoscooter und nostalgische und moderne Verkaufsstände halten ein breit g
 efächertes Angebot bereit. Fast fünf Kilometer Frontfläche kann abschreite
 n\, wer den gesamten Pollhansmarkt erobern will. Auch für das leibliche Wo
 hl ist mit einer reichhaltigen Palette heimischer und internationaler Spez
 ialitäten gesorgt.\n\nmehr Informationen unter http://pages.destination.on
 e/de/teutonavigator/streaming/detail/Event/e_100696884/pollhans-markt-schl
 o-holte
DTEND;TZID=Europe/Berlin:20351028T040000
DTSTAMP:20260421T174323Z
DTSTART;TZID=Europe/Berlin:20351027T141500
GEO:51.905837;8.610948
LOCATION:Pollhans-Platz Schloß Holte\, Pollstraße \, Schloß Holte-Stukenbro
 ck
PRIORITY:4
RRULE:FREQ=YEARLY;BYDAY=3SA;BYMONTH=10
SEQUENCE:0
SUMMARY:Pollhans-Markt Schloß Holte
UID:e_100696884_iv13
URL:http://pages.destination.one/de/teutonavigator/streaming/detail/Event/e
 _100696884/pollhans-markt-schlo-holte
END:VEVENT
BEGIN:VEVENT
CATEGORIES:Stadtfest/Kirmes/Jahrmarkt
DESCRIPTION:Kirmes-Spektakel von Samstagnachmittag bis Montagnacht in Schlo
 ß Holte-Stukenbrock!\nLos- und Schießbuden\, Karussells\, Geisterbahnen\, 
 Autoscooter und nostalgische und moderne Verkaufsstände halten ein breit g
 efächertes Angebot bereit. Fast fünf Kilometer Frontfläche kann abschreite
 n\, wer den gesamten Pollhansmarkt erobern will. Auch für das leibliche Wo
 hl ist mit einer reichhaltigen Palette heimischer und internationaler Spez
 ialitäten gesorgt.\n\nmehr Informationen unter http://pages.destination.on
 e/de/teutonavigator/streaming/detail/Event/e_100696884/pollhans-markt-schl
 o-holte
DTEND;TZID=Europe/Berlin:20361015T030000
DTSTAMP:20260421T174323Z
DTSTART;TZID=Europe/Berlin:20361014T141500
GEO:51.905837;8.610948
LOCATION:Pollhans-Platz Schloß Holte\, Pollstraße \, Schloß Holte-Stukenbro
 ck
PRIORITY:4
RRULE:FREQ=YEARLY;BYMONTH=10;BYMONTHDAY=14
SEQUENCE:0
SUMMARY:Pollhans-Markt Schloß Holte
UID:e_100696884_iv14
URL:http://pages.destination.one/de/teutonavigator/streaming/detail/Event/e
 _100696884/pollhans-markt-schlo-holte
END:VEVENT
BEGIN:VTIMEZONE
TZID:Europe/Berlin
X-LIC-LOCATION:Europe/Berlin
BEGIN:DAYLIGHT
DTSTART:19700329T020000
RRULE:FREQ=YEARLY;BYDAY=-1SU;BYMONTH=3
TZNAME:CEST
TZOFFSETFROM:+0100
TZOFFSETTO:+0200
END:DAYLIGHT
BEGIN:STANDARD
DTSTART:19701025T030000
RRULE:FREQ=YEARLY;BYDAY=-1SU;BYMONTH=10
TZNAME:CET
TZOFFSETFROM:+0200
TZOFFSETTO:+0100
END:STANDARD
END:VTIMEZONE
END:VCALENDAR
