BEGIN:VCALENDAR
VERSION:2.0
PRODID:-//destination.one//NONSGML destination.meta API//DE
X-WR-CALDESC:A calendar powered by destination.meta
X-WR-CALNAME:teutonavigator Kalender via destination.meta
BEGIN:VEVENT
CATEGORIES:Ausflug/Exkursion
CATEGORIES:Brauchtum/Kultur
DESCRIPTION:Heiligabendfahrten „Wir warten auf das Christkind“\n\nmehr Info
 rmationen unter http://pages.destination.one/de/teutonavigator/streaming/d
 etail/Event/e_100693470/heiligabendfahrten-wir-warten-auf-das-christkind-m
 it-der-museumseisenbahn
DTEND;TZID=Europe/Berlin:20231224T123000
DTSTAMP:20260421T155135Z
DTSTART;TZID=Europe/Berlin:20231224T110000
GEO:52.304428;8.488178
LOCATION:Museumseisenbahn Minden\, Alter Bahnhof\, Preußisch Oldendorf
ORGANIZER;CN=Museums-Eisenbahn Minden e.V.:mailto:info@museumseisenbahn-min
 den.de
PRIORITY:4
SEQUENCE:0
SUMMARY:Heiligabendfahrten "Wir warten auf das Christkind" mit der Museumse
 isenbahn
UID:e_100693470_iv0
URL:http://pages.destination.one/de/teutonavigator/streaming/detail/Event/e
 _100693470/heiligabendfahrten-wir-warten-auf-das-christkind-mit-der-museum
 seisenbahn
END:VEVENT
BEGIN:VEVENT
CATEGORIES:Ausflug/Exkursion
CATEGORIES:Brauchtum/Kultur
DESCRIPTION:Heiligabendfahrten „Wir warten auf das Christkind“\n\nmehr Info
 rmationen unter http://pages.destination.one/de/teutonavigator/streaming/d
 etail/Event/e_100693470/heiligabendfahrten-wir-warten-auf-das-christkind-m
 it-der-museumseisenbahn
DTEND;TZID=Europe/Berlin:20231224T143000
DTSTAMP:20260421T155135Z
DTSTART;TZID=Europe/Berlin:20231224T130000
GEO:52.304428;8.488178
LOCATION:Museumseisenbahn Minden\, Alter Bahnhof\, Preußisch Oldendorf
ORGANIZER;CN=Museums-Eisenbahn Minden e.V.:mailto:info@museumseisenbahn-min
 den.de
PRIORITY:4
SEQUENCE:0
SUMMARY:Heiligabendfahrten "Wir warten auf das Christkind" mit der Museumse
 isenbahn
UID:e_100693470_iv1
URL:http://pages.destination.one/de/teutonavigator/streaming/detail/Event/e
 _100693470/heiligabendfahrten-wir-warten-auf-das-christkind-mit-der-museum
 seisenbahn
END:VEVENT
BEGIN:VEVENT
CATEGORIES:Ausflug/Exkursion
CATEGORIES:Brauchtum/Kultur
DESCRIPTION:Heiligabendfahrten „Wir warten auf das Christkind“\n\nmehr Info
 rmationen unter http://pages.destination.one/de/teutonavigator/streaming/d
 etail/Event/e_100693470/heiligabendfahrten-wir-warten-auf-das-christkind-m
 it-der-museumseisenbahn
DTEND;TZID=Europe/Berlin:20241224T123000
DTSTAMP:20260421T155135Z
DTSTART;TZID=Europe/Berlin:20241224T110000
GEO:52.304428;8.488178
LOCATION:Museumseisenbahn Minden\, Alter Bahnhof\, Preußisch Oldendorf
ORGANIZER;CN=Museums-Eisenbahn Minden e.V.:mailto:info@museumseisenbahn-min
 den.de
PRIORITY:4
SEQUENCE:0
SUMMARY:Heiligabendfahrten "Wir warten auf das Christkind" mit der Museumse
 isenbahn
UID:e_100693470_iv2
URL:http://pages.destination.one/de/teutonavigator/streaming/detail/Event/e
 _100693470/heiligabendfahrten-wir-warten-auf-das-christkind-mit-der-museum
 seisenbahn
END:VEVENT
BEGIN:VEVENT
CATEGORIES:Ausflug/Exkursion
CATEGORIES:Brauchtum/Kultur
DESCRIPTION:Heiligabendfahrten „Wir warten auf das Christkind“\n\nmehr Info
 rmationen unter http://pages.destination.one/de/teutonavigator/streaming/d
 etail/Event/e_100693470/heiligabendfahrten-wir-warten-auf-das-christkind-m
 it-der-museumseisenbahn
DTEND;TZID=Europe/Berlin:20241224T143000
DTSTAMP:20260421T155135Z
DTSTART;TZID=Europe/Berlin:20241224T130000
GEO:52.304428;8.488178
LOCATION:Museumseisenbahn Minden\, Alter Bahnhof\, Preußisch Oldendorf
ORGANIZER;CN=Museums-Eisenbahn Minden e.V.:mailto:info@museumseisenbahn-min
 den.de
PRIORITY:4
SEQUENCE:0
SUMMARY:Heiligabendfahrten "Wir warten auf das Christkind" mit der Museumse
 isenbahn
UID:e_100693470_iv3
URL:http://pages.destination.one/de/teutonavigator/streaming/detail/Event/e
 _100693470/heiligabendfahrten-wir-warten-auf-das-christkind-mit-der-museum
 seisenbahn
END:VEVENT
BEGIN:VEVENT
CATEGORIES:Ausflug/Exkursion
CATEGORIES:Brauchtum/Kultur
DESCRIPTION:Heiligabendfahrten „Wir warten auf das Christkind“\n\nmehr Info
 rmationen unter http://pages.destination.one/de/teutonavigator/streaming/d
 etail/Event/e_100693470/heiligabendfahrten-wir-warten-auf-das-christkind-m
 it-der-museumseisenbahn
DTEND;TZID=Europe/Berlin:20251224T123000
DTSTAMP:20260421T155135Z
DTSTART;TZID=Europe/Berlin:20251224T110000
GEO:52.304428;8.488178
LOCATION:Museumseisenbahn Minden\, Alter Bahnhof\, Preußisch Oldendorf
ORGANIZER;CN=Museums-Eisenbahn Minden e.V.:mailto:info@museumseisenbahn-min
 den.de
PRIORITY:4
SEQUENCE:0
SUMMARY:Heiligabendfahrten "Wir warten auf das Christkind" mit der Museumse
 isenbahn
UID:e_100693470_iv4
URL:http://pages.destination.one/de/teutonavigator/streaming/detail/Event/e
 _100693470/heiligabendfahrten-wir-warten-auf-das-christkind-mit-der-museum
 seisenbahn
END:VEVENT
BEGIN:VEVENT
CATEGORIES:Ausflug/Exkursion
CATEGORIES:Brauchtum/Kultur
DESCRIPTION:Heiligabendfahrten „Wir warten auf das Christkind“\n\nmehr Info
 rmationen unter http://pages.destination.one/de/teutonavigator/streaming/d
 etail/Event/e_100693470/heiligabendfahrten-wir-warten-auf-das-christkind-m
 it-der-museumseisenbahn
DTEND;TZID=Europe/Berlin:20251224T143000
DTSTAMP:20260421T155135Z
DTSTART;TZID=Europe/Berlin:20251224T130000
GEO:52.304428;8.488178
LOCATION:Museumseisenbahn Minden\, Alter Bahnhof\, Preußisch Oldendorf
ORGANIZER;CN=Museums-Eisenbahn Minden e.V.:mailto:info@museumseisenbahn-min
 den.de
PRIORITY:4
SEQUENCE:0
SUMMARY:Heiligabendfahrten "Wir warten auf das Christkind" mit der Museumse
 isenbahn
UID:e_100693470_iv5
URL:http://pages.destination.one/de/teutonavigator/streaming/detail/Event/e
 _100693470/heiligabendfahrten-wir-warten-auf-das-christkind-mit-der-museum
 seisenbahn
END:VEVENT
BEGIN:VEVENT
CATEGORIES:Ausflug/Exkursion
CATEGORIES:Brauchtum/Kultur
DESCRIPTION:Heiligabendfahrten „Wir warten auf das Christkind“\n\nmehr Info
 rmationen unter http://pages.destination.one/de/teutonavigator/streaming/d
 etail/Event/e_100693470/heiligabendfahrten-wir-warten-auf-das-christkind-m
 it-der-museumseisenbahn
DTEND;TZID=Europe/Berlin:20261224T123000
DTSTAMP:20260421T155135Z
DTSTART;TZID=Europe/Berlin:20261224T110000
GEO:52.304428;8.488178
LOCATION:Museumseisenbahn Minden\, Alter Bahnhof\, Preußisch Oldendorf
ORGANIZER;CN=Museums-Eisenbahn Minden e.V.:mailto:info@museumseisenbahn-min
 den.de
PRIORITY:4
SEQUENCE:0
SUMMARY:Heiligabendfahrten "Wir warten auf das Christkind" mit der Museumse
 isenbahn
UID:e_100693470_iv6
URL:http://pages.destination.one/de/teutonavigator/streaming/detail/Event/e
 _100693470/heiligabendfahrten-wir-warten-auf-das-christkind-mit-der-museum
 seisenbahn
END:VEVENT
BEGIN:VEVENT
CATEGORIES:Ausflug/Exkursion
CATEGORIES:Brauchtum/Kultur
DESCRIPTION:Heiligabendfahrten „Wir warten auf das Christkind“\n\nmehr Info
 rmationen unter http://pages.destination.one/de/teutonavigator/streaming/d
 etail/Event/e_100693470/heiligabendfahrten-wir-warten-auf-das-christkind-m
 it-der-museumseisenbahn
DTEND;TZID=Europe/Berlin:20261224T143000
DTSTAMP:20260421T155135Z
DTSTART;TZID=Europe/Berlin:20261224T130000
GEO:52.304428;8.488178
LOCATION:Museumseisenbahn Minden\, Alter Bahnhof\, Preußisch Oldendorf
ORGANIZER;CN=Museums-Eisenbahn Minden e.V.:mailto:info@museumseisenbahn-min
 den.de
PRIORITY:4
SEQUENCE:0
SUMMARY:Heiligabendfahrten "Wir warten auf das Christkind" mit der Museumse
 isenbahn
UID:e_100693470_iv7
URL:http://pages.destination.one/de/teutonavigator/streaming/detail/Event/e
 _100693470/heiligabendfahrten-wir-warten-auf-das-christkind-mit-der-museum
 seisenbahn
END:VEVENT
BEGIN:VTIMEZONE
TZID:Europe/Berlin
X-LIC-LOCATION:Europe/Berlin
BEGIN:DAYLIGHT
DTSTART:19700329T020000
RRULE:FREQ=YEARLY;BYDAY=-1SU;BYMONTH=3
TZNAME:CEST
TZOFFSETFROM:+0100
TZOFFSETTO:+0200
END:DAYLIGHT
BEGIN:STANDARD
DTSTART:19701025T030000
RRULE:FREQ=YEARLY;BYDAY=-1SU;BYMONTH=10
TZNAME:CET
TZOFFSETFROM:+0200
TZOFFSETTO:+0100
END:STANDARD
END:VTIMEZONE
END:VCALENDAR
