BEGIN:VCALENDAR
VERSION:2.0
PRODID:-//destination.one//NONSGML destination.meta API//DE
X-WR-CALDESC:A calendar powered by destination.meta
X-WR-CALNAME:teutonavigator Kalender via destination.meta
BEGIN:VEVENT
CATEGORIES:Ausflug/Exkursion
CATEGORIES:Brauchtum/Kultur
CATEGORIES:Kinderprogramm
DESCRIPTION:Nikolausfahrten mit der Museumseisenbahn.\n\nmehr Informationen
  unter http://pages.destination.one/de/teutonavigator/streaming/detail/Eve
 nt/e_100693462/nikolausfahrten-mit-der-museumseisenbahn
DTEND;TZID=Europe/Berlin:20231209T163000
DTSTAMP:20260421T180024Z
DTSTART;TZID=Europe/Berlin:20231209T143000
GEO:52.304428;8.488178
LOCATION:Museumseisenbahn Minden\, Alter Bahnhof\, Preußisch Oldendorf
ORGANIZER;CN=Museums-Eisenbahn Minden e.V.:mailto:info@museumseisenbahn-min
 den.de
PRIORITY:4
SEQUENCE:0
SUMMARY:Nikolausfahrten mit der Museumseisenbahn
UID:e_100693462_iv0
URL:http://pages.destination.one/de/teutonavigator/streaming/detail/Event/e
 _100693462/nikolausfahrten-mit-der-museumseisenbahn
END:VEVENT
BEGIN:VEVENT
CATEGORIES:Ausflug/Exkursion
CATEGORIES:Brauchtum/Kultur
CATEGORIES:Kinderprogramm
DESCRIPTION:Nikolausfahrten mit der Museumseisenbahn.\n\nmehr Informationen
  unter http://pages.destination.one/de/teutonavigator/streaming/detail/Eve
 nt/e_100693462/nikolausfahrten-mit-der-museumseisenbahn
DTEND;TZID=Europe/Berlin:20231209T190000
DTSTAMP:20260421T180024Z
DTSTART;TZID=Europe/Berlin:20231209T170000
GEO:52.304428;8.488178
LOCATION:Museumseisenbahn Minden\, Alter Bahnhof\, Preußisch Oldendorf
ORGANIZER;CN=Museums-Eisenbahn Minden e.V.:mailto:info@museumseisenbahn-min
 den.de
PRIORITY:4
SEQUENCE:0
SUMMARY:Nikolausfahrten mit der Museumseisenbahn
UID:e_100693462_iv1
URL:http://pages.destination.one/de/teutonavigator/streaming/detail/Event/e
 _100693462/nikolausfahrten-mit-der-museumseisenbahn
END:VEVENT
BEGIN:VEVENT
CATEGORIES:Ausflug/Exkursion
CATEGORIES:Brauchtum/Kultur
CATEGORIES:Kinderprogramm
DESCRIPTION:Nikolausfahrten mit der Museumseisenbahn.\n\nmehr Informationen
  unter http://pages.destination.one/de/teutonavigator/streaming/detail/Eve
 nt/e_100693462/nikolausfahrten-mit-der-museumseisenbahn
DTEND;TZID=Europe/Berlin:20231210T130000
DTSTAMP:20260421T180024Z
DTSTART;TZID=Europe/Berlin:20231210T110000
GEO:52.304428;8.488178
LOCATION:Museumseisenbahn Minden\, Alter Bahnhof\, Preußisch Oldendorf
ORGANIZER;CN=Museums-Eisenbahn Minden e.V.:mailto:info@museumseisenbahn-min
 den.de
PRIORITY:4
SEQUENCE:0
SUMMARY:Nikolausfahrten mit der Museumseisenbahn
UID:e_100693462_iv2
URL:http://pages.destination.one/de/teutonavigator/streaming/detail/Event/e
 _100693462/nikolausfahrten-mit-der-museumseisenbahn
END:VEVENT
BEGIN:VEVENT
CATEGORIES:Ausflug/Exkursion
CATEGORIES:Brauchtum/Kultur
CATEGORIES:Kinderprogramm
DESCRIPTION:Nikolausfahrten mit der Museumseisenbahn.\n\nmehr Informationen
  unter http://pages.destination.one/de/teutonavigator/streaming/detail/Eve
 nt/e_100693462/nikolausfahrten-mit-der-museumseisenbahn
DTEND;TZID=Europe/Berlin:20231210T153000
DTSTAMP:20260421T180024Z
DTSTART;TZID=Europe/Berlin:20231210T133000
GEO:52.304428;8.488178
LOCATION:Museumseisenbahn Minden\, Alter Bahnhof\, Preußisch Oldendorf
ORGANIZER;CN=Museums-Eisenbahn Minden e.V.:mailto:info@museumseisenbahn-min
 den.de
PRIORITY:4
SEQUENCE:0
SUMMARY:Nikolausfahrten mit der Museumseisenbahn
UID:e_100693462_iv3
URL:http://pages.destination.one/de/teutonavigator/streaming/detail/Event/e
 _100693462/nikolausfahrten-mit-der-museumseisenbahn
END:VEVENT
BEGIN:VEVENT
CATEGORIES:Ausflug/Exkursion
CATEGORIES:Brauchtum/Kultur
CATEGORIES:Kinderprogramm
DESCRIPTION:Nikolausfahrten mit der Museumseisenbahn.\n\nmehr Informationen
  unter http://pages.destination.one/de/teutonavigator/streaming/detail/Eve
 nt/e_100693462/nikolausfahrten-mit-der-museumseisenbahn
DTEND;TZID=Europe/Berlin:20241207T163000
DTSTAMP:20260421T180024Z
DTSTART;TZID=Europe/Berlin:20241207T143000
GEO:52.304428;8.488178
LOCATION:Museumseisenbahn Minden\, Alter Bahnhof\, Preußisch Oldendorf
ORGANIZER;CN=Museums-Eisenbahn Minden e.V.:mailto:info@museumseisenbahn-min
 den.de
PRIORITY:4
SEQUENCE:0
SUMMARY:Nikolausfahrten mit der Museumseisenbahn
UID:e_100693462_iv4
URL:http://pages.destination.one/de/teutonavigator/streaming/detail/Event/e
 _100693462/nikolausfahrten-mit-der-museumseisenbahn
END:VEVENT
BEGIN:VEVENT
CATEGORIES:Ausflug/Exkursion
CATEGORIES:Brauchtum/Kultur
CATEGORIES:Kinderprogramm
DESCRIPTION:Nikolausfahrten mit der Museumseisenbahn.\n\nmehr Informationen
  unter http://pages.destination.one/de/teutonavigator/streaming/detail/Eve
 nt/e_100693462/nikolausfahrten-mit-der-museumseisenbahn
DTEND;TZID=Europe/Berlin:20241207T190000
DTSTAMP:20260421T180024Z
DTSTART;TZID=Europe/Berlin:20241207T170000
GEO:52.304428;8.488178
LOCATION:Museumseisenbahn Minden\, Alter Bahnhof\, Preußisch Oldendorf
ORGANIZER;CN=Museums-Eisenbahn Minden e.V.:mailto:info@museumseisenbahn-min
 den.de
PRIORITY:4
SEQUENCE:0
SUMMARY:Nikolausfahrten mit der Museumseisenbahn
UID:e_100693462_iv5
URL:http://pages.destination.one/de/teutonavigator/streaming/detail/Event/e
 _100693462/nikolausfahrten-mit-der-museumseisenbahn
END:VEVENT
BEGIN:VEVENT
CATEGORIES:Ausflug/Exkursion
CATEGORIES:Brauchtum/Kultur
CATEGORIES:Kinderprogramm
DESCRIPTION:Nikolausfahrten mit der Museumseisenbahn.\n\nmehr Informationen
  unter http://pages.destination.one/de/teutonavigator/streaming/detail/Eve
 nt/e_100693462/nikolausfahrten-mit-der-museumseisenbahn
DTEND;TZID=Europe/Berlin:20241208T130000
DTSTAMP:20260421T180024Z
DTSTART;TZID=Europe/Berlin:20241208T110000
GEO:52.304428;8.488178
LOCATION:Museumseisenbahn Minden\, Alter Bahnhof\, Preußisch Oldendorf
ORGANIZER;CN=Museums-Eisenbahn Minden e.V.:mailto:info@museumseisenbahn-min
 den.de
PRIORITY:4
SEQUENCE:0
SUMMARY:Nikolausfahrten mit der Museumseisenbahn
UID:e_100693462_iv6
URL:http://pages.destination.one/de/teutonavigator/streaming/detail/Event/e
 _100693462/nikolausfahrten-mit-der-museumseisenbahn
END:VEVENT
BEGIN:VEVENT
CATEGORIES:Ausflug/Exkursion
CATEGORIES:Brauchtum/Kultur
CATEGORIES:Kinderprogramm
DESCRIPTION:Nikolausfahrten mit der Museumseisenbahn.\n\nmehr Informationen
  unter http://pages.destination.one/de/teutonavigator/streaming/detail/Eve
 nt/e_100693462/nikolausfahrten-mit-der-museumseisenbahn
DTEND;TZID=Europe/Berlin:20241208T153000
DTSTAMP:20260421T180024Z
DTSTART;TZID=Europe/Berlin:20241208T133000
GEO:52.304428;8.488178
LOCATION:Museumseisenbahn Minden\, Alter Bahnhof\, Preußisch Oldendorf
ORGANIZER;CN=Museums-Eisenbahn Minden e.V.:mailto:info@museumseisenbahn-min
 den.de
PRIORITY:4
SEQUENCE:0
SUMMARY:Nikolausfahrten mit der Museumseisenbahn
UID:e_100693462_iv7
URL:http://pages.destination.one/de/teutonavigator/streaming/detail/Event/e
 _100693462/nikolausfahrten-mit-der-museumseisenbahn
END:VEVENT
BEGIN:VEVENT
CATEGORIES:Ausflug/Exkursion
CATEGORIES:Brauchtum/Kultur
CATEGORIES:Kinderprogramm
DESCRIPTION:Nikolausfahrten mit der Museumseisenbahn.\n\nmehr Informationen
  unter http://pages.destination.one/de/teutonavigator/streaming/detail/Eve
 nt/e_100693462/nikolausfahrten-mit-der-museumseisenbahn
DTEND;TZID=Europe/Berlin:20241208T180000
DTSTAMP:20260421T180024Z
DTSTART;TZID=Europe/Berlin:20241208T160000
GEO:52.304428;8.488178
LOCATION:Museumseisenbahn Minden\, Alter Bahnhof\, Preußisch Oldendorf
ORGANIZER;CN=Museums-Eisenbahn Minden e.V.:mailto:info@museumseisenbahn-min
 den.de
PRIORITY:4
SEQUENCE:0
SUMMARY:Nikolausfahrten mit der Museumseisenbahn
UID:e_100693462_iv8
URL:http://pages.destination.one/de/teutonavigator/streaming/detail/Event/e
 _100693462/nikolausfahrten-mit-der-museumseisenbahn
END:VEVENT
BEGIN:VEVENT
CATEGORIES:Ausflug/Exkursion
CATEGORIES:Brauchtum/Kultur
CATEGORIES:Kinderprogramm
DESCRIPTION:Nikolausfahrten mit der Museumseisenbahn.\n\nmehr Informationen
  unter http://pages.destination.one/de/teutonavigator/streaming/detail/Eve
 nt/e_100693462/nikolausfahrten-mit-der-museumseisenbahn
DTEND;TZID=Europe/Berlin:20251206T153000
DTSTAMP:20260421T180024Z
DTSTART;TZID=Europe/Berlin:20251206T133000
GEO:52.304428;8.488178
LOCATION:Museumseisenbahn Minden\, Alter Bahnhof\, Preußisch Oldendorf
ORGANIZER;CN=Museums-Eisenbahn Minden e.V.:mailto:info@museumseisenbahn-min
 den.de
PRIORITY:4
SEQUENCE:0
SUMMARY:Nikolausfahrten mit der Museumseisenbahn
UID:e_100693462_iv9
URL:http://pages.destination.one/de/teutonavigator/streaming/detail/Event/e
 _100693462/nikolausfahrten-mit-der-museumseisenbahn
END:VEVENT
BEGIN:VEVENT
CATEGORIES:Ausflug/Exkursion
CATEGORIES:Brauchtum/Kultur
CATEGORIES:Kinderprogramm
DESCRIPTION:Nikolausfahrten mit der Museumseisenbahn.\n\nmehr Informationen
  unter http://pages.destination.one/de/teutonavigator/streaming/detail/Eve
 nt/e_100693462/nikolausfahrten-mit-der-museumseisenbahn
DTEND;TZID=Europe/Berlin:20251206T180000
DTSTAMP:20260421T180024Z
DTSTART;TZID=Europe/Berlin:20251206T160000
GEO:52.304428;8.488178
LOCATION:Museumseisenbahn Minden\, Alter Bahnhof\, Preußisch Oldendorf
ORGANIZER;CN=Museums-Eisenbahn Minden e.V.:mailto:info@museumseisenbahn-min
 den.de
PRIORITY:4
SEQUENCE:0
SUMMARY:Nikolausfahrten mit der Museumseisenbahn
UID:e_100693462_iv10
URL:http://pages.destination.one/de/teutonavigator/streaming/detail/Event/e
 _100693462/nikolausfahrten-mit-der-museumseisenbahn
END:VEVENT
BEGIN:VEVENT
CATEGORIES:Ausflug/Exkursion
CATEGORIES:Brauchtum/Kultur
CATEGORIES:Kinderprogramm
DESCRIPTION:Nikolausfahrten mit der Museumseisenbahn.\n\nmehr Informationen
  unter http://pages.destination.one/de/teutonavigator/streaming/detail/Eve
 nt/e_100693462/nikolausfahrten-mit-der-museumseisenbahn
DTEND;TZID=Europe/Berlin:20251207T130000
DTSTAMP:20260421T180024Z
DTSTART;TZID=Europe/Berlin:20251207T110000
GEO:52.304428;8.488178
LOCATION:Museumseisenbahn Minden\, Alter Bahnhof\, Preußisch Oldendorf
ORGANIZER;CN=Museums-Eisenbahn Minden e.V.:mailto:info@museumseisenbahn-min
 den.de
PRIORITY:4
SEQUENCE:0
SUMMARY:Nikolausfahrten mit der Museumseisenbahn
UID:e_100693462_iv11
URL:http://pages.destination.one/de/teutonavigator/streaming/detail/Event/e
 _100693462/nikolausfahrten-mit-der-museumseisenbahn
END:VEVENT
BEGIN:VEVENT
CATEGORIES:Ausflug/Exkursion
CATEGORIES:Brauchtum/Kultur
CATEGORIES:Kinderprogramm
DESCRIPTION:Nikolausfahrten mit der Museumseisenbahn.\n\nmehr Informationen
  unter http://pages.destination.one/de/teutonavigator/streaming/detail/Eve
 nt/e_100693462/nikolausfahrten-mit-der-museumseisenbahn
DTEND;TZID=Europe/Berlin:20251207T153000
DTSTAMP:20260421T180024Z
DTSTART;TZID=Europe/Berlin:20251207T133000
GEO:52.304428;8.488178
LOCATION:Museumseisenbahn Minden\, Alter Bahnhof\, Preußisch Oldendorf
ORGANIZER;CN=Museums-Eisenbahn Minden e.V.:mailto:info@museumseisenbahn-min
 den.de
PRIORITY:4
SEQUENCE:0
SUMMARY:Nikolausfahrten mit der Museumseisenbahn
UID:e_100693462_iv12
URL:http://pages.destination.one/de/teutonavigator/streaming/detail/Event/e
 _100693462/nikolausfahrten-mit-der-museumseisenbahn
END:VEVENT
BEGIN:VEVENT
CATEGORIES:Ausflug/Exkursion
CATEGORIES:Brauchtum/Kultur
CATEGORIES:Kinderprogramm
DESCRIPTION:Nikolausfahrten mit der Museumseisenbahn.\n\nmehr Informationen
  unter http://pages.destination.one/de/teutonavigator/streaming/detail/Eve
 nt/e_100693462/nikolausfahrten-mit-der-museumseisenbahn
DTEND;TZID=Europe/Berlin:20251207T180000
DTSTAMP:20260421T180024Z
DTSTART;TZID=Europe/Berlin:20251207T160000
GEO:52.304428;8.488178
LOCATION:Museumseisenbahn Minden\, Alter Bahnhof\, Preußisch Oldendorf
ORGANIZER;CN=Museums-Eisenbahn Minden e.V.:mailto:info@museumseisenbahn-min
 den.de
PRIORITY:4
SEQUENCE:0
SUMMARY:Nikolausfahrten mit der Museumseisenbahn
UID:e_100693462_iv13
URL:http://pages.destination.one/de/teutonavigator/streaming/detail/Event/e
 _100693462/nikolausfahrten-mit-der-museumseisenbahn
END:VEVENT
BEGIN:VEVENT
CATEGORIES:Ausflug/Exkursion
CATEGORIES:Brauchtum/Kultur
CATEGORIES:Kinderprogramm
DESCRIPTION:Nikolausfahrten mit der Museumseisenbahn.\n\nmehr Informationen
  unter http://pages.destination.one/de/teutonavigator/streaming/detail/Eve
 nt/e_100693462/nikolausfahrten-mit-der-museumseisenbahn
DTEND;TZID=Europe/Berlin:20261205T153000
DTSTAMP:20260421T180024Z
DTSTART;TZID=Europe/Berlin:20261205T133000
GEO:52.304428;8.488178
LOCATION:Museumseisenbahn Minden\, Alter Bahnhof\, Preußisch Oldendorf
ORGANIZER;CN=Museums-Eisenbahn Minden e.V.:mailto:info@museumseisenbahn-min
 den.de
PRIORITY:4
SEQUENCE:0
SUMMARY:Nikolausfahrten mit der Museumseisenbahn
UID:e_100693462_iv14
URL:http://pages.destination.one/de/teutonavigator/streaming/detail/Event/e
 _100693462/nikolausfahrten-mit-der-museumseisenbahn
END:VEVENT
BEGIN:VEVENT
CATEGORIES:Ausflug/Exkursion
CATEGORIES:Brauchtum/Kultur
CATEGORIES:Kinderprogramm
DESCRIPTION:Nikolausfahrten mit der Museumseisenbahn.\n\nmehr Informationen
  unter http://pages.destination.one/de/teutonavigator/streaming/detail/Eve
 nt/e_100693462/nikolausfahrten-mit-der-museumseisenbahn
DTEND;TZID=Europe/Berlin:20261205T180000
DTSTAMP:20260421T180024Z
DTSTART;TZID=Europe/Berlin:20261205T160000
GEO:52.304428;8.488178
LOCATION:Museumseisenbahn Minden\, Alter Bahnhof\, Preußisch Oldendorf
ORGANIZER;CN=Museums-Eisenbahn Minden e.V.:mailto:info@museumseisenbahn-min
 den.de
PRIORITY:4
SEQUENCE:0
SUMMARY:Nikolausfahrten mit der Museumseisenbahn
UID:e_100693462_iv15
URL:http://pages.destination.one/de/teutonavigator/streaming/detail/Event/e
 _100693462/nikolausfahrten-mit-der-museumseisenbahn
END:VEVENT
BEGIN:VEVENT
CATEGORIES:Ausflug/Exkursion
CATEGORIES:Brauchtum/Kultur
CATEGORIES:Kinderprogramm
DESCRIPTION:Nikolausfahrten mit der Museumseisenbahn.\n\nmehr Informationen
  unter http://pages.destination.one/de/teutonavigator/streaming/detail/Eve
 nt/e_100693462/nikolausfahrten-mit-der-museumseisenbahn
DTEND;TZID=Europe/Berlin:20261206T130000
DTSTAMP:20260421T180024Z
DTSTART;TZID=Europe/Berlin:20261206T110000
GEO:52.304428;8.488178
LOCATION:Museumseisenbahn Minden\, Alter Bahnhof\, Preußisch Oldendorf
ORGANIZER;CN=Museums-Eisenbahn Minden e.V.:mailto:info@museumseisenbahn-min
 den.de
PRIORITY:4
SEQUENCE:0
SUMMARY:Nikolausfahrten mit der Museumseisenbahn
UID:e_100693462_iv16
URL:http://pages.destination.one/de/teutonavigator/streaming/detail/Event/e
 _100693462/nikolausfahrten-mit-der-museumseisenbahn
END:VEVENT
BEGIN:VEVENT
CATEGORIES:Ausflug/Exkursion
CATEGORIES:Brauchtum/Kultur
CATEGORIES:Kinderprogramm
DESCRIPTION:Nikolausfahrten mit der Museumseisenbahn.\n\nmehr Informationen
  unter http://pages.destination.one/de/teutonavigator/streaming/detail/Eve
 nt/e_100693462/nikolausfahrten-mit-der-museumseisenbahn
DTEND;TZID=Europe/Berlin:20261206T153000
DTSTAMP:20260421T180024Z
DTSTART;TZID=Europe/Berlin:20261206T133000
GEO:52.304428;8.488178
LOCATION:Museumseisenbahn Minden\, Alter Bahnhof\, Preußisch Oldendorf
ORGANIZER;CN=Museums-Eisenbahn Minden e.V.:mailto:info@museumseisenbahn-min
 den.de
PRIORITY:4
SEQUENCE:0
SUMMARY:Nikolausfahrten mit der Museumseisenbahn
UID:e_100693462_iv17
URL:http://pages.destination.one/de/teutonavigator/streaming/detail/Event/e
 _100693462/nikolausfahrten-mit-der-museumseisenbahn
END:VEVENT
BEGIN:VEVENT
CATEGORIES:Ausflug/Exkursion
CATEGORIES:Brauchtum/Kultur
CATEGORIES:Kinderprogramm
DESCRIPTION:Nikolausfahrten mit der Museumseisenbahn.\n\nmehr Informationen
  unter http://pages.destination.one/de/teutonavigator/streaming/detail/Eve
 nt/e_100693462/nikolausfahrten-mit-der-museumseisenbahn
DTEND;TZID=Europe/Berlin:20261206T180000
DTSTAMP:20260421T180024Z
DTSTART;TZID=Europe/Berlin:20261206T160000
GEO:52.304428;8.488178
LOCATION:Museumseisenbahn Minden\, Alter Bahnhof\, Preußisch Oldendorf
ORGANIZER;CN=Museums-Eisenbahn Minden e.V.:mailto:info@museumseisenbahn-min
 den.de
PRIORITY:4
SEQUENCE:0
SUMMARY:Nikolausfahrten mit der Museumseisenbahn
UID:e_100693462_iv18
URL:http://pages.destination.one/de/teutonavigator/streaming/detail/Event/e
 _100693462/nikolausfahrten-mit-der-museumseisenbahn
END:VEVENT
BEGIN:VTIMEZONE
TZID:Europe/Berlin
X-LIC-LOCATION:Europe/Berlin
BEGIN:DAYLIGHT
DTSTART:19700329T020000
RRULE:FREQ=YEARLY;BYDAY=-1SU;BYMONTH=3
TZNAME:CEST
TZOFFSETFROM:+0100
TZOFFSETTO:+0200
END:DAYLIGHT
BEGIN:STANDARD
DTSTART:19701025T030000
RRULE:FREQ=YEARLY;BYDAY=-1SU;BYMONTH=10
TZNAME:CET
TZOFFSETFROM:+0200
TZOFFSETTO:+0100
END:STANDARD
END:VTIMEZONE
END:VCALENDAR
