BEGIN:VCALENDAR
VERSION:2.0
PRODID:-//destination.one//NONSGML destination.meta API//DE
X-WR-CALDESC:A calendar powered by destination.meta
X-WR-CALNAME:teutonavigator Kalender via destination.meta
BEGIN:VEVENT
CATEGORIES:Brauchtum/Kultur
DESCRIPTION:Jedes Jahr zum 1. Mai wird in Borgholzhausen im Garten des Lade
 ncafés Schulze der Maibaum aufgestellt. Mit einer Sternfahrt machen sich d
 ie Teilnehmerinnen und Teilnehmer aus allen 12 Ortsteilen von Borgholzhaus
 en auf den Weg in die Innenstadt\, um hier ihr Ortsschild am Maibaum anzus
 chlagen.\n\nBegleitet durch ein musikalisches Rahmenprogramm der Borgholzh
 ausener Vereine wird in geselliger Runde der Frühling begrüßt.\nLiebe Gäst
 e aus nah und fern seien Sie uns herzlich willkommen am 1. Mai.\n\nmehr In
 formationen unter http://pages.destination.one/de/teutonavigator/streaming
 /detail/Event/e_100658873/maibaum-aufstellen-in-borgholzhausen
DTEND;TZID=Europe/Berlin;VALUE=DATE:20230502
DTSTAMP:20260422T131706Z
DTSTART;TZID=Europe/Berlin;VALUE=DATE:20230501
GEO:52.102525;8.300707
LOCATION:Innenstadt\, Innenstadt\, Borgholzhausen
ORGANIZER;CN=Verkehrsverein Borgholzhausen e.V.:mailto:info@verkehrsverein-
 borgholzhausen.de
PRIORITY:4
RRULE:FREQ=YEARLY;BYMONTH=5;BYMONTHDAY=1
SEQUENCE:0
SUMMARY:Maibaum Aufstellen in Borgholzhausen
UID:e_100658873_iv0
URL:http://pages.destination.one/de/teutonavigator/streaming/detail/Event/e
 _100658873/maibaum-aufstellen-in-borgholzhausen
END:VEVENT
BEGIN:VTIMEZONE
TZID:Europe/Berlin
X-LIC-LOCATION:Europe/Berlin
BEGIN:DAYLIGHT
DTSTART:19700329T020000
RRULE:FREQ=YEARLY;BYDAY=-1SU;BYMONTH=3
TZNAME:CEST
TZOFFSETFROM:+0100
TZOFFSETTO:+0200
END:DAYLIGHT
BEGIN:STANDARD
DTSTART:19701025T030000
RRULE:FREQ=YEARLY;BYDAY=-1SU;BYMONTH=10
TZNAME:CET
TZOFFSETFROM:+0200
TZOFFSETTO:+0100
END:STANDARD
END:VTIMEZONE
END:VCALENDAR
