BEGIN:VCALENDAR
VERSION:2.0
PRODID:-//destination.one//NONSGML destination.meta API//DE
X-WR-CALDESC:A calendar powered by destination.meta
X-WR-CALNAME:teutonavigator Kalender via destination.meta
BEGIN:VEVENT
CATEGORIES:Stadtfest/Kirmes/Jahrmarkt
DESCRIPTION:Kartoffelmarkt in Borgholzhausen\n\nmehr Informationen unter ht
 tp://pages.destination.one/de/teutonavigator/streaming/detail/Event/e_1006
 51168/kartoffelmarkt-in-borgholzhausen
DTEND;TZID=Europe/Berlin:20230917T180000
DTSTAMP:20260421T174621Z
DTSTART;TZID=Europe/Berlin:20230916T110000
GEO:52.102525;8.300707
LOCATION:Innenstadt\, Innenstadt\, Borgholzhausen
ORGANIZER;CN=Verkehrsverein Borgholzhausen e.V.:mailto:info@verkehrsverein-
 borgholzhausen.de
PRIORITY:4
RRULE:FREQ=YEARLY;UNTIL=20250919T090000;BYDAY=3SA;BYMONTH=9
SEQUENCE:0
SUMMARY:Kartoffelmarkt in Borgholzhausen
UID:e_100651168_iv0
URL:http://pages.destination.one/de/teutonavigator/streaming/detail/Event/e
 _100651168/kartoffelmarkt-in-borgholzhausen
END:VEVENT
BEGIN:VEVENT
CATEGORIES:Stadtfest/Kirmes/Jahrmarkt
DESCRIPTION:Kartoffelmarkt in Borgholzhausen\n\nmehr Informationen unter ht
 tp://pages.destination.one/de/teutonavigator/streaming/detail/Event/e_1006
 51168/kartoffelmarkt-in-borgholzhausen
DTEND;TZID=Europe/Berlin:20250921T180000
DTSTAMP:20260421T174621Z
DTSTART;TZID=Europe/Berlin:20250920T110000
GEO:52.102525;8.300707
LOCATION:Innenstadt\, Innenstadt\, Borgholzhausen
ORGANIZER;CN=Verkehrsverein Borgholzhausen e.V.:mailto:info@verkehrsverein-
 borgholzhausen.de
PRIORITY:4
RRULE:FREQ=YEARLY;BYDAY=3SA;BYMONTH=9
SEQUENCE:0
SUMMARY:Kartoffelmarkt in Borgholzhausen
UID:e_100651168_iv1
URL:http://pages.destination.one/de/teutonavigator/streaming/detail/Event/e
 _100651168/kartoffelmarkt-in-borgholzhausen
END:VEVENT
BEGIN:VTIMEZONE
TZID:Europe/Berlin
X-LIC-LOCATION:Europe/Berlin
BEGIN:DAYLIGHT
DTSTART:19700329T020000
RRULE:FREQ=YEARLY;BYDAY=-1SU;BYMONTH=3
TZNAME:CEST
TZOFFSETFROM:+0100
TZOFFSETTO:+0200
END:DAYLIGHT
BEGIN:STANDARD
DTSTART:19701025T030000
RRULE:FREQ=YEARLY;BYDAY=-1SU;BYMONTH=10
TZNAME:CET
TZOFFSETFROM:+0200
TZOFFSETTO:+0100
END:STANDARD
END:VTIMEZONE
END:VCALENDAR
