BEGIN:VCALENDAR
VERSION:2.0
PRODID:-//destination.one//NONSGML destination.meta API//DE
X-WR-CALDESC:A calendar powered by destination.meta
X-WR-CALNAME:teutonavigator Kalender via destination.meta
BEGIN:VEVENT
CATEGORIES:Führung/Besichtigung
DESCRIPTION:Stadtführung durch Paderborn\n\nmehr Informationen unter http:/
 /pages.destination.one/de/teutonavigator/streaming/detail/Event/e_10062640
 0/verordnet-verbot-t-en-verk-ndet-auf-tour-mit-dem-ausrufer
DTEND;TZID=Europe/Berlin:20230923T235900
DTSTAMP:20260421T204040Z
DTSTART;TZID=Europe/Berlin:20230923T140000
GEO:51.717425;8.749741
LOCATION:Tourist Information Paderborn\, Königsplatz 10\, Paderborn
ORGANIZER;CN=Tourist Information Paderborn:mailto:tourist-info@paderborn.de
SEQUENCE:0
SUMMARY:Verordnet\, verbot(t)en\, verkündet – auf Tour mit dem Ausrufer
UID:e_100626400_iv0
URL:http://pages.destination.one/de/teutonavigator/streaming/detail/Event/e
 _100626400/verordnet-verbot-t-en-verk-ndet-auf-tour-mit-dem-ausrufer
END:VEVENT
BEGIN:VEVENT
CATEGORIES:Führung/Besichtigung
DESCRIPTION:Stadtführung durch Paderborn\n\nmehr Informationen unter http:/
 /pages.destination.one/de/teutonavigator/streaming/detail/Event/e_10062640
 0/verordnet-verbot-t-en-verk-ndet-auf-tour-mit-dem-ausrufer
DTEND;TZID=Europe/Berlin:20231209T235900
DTSTAMP:20260421T204040Z
DTSTART;TZID=Europe/Berlin:20231209T140000
GEO:51.717425;8.749741
LOCATION:Tourist Information Paderborn\, Königsplatz 10\, Paderborn
ORGANIZER;CN=Tourist Information Paderborn:mailto:tourist-info@paderborn.de
SEQUENCE:0
SUMMARY:Verordnet\, verbot(t)en\, verkündet – auf Tour mit dem Ausrufer
UID:e_100626400_iv1
URL:http://pages.destination.one/de/teutonavigator/streaming/detail/Event/e
 _100626400/verordnet-verbot-t-en-verk-ndet-auf-tour-mit-dem-ausrufer
END:VEVENT
BEGIN:VEVENT
CATEGORIES:Führung/Besichtigung
DESCRIPTION:Stadtführung durch Paderborn\n\nmehr Informationen unter http:/
 /pages.destination.one/de/teutonavigator/streaming/detail/Event/e_10062640
 0/verordnet-verbot-t-en-verk-ndet-auf-tour-mit-dem-ausrufer
DTEND;TZID=Europe/Berlin:20240622T235900
DTSTAMP:20260421T204040Z
DTSTART;TZID=Europe/Berlin:20240622T140000
GEO:51.717425;8.749741
LOCATION:Tourist Information Paderborn\, Königsplatz 10\, Paderborn
ORGANIZER;CN=Tourist Information Paderborn:mailto:tourist-info@paderborn.de
SEQUENCE:0
SUMMARY:Verordnet\, verbot(t)en\, verkündet – auf Tour mit dem Ausrufer
UID:e_100626400_iv2
URL:http://pages.destination.one/de/teutonavigator/streaming/detail/Event/e
 _100626400/verordnet-verbot-t-en-verk-ndet-auf-tour-mit-dem-ausrufer
END:VEVENT
BEGIN:VEVENT
CATEGORIES:Führung/Besichtigung
DESCRIPTION:Stadtführung durch Paderborn\n\nmehr Informationen unter http:/
 /pages.destination.one/de/teutonavigator/streaming/detail/Event/e_10062640
 0/verordnet-verbot-t-en-verk-ndet-auf-tour-mit-dem-ausrufer
DTEND;TZID=Europe/Berlin:20240921T235900
DTSTAMP:20260421T204040Z
DTSTART;TZID=Europe/Berlin:20240921T140000
GEO:51.717425;8.749741
LOCATION:Tourist Information Paderborn\, Königsplatz 10\, Paderborn
ORGANIZER;CN=Tourist Information Paderborn:mailto:tourist-info@paderborn.de
SEQUENCE:0
SUMMARY:Verordnet\, verbot(t)en\, verkündet – auf Tour mit dem Ausrufer
UID:e_100626400_iv3
URL:http://pages.destination.one/de/teutonavigator/streaming/detail/Event/e
 _100626400/verordnet-verbot-t-en-verk-ndet-auf-tour-mit-dem-ausrufer
END:VEVENT
BEGIN:VEVENT
CATEGORIES:Führung/Besichtigung
DESCRIPTION:Stadtführung durch Paderborn\n\nmehr Informationen unter http:/
 /pages.destination.one/de/teutonavigator/streaming/detail/Event/e_10062640
 0/verordnet-verbot-t-en-verk-ndet-auf-tour-mit-dem-ausrufer
DTEND;TZID=Europe/Berlin:20250621T235900
DTSTAMP:20260421T204040Z
DTSTART;TZID=Europe/Berlin:20250621T140000
GEO:51.717425;8.749741
LOCATION:Tourist Information Paderborn\, Königsplatz 10\, Paderborn
ORGANIZER;CN=Tourist Information Paderborn:mailto:tourist-info@paderborn.de
SEQUENCE:0
SUMMARY:Verordnet\, verbot(t)en\, verkündet – auf Tour mit dem Ausrufer
UID:e_100626400_iv4
URL:http://pages.destination.one/de/teutonavigator/streaming/detail/Event/e
 _100626400/verordnet-verbot-t-en-verk-ndet-auf-tour-mit-dem-ausrufer
END:VEVENT
BEGIN:VEVENT
CATEGORIES:Führung/Besichtigung
DESCRIPTION:Stadtführung durch Paderborn\n\nmehr Informationen unter http:/
 /pages.destination.one/de/teutonavigator/streaming/detail/Event/e_10062640
 0/verordnet-verbot-t-en-verk-ndet-auf-tour-mit-dem-ausrufer
DTEND;TZID=Europe/Berlin:20250920T235900
DTSTAMP:20260421T204040Z
DTSTART;TZID=Europe/Berlin:20250920T140000
GEO:51.717425;8.749741
LOCATION:Tourist Information Paderborn\, Königsplatz 10\, Paderborn
ORGANIZER;CN=Tourist Information Paderborn:mailto:tourist-info@paderborn.de
SEQUENCE:0
SUMMARY:Verordnet\, verbot(t)en\, verkündet – auf Tour mit dem Ausrufer
UID:e_100626400_iv5
URL:http://pages.destination.one/de/teutonavigator/streaming/detail/Event/e
 _100626400/verordnet-verbot-t-en-verk-ndet-auf-tour-mit-dem-ausrufer
END:VEVENT
BEGIN:VEVENT
CATEGORIES:Führung/Besichtigung
DESCRIPTION:Stadtführung durch Paderborn\n\nmehr Informationen unter http:/
 /pages.destination.one/de/teutonavigator/streaming/detail/Event/e_10062640
 0/verordnet-verbot-t-en-verk-ndet-auf-tour-mit-dem-ausrufer
DTEND;TZID=Europe/Berlin:20251206T235900
DTSTAMP:20260421T204040Z
DTSTART;TZID=Europe/Berlin:20251206T140000
GEO:51.717425;8.749741
LOCATION:Tourist Information Paderborn\, Königsplatz 10\, Paderborn
ORGANIZER;CN=Tourist Information Paderborn:mailto:tourist-info@paderborn.de
SEQUENCE:0
SUMMARY:Verordnet\, verbot(t)en\, verkündet – auf Tour mit dem Ausrufer
UID:e_100626400_iv6
URL:http://pages.destination.one/de/teutonavigator/streaming/detail/Event/e
 _100626400/verordnet-verbot-t-en-verk-ndet-auf-tour-mit-dem-ausrufer
END:VEVENT
BEGIN:VEVENT
CATEGORIES:Führung/Besichtigung
DESCRIPTION:Stadtführung durch Paderborn\n\nmehr Informationen unter http:/
 /pages.destination.one/de/teutonavigator/streaming/detail/Event/e_10062640
 0/verordnet-verbot-t-en-verk-ndet-auf-tour-mit-dem-ausrufer
DTEND;TZID=Europe/Berlin:20260620T235900
DTSTAMP:20260421T204040Z
DTSTART;TZID=Europe/Berlin:20260620T140000
GEO:51.717425;8.749741
LOCATION:Tourist Information Paderborn\, Königsplatz 10\, Paderborn
ORGANIZER;CN=Tourist Information Paderborn:mailto:tourist-info@paderborn.de
SEQUENCE:0
SUMMARY:Verordnet\, verbot(t)en\, verkündet – auf Tour mit dem Ausrufer
UID:e_100626400_iv7
URL:http://pages.destination.one/de/teutonavigator/streaming/detail/Event/e
 _100626400/verordnet-verbot-t-en-verk-ndet-auf-tour-mit-dem-ausrufer
END:VEVENT
BEGIN:VEVENT
CATEGORIES:Führung/Besichtigung
DESCRIPTION:Stadtführung durch Paderborn\n\nmehr Informationen unter http:/
 /pages.destination.one/de/teutonavigator/streaming/detail/Event/e_10062640
 0/verordnet-verbot-t-en-verk-ndet-auf-tour-mit-dem-ausrufer
DTEND;TZID=Europe/Berlin:20260919T235900
DTSTAMP:20260421T204040Z
DTSTART;TZID=Europe/Berlin:20260919T140000
GEO:51.717425;8.749741
LOCATION:Tourist Information Paderborn\, Königsplatz 10\, Paderborn
ORGANIZER;CN=Tourist Information Paderborn:mailto:tourist-info@paderborn.de
SEQUENCE:0
SUMMARY:Verordnet\, verbot(t)en\, verkündet – auf Tour mit dem Ausrufer
UID:e_100626400_iv8
URL:http://pages.destination.one/de/teutonavigator/streaming/detail/Event/e
 _100626400/verordnet-verbot-t-en-verk-ndet-auf-tour-mit-dem-ausrufer
END:VEVENT
BEGIN:VEVENT
CATEGORIES:Führung/Besichtigung
DESCRIPTION:Stadtführung durch Paderborn\n\nmehr Informationen unter http:/
 /pages.destination.one/de/teutonavigator/streaming/detail/Event/e_10062640
 0/verordnet-verbot-t-en-verk-ndet-auf-tour-mit-dem-ausrufer
DTEND;TZID=Europe/Berlin:20261205T235900
DTSTAMP:20260421T204040Z
DTSTART;TZID=Europe/Berlin:20261205T140000
GEO:51.717425;8.749741
LOCATION:Tourist Information Paderborn\, Königsplatz 10\, Paderborn
ORGANIZER;CN=Tourist Information Paderborn:mailto:tourist-info@paderborn.de
SEQUENCE:0
SUMMARY:Verordnet\, verbot(t)en\, verkündet – auf Tour mit dem Ausrufer
UID:e_100626400_iv9
URL:http://pages.destination.one/de/teutonavigator/streaming/detail/Event/e
 _100626400/verordnet-verbot-t-en-verk-ndet-auf-tour-mit-dem-ausrufer
END:VEVENT
BEGIN:VTIMEZONE
TZID:Europe/Berlin
X-LIC-LOCATION:Europe/Berlin
BEGIN:DAYLIGHT
DTSTART:19700329T020000
RRULE:FREQ=YEARLY;BYDAY=-1SU;BYMONTH=3
TZNAME:CEST
TZOFFSETFROM:+0100
TZOFFSETTO:+0200
END:DAYLIGHT
BEGIN:STANDARD
DTSTART:19701025T030000
RRULE:FREQ=YEARLY;BYDAY=-1SU;BYMONTH=10
TZNAME:CET
TZOFFSETFROM:+0200
TZOFFSETTO:+0100
END:STANDARD
END:VTIMEZONE
END:VCALENDAR
