BEGIN:VCALENDAR
VERSION:2.0
PRODID:-//destination.one//NONSGML destination.meta API//DE
X-WR-CALDESC:A calendar powered by destination.meta
X-WR-CALNAME:teutonavigator Kalender via destination.meta
BEGIN:VEVENT
CATEGORIES:Schlager
DESCRIPTION:Ein knallbunter Trip durch das Schlager-Zeitalter\n\nmehr Infor
 mationen unter http://pages.destination.one/de/teutonavigator/streaming/de
 tail/Event/e_100624395/einmal-um-die-schlagerwelt
DTEND;TZID=Europe/Berlin:20230804T235900
DTSTAMP:20260421T174924Z
DTSTART;TZID=Europe/Berlin:20230804T193000
GEO:51.748033;8.708414
LOCATION:Freilichtbühne Schloß Neuhaus\, Im Schlosspark\, Paderborn
ORGANIZER;CN=Freilichtbühne Schloß Neuhaus:mailto:kontakt@fbsn.de
SEQUENCE:0
SUMMARY:Einmal um die Schlagerwelt
UID:e_100624395_iv0
URL:http://pages.destination.one/de/teutonavigator/streaming/detail/Event/e
 _100624395/einmal-um-die-schlagerwelt
END:VEVENT
BEGIN:VEVENT
CATEGORIES:Schlager
DESCRIPTION:Ein knallbunter Trip durch das Schlager-Zeitalter\n\nmehr Infor
 mationen unter http://pages.destination.one/de/teutonavigator/streaming/de
 tail/Event/e_100624395/einmal-um-die-schlagerwelt
DTEND;TZID=Europe/Berlin:20240622T235900
DTSTAMP:20260421T174924Z
DTSTART;TZID=Europe/Berlin:20240622T193000
GEO:51.748033;8.708414
LOCATION:Freilichtbühne Schloß Neuhaus\, Im Schlosspark\, Paderborn
ORGANIZER;CN=Freilichtbühne Schloß Neuhaus:mailto:kontakt@fbsn.de
SEQUENCE:0
SUMMARY:Einmal um die Schlagerwelt
UID:e_100624395_iv1
URL:http://pages.destination.one/de/teutonavigator/streaming/detail/Event/e
 _100624395/einmal-um-die-schlagerwelt
END:VEVENT
BEGIN:VEVENT
CATEGORIES:Schlager
DESCRIPTION:Ein knallbunter Trip durch das Schlager-Zeitalter\n\nmehr Infor
 mationen unter http://pages.destination.one/de/teutonavigator/streaming/de
 tail/Event/e_100624395/einmal-um-die-schlagerwelt
DTEND;TZID=Europe/Berlin:20250815T235900
DTSTAMP:20260421T174924Z
DTSTART;TZID=Europe/Berlin:20250815T193000
GEO:51.748033;8.708414
LOCATION:Freilichtbühne Schloß Neuhaus\, Im Schlosspark\, Paderborn
ORGANIZER;CN=Freilichtbühne Schloß Neuhaus:mailto:kontakt@fbsn.de
SEQUENCE:0
SUMMARY:Einmal um die Schlagerwelt
UID:e_100624395_iv2
URL:http://pages.destination.one/de/teutonavigator/streaming/detail/Event/e
 _100624395/einmal-um-die-schlagerwelt
END:VEVENT
BEGIN:VEVENT
CATEGORIES:Schlager
DESCRIPTION:Ein knallbunter Trip durch das Schlager-Zeitalter\n\nmehr Infor
 mationen unter http://pages.destination.one/de/teutonavigator/streaming/de
 tail/Event/e_100624395/einmal-um-die-schlagerwelt
DTEND;TZID=Europe/Berlin:20260814T235900
DTSTAMP:20260421T174924Z
DTSTART;TZID=Europe/Berlin:20260814T193000
GEO:51.748033;8.708414
LOCATION:Freilichtbühne Schloß Neuhaus\, Im Schlosspark\, Paderborn
ORGANIZER;CN=Freilichtbühne Schloß Neuhaus:mailto:kontakt@fbsn.de
SEQUENCE:0
SUMMARY:Einmal um die Schlagerwelt
UID:e_100624395_iv3
URL:http://pages.destination.one/de/teutonavigator/streaming/detail/Event/e
 _100624395/einmal-um-die-schlagerwelt
END:VEVENT
BEGIN:VTIMEZONE
TZID:Europe/Berlin
X-LIC-LOCATION:Europe/Berlin
BEGIN:DAYLIGHT
DTSTART:19700329T020000
RRULE:FREQ=YEARLY;BYDAY=-1SU;BYMONTH=3
TZNAME:CEST
TZOFFSETFROM:+0100
TZOFFSETTO:+0200
END:DAYLIGHT
BEGIN:STANDARD
DTSTART:19701025T030000
RRULE:FREQ=YEARLY;BYDAY=-1SU;BYMONTH=10
TZNAME:CET
TZOFFSETFROM:+0200
TZOFFSETTO:+0100
END:STANDARD
END:VTIMEZONE
END:VCALENDAR
