BEGIN:VCALENDAR
VERSION:2.0
PRODID:-//destination.one//NONSGML destination.meta API//DE
X-WR-CALDESC:A calendar powered by destination.meta
X-WR-CALNAME:teutonavigator Kalender via destination.meta
BEGIN:VEVENT
CATEGORIES:Brauchtum/Kultur
CATEGORIES:Sport/Freizeit
CATEGORIES:Turnier/Wettbewerb
DESCRIPTION:\n\nmehr Informationen unter http://pages.destination.one/de/te
 utonavigator/streaming/detail/Event/e_100623083/k-nigsschie-en-des-sv-edel
 wei-offelten
DTEND;TZID=Europe/Berlin:20230617T235900
DTSTAMP:20260422T154108Z
DTSTART;TZID=Europe/Berlin:20230617T150000
GEO:52.301339;8.504976
LOCATION:KK-Stand des SV "Edelweiß" Offelten\, Balkenkampsweg\, Preußisch O
 ldendorf
ORGANIZER;CN=Schützenverein Edelweiß Offelten e.V.:mailto:mail@sv-edelweiss
 -offelten.de
SEQUENCE:0
SUMMARY:Königsschießen des SV "Edelweiß" Offelten
UID:e_100623083_iv0
URL:http://pages.destination.one/de/teutonavigator/streaming/detail/Event/e
 _100623083/k-nigsschie-en-des-sv-edelwei-offelten
END:VEVENT
BEGIN:VEVENT
CATEGORIES:Brauchtum/Kultur
CATEGORIES:Sport/Freizeit
CATEGORIES:Turnier/Wettbewerb
DESCRIPTION:\n\nmehr Informationen unter http://pages.destination.one/de/te
 utonavigator/streaming/detail/Event/e_100623083/k-nigsschie-en-des-sv-edel
 wei-offelten
DTEND;TZID=Europe/Berlin:20240622T235900
DTSTAMP:20260422T154108Z
DTSTART;TZID=Europe/Berlin:20240622T150000
GEO:52.301339;8.504976
LOCATION:KK-Stand des SV "Edelweiß" Offelten\, Balkenkampsweg\, Preußisch O
 ldendorf
ORGANIZER;CN=Schützenverein Edelweiß Offelten e.V.:mailto:mail@sv-edelweiss
 -offelten.de
SEQUENCE:0
SUMMARY:Königsschießen des SV "Edelweiß" Offelten
UID:e_100623083_iv1
URL:http://pages.destination.one/de/teutonavigator/streaming/detail/Event/e
 _100623083/k-nigsschie-en-des-sv-edelwei-offelten
END:VEVENT
BEGIN:VEVENT
CATEGORIES:Brauchtum/Kultur
CATEGORIES:Sport/Freizeit
CATEGORIES:Turnier/Wettbewerb
DESCRIPTION:\n\nmehr Informationen unter http://pages.destination.one/de/te
 utonavigator/streaming/detail/Event/e_100623083/k-nigsschie-en-des-sv-edel
 wei-offelten
DTEND;TZID=Europe/Berlin:20250620T235900
DTSTAMP:20260422T154108Z
DTSTART;TZID=Europe/Berlin:20250620T150000
GEO:52.301339;8.504976
LOCATION:KK-Stand des SV "Edelweiß" Offelten\, Balkenkampsweg\, Preußisch O
 ldendorf
ORGANIZER;CN=Schützenverein Edelweiß Offelten e.V.:mailto:mail@sv-edelweiss
 -offelten.de
SEQUENCE:0
SUMMARY:Königsschießen des SV "Edelweiß" Offelten
UID:e_100623083_iv2
URL:http://pages.destination.one/de/teutonavigator/streaming/detail/Event/e
 _100623083/k-nigsschie-en-des-sv-edelwei-offelten
END:VEVENT
BEGIN:VEVENT
CATEGORIES:Brauchtum/Kultur
CATEGORIES:Sport/Freizeit
CATEGORIES:Turnier/Wettbewerb
DESCRIPTION:\n\nmehr Informationen unter http://pages.destination.one/de/te
 utonavigator/streaming/detail/Event/e_100623083/k-nigsschie-en-des-sv-edel
 wei-offelten
DTEND;TZID=Europe/Berlin:20250621T235900
DTSTAMP:20260422T154108Z
DTSTART;TZID=Europe/Berlin:20250621T150000
GEO:52.301339;8.504976
LOCATION:KK-Stand des SV "Edelweiß" Offelten\, Balkenkampsweg\, Preußisch O
 ldendorf
ORGANIZER;CN=Schützenverein Edelweiß Offelten e.V.:mailto:mail@sv-edelweiss
 -offelten.de
SEQUENCE:0
SUMMARY:Königsschießen des SV "Edelweiß" Offelten
UID:e_100623083_iv3
URL:http://pages.destination.one/de/teutonavigator/streaming/detail/Event/e
 _100623083/k-nigsschie-en-des-sv-edelwei-offelten
END:VEVENT
BEGIN:VEVENT
CATEGORIES:Brauchtum/Kultur
CATEGORIES:Sport/Freizeit
CATEGORIES:Turnier/Wettbewerb
DESCRIPTION:\n\nmehr Informationen unter http://pages.destination.one/de/te
 utonavigator/streaming/detail/Event/e_100623083/k-nigsschie-en-des-sv-edel
 wei-offelten
DTEND;TZID=Europe/Berlin:20260620T235900
DTSTAMP:20260422T154108Z
DTSTART;TZID=Europe/Berlin:20260620T150000
GEO:52.301339;8.504976
LOCATION:KK-Stand des SV "Edelweiß" Offelten\, Balkenkampsweg\, Preußisch O
 ldendorf
ORGANIZER;CN=Schützenverein Edelweiß Offelten e.V.:mailto:mail@sv-edelweiss
 -offelten.de
SEQUENCE:0
SUMMARY:Königsschießen des SV "Edelweiß" Offelten
UID:e_100623083_iv4
URL:http://pages.destination.one/de/teutonavigator/streaming/detail/Event/e
 _100623083/k-nigsschie-en-des-sv-edelwei-offelten
END:VEVENT
BEGIN:VTIMEZONE
TZID:Europe/Berlin
X-LIC-LOCATION:Europe/Berlin
BEGIN:DAYLIGHT
DTSTART:19700329T020000
RRULE:FREQ=YEARLY;BYDAY=-1SU;BYMONTH=3
TZNAME:CEST
TZOFFSETFROM:+0100
TZOFFSETTO:+0200
END:DAYLIGHT
BEGIN:STANDARD
DTSTART:19701025T030000
RRULE:FREQ=YEARLY;BYDAY=-1SU;BYMONTH=10
TZNAME:CET
TZOFFSETFROM:+0200
TZOFFSETTO:+0100
END:STANDARD
END:VTIMEZONE
END:VCALENDAR
