BEGIN:VCALENDAR
VERSION:2.0
PRODID:-//destination.one//NONSGML destination.meta API//DE
X-WR-CALDESC:A calendar powered by destination.meta
X-WR-CALNAME:teutonavigator Kalender via destination.meta
BEGIN:VEVENT
CATEGORIES:Stadtfest/Kirmes/Jahrmarkt
DESCRIPTION:Paderborns "fünfte Jahreszeit" mit einer einmaligen Mischung au
 s Kirche\, Kirmes\, Kunst und Kultur.\n\nmehr Informationen unter http://p
 ages.destination.one/de/teutonavigator/streaming/detail/Event/e_100605839/
 libori
DTEND;TZID=Europe/Berlin;VALUE=DATE:20230731
DTSTAMP:20260423T082623Z
DTSTART;TZID=Europe/Berlin;VALUE=DATE:20230722
GEO:51.717285;8.753346
LOCATION:Paderborner Innenstadt\, Rathausplatz\, Paderborn
PRIORITY:4
SEQUENCE:0
SUMMARY:Libori
UID:e_100605839_iv0
URL:http://pages.destination.one/de/teutonavigator/streaming/detail/Event/e
 _100605839/libori
END:VEVENT
BEGIN:VEVENT
CATEGORIES:Stadtfest/Kirmes/Jahrmarkt
DESCRIPTION:Paderborns "fünfte Jahreszeit" mit einer einmaligen Mischung au
 s Kirche\, Kirmes\, Kunst und Kultur.\n\nmehr Informationen unter http://p
 ages.destination.one/de/teutonavigator/streaming/detail/Event/e_100605839/
 libori
DTEND;TZID=Europe/Berlin;VALUE=DATE:20240805
DTSTAMP:20260423T082623Z
DTSTART;TZID=Europe/Berlin;VALUE=DATE:20240727
GEO:51.717285;8.753346
LOCATION:Paderborner Innenstadt\, Rathausplatz\, Paderborn
PRIORITY:4
SEQUENCE:0
SUMMARY:Libori
UID:e_100605839_iv1
URL:http://pages.destination.one/de/teutonavigator/streaming/detail/Event/e
 _100605839/libori
END:VEVENT
BEGIN:VEVENT
CATEGORIES:Stadtfest/Kirmes/Jahrmarkt
DESCRIPTION:Paderborns "fünfte Jahreszeit" mit einer einmaligen Mischung au
 s Kirche\, Kirmes\, Kunst und Kultur.\n\nmehr Informationen unter http://p
 ages.destination.one/de/teutonavigator/streaming/detail/Event/e_100605839/
 libori
DTEND;TZID=Europe/Berlin;VALUE=DATE:20240728
DTSTAMP:20260423T082623Z
DTSTART;TZID=Europe/Berlin;VALUE=DATE:20240727
GEO:51.717285;8.753346
LOCATION:Paderborner Innenstadt\, Rathausplatz\, Paderborn
PRIORITY:4
RRULE:FREQ=DAILY;UNTIL=20240803T220000
SEQUENCE:0
SUMMARY:Libori
UID:e_100605839_iv2
URL:http://pages.destination.one/de/teutonavigator/streaming/detail/Event/e
 _100605839/libori
END:VEVENT
BEGIN:VEVENT
CATEGORIES:Stadtfest/Kirmes/Jahrmarkt
DESCRIPTION:Paderborns "fünfte Jahreszeit" mit einer einmaligen Mischung au
 s Kirche\, Kirmes\, Kunst und Kultur.\n\nmehr Informationen unter http://p
 ages.destination.one/de/teutonavigator/streaming/detail/Event/e_100605839/
 libori
DTEND;TZID=Europe/Berlin;VALUE=DATE:20250804
DTSTAMP:20260423T082623Z
DTSTART;TZID=Europe/Berlin;VALUE=DATE:20250726
GEO:51.717285;8.753346
LOCATION:Paderborner Innenstadt\, Rathausplatz\, Paderborn
PRIORITY:4
SEQUENCE:0
SUMMARY:Libori
UID:e_100605839_iv3
URL:http://pages.destination.one/de/teutonavigator/streaming/detail/Event/e
 _100605839/libori
END:VEVENT
BEGIN:VEVENT
CATEGORIES:Stadtfest/Kirmes/Jahrmarkt
DESCRIPTION:Paderborns "fünfte Jahreszeit" mit einer einmaligen Mischung au
 s Kirche\, Kirmes\, Kunst und Kultur.\n\nmehr Informationen unter http://p
 ages.destination.one/de/teutonavigator/streaming/detail/Event/e_100605839/
 libori
DTEND;TZID=Europe/Berlin;VALUE=DATE:20260803
DTSTAMP:20260423T082623Z
DTSTART;TZID=Europe/Berlin;VALUE=DATE:20260725
GEO:51.717285;8.753346
LOCATION:Paderborner Innenstadt\, Rathausplatz\, Paderborn
PRIORITY:4
SEQUENCE:0
SUMMARY:Libori
UID:e_100605839_iv4
URL:http://pages.destination.one/de/teutonavigator/streaming/detail/Event/e
 _100605839/libori
END:VEVENT
BEGIN:VEVENT
CATEGORIES:Stadtfest/Kirmes/Jahrmarkt
DESCRIPTION:Paderborns "fünfte Jahreszeit" mit einer einmaligen Mischung au
 s Kirche\, Kirmes\, Kunst und Kultur.\n\nmehr Informationen unter http://p
 ages.destination.one/de/teutonavigator/streaming/detail/Event/e_100605839/
 libori
DTEND;TZID=Europe/Berlin;VALUE=DATE:20270802
DTSTAMP:20260423T082623Z
DTSTART;TZID=Europe/Berlin;VALUE=DATE:20270724
GEO:51.717285;8.753346
LOCATION:Paderborner Innenstadt\, Rathausplatz\, Paderborn
PRIORITY:4
SEQUENCE:0
SUMMARY:Libori
UID:e_100605839_iv5
URL:http://pages.destination.one/de/teutonavigator/streaming/detail/Event/e
 _100605839/libori
END:VEVENT
BEGIN:VTIMEZONE
TZID:Europe/Berlin
X-LIC-LOCATION:Europe/Berlin
BEGIN:DAYLIGHT
DTSTART:19700329T020000
RRULE:FREQ=YEARLY;BYDAY=-1SU;BYMONTH=3
TZNAME:CEST
TZOFFSETFROM:+0100
TZOFFSETTO:+0200
END:DAYLIGHT
BEGIN:STANDARD
DTSTART:19701025T030000
RRULE:FREQ=YEARLY;BYDAY=-1SU;BYMONTH=10
TZNAME:CET
TZOFFSETFROM:+0200
TZOFFSETTO:+0100
END:STANDARD
END:VTIMEZONE
END:VCALENDAR
