BEGIN:VCALENDAR
VERSION:2.0
PRODID:-//destination.one//NONSGML destination.meta API//DE
X-WR-CALDESC:A calendar powered by destination.meta
X-WR-CALNAME:teutonavigator Kalender via destination.meta
BEGIN:VEVENT
CATEGORIES:Brauchtum/Kultur
CATEGORIES:Führung/Besichtigung
DESCRIPTION:Kostenlose Führung durch die Mittelmühle und die Bohrmühle\n\nm
 ehr Informationen unter http://pages.destination.one/de/teutonavigator/str
 eaming/detail/Event/e_100600713/f-hrung-durch-die-mittelm-hle
DTEND;TZID=Europe/Berlin:20230618T170000
DTSTAMP:20260421T112422Z
DTSTART;TZID=Europe/Berlin:20230618T140000
GEO:51.553580;8.557395
LOCATION:Mittelmühle & Bohrmühle\, Mühlenstraße 2\, Büren
ORGANIZER;CN=Heimatverein Büren e.V.:mailto:vorstand@heimatverein-bueren.de
SEQUENCE:0
SUMMARY:Führung durch die Mittelmühle
UID:e_100600713_iv0
URL:http://pages.destination.one/de/teutonavigator/streaming/detail/Event/e
 _100600713/f-hrung-durch-die-mittelm-hle
END:VEVENT
BEGIN:VEVENT
CATEGORIES:Brauchtum/Kultur
CATEGORIES:Führung/Besichtigung
DESCRIPTION:Kostenlose Führung durch die Mittelmühle und die Bohrmühle\n\nm
 ehr Informationen unter http://pages.destination.one/de/teutonavigator/str
 eaming/detail/Event/e_100600713/f-hrung-durch-die-mittelm-hle
DTEND;TZID=Europe/Berlin:20230820T170000
DTSTAMP:20260421T112422Z
DTSTART;TZID=Europe/Berlin:20230820T140000
GEO:51.553580;8.557395
LOCATION:Mittelmühle & Bohrmühle\, Mühlenstraße 2\, Büren
ORGANIZER;CN=Heimatverein Büren e.V.:mailto:vorstand@heimatverein-bueren.de
SEQUENCE:0
SUMMARY:Führung durch die Mittelmühle
UID:e_100600713_iv1
URL:http://pages.destination.one/de/teutonavigator/streaming/detail/Event/e
 _100600713/f-hrung-durch-die-mittelm-hle
END:VEVENT
BEGIN:VEVENT
CATEGORIES:Brauchtum/Kultur
CATEGORIES:Führung/Besichtigung
DESCRIPTION:Kostenlose Führung durch die Mittelmühle und die Bohrmühle\n\nm
 ehr Informationen unter http://pages.destination.one/de/teutonavigator/str
 eaming/detail/Event/e_100600713/f-hrung-durch-die-mittelm-hle
DTEND;TZID=Europe/Berlin:20230910T170000
DTSTAMP:20260421T112422Z
DTSTART;TZID=Europe/Berlin:20230910T140000
GEO:51.553580;8.557395
LOCATION:Mittelmühle & Bohrmühle\, Mühlenstraße 2\, Büren
ORGANIZER;CN=Heimatverein Büren e.V.:mailto:vorstand@heimatverein-bueren.de
SEQUENCE:0
SUMMARY:Führung durch die Mittelmühle
UID:e_100600713_iv2
URL:http://pages.destination.one/de/teutonavigator/streaming/detail/Event/e
 _100600713/f-hrung-durch-die-mittelm-hle
END:VEVENT
BEGIN:VEVENT
CATEGORIES:Brauchtum/Kultur
CATEGORIES:Führung/Besichtigung
DESCRIPTION:Kostenlose Führung durch die Mittelmühle und die Bohrmühle\n\nm
 ehr Informationen unter http://pages.destination.one/de/teutonavigator/str
 eaming/detail/Event/e_100600713/f-hrung-durch-die-mittelm-hle
DTEND;TZID=Europe/Berlin:20231015T170000
DTSTAMP:20260421T112422Z
DTSTART;TZID=Europe/Berlin:20231015T140000
GEO:51.553580;8.557395
LOCATION:Mittelmühle & Bohrmühle\, Mühlenstraße 2\, Büren
ORGANIZER;CN=Heimatverein Büren e.V.:mailto:vorstand@heimatverein-bueren.de
SEQUENCE:0
SUMMARY:Führung durch die Mittelmühle
UID:e_100600713_iv3
URL:http://pages.destination.one/de/teutonavigator/streaming/detail/Event/e
 _100600713/f-hrung-durch-die-mittelm-hle
END:VEVENT
BEGIN:VEVENT
CATEGORIES:Brauchtum/Kultur
CATEGORIES:Führung/Besichtigung
DESCRIPTION:Kostenlose Führung durch die Mittelmühle und die Bohrmühle\n\nm
 ehr Informationen unter http://pages.destination.one/de/teutonavigator/str
 eaming/detail/Event/e_100600713/f-hrung-durch-die-mittelm-hle
DTEND;TZID=Europe/Berlin:20240421T170000
DTSTAMP:20260421T112422Z
DTSTART;TZID=Europe/Berlin:20240421T140000
GEO:51.553580;8.557395
LOCATION:Mittelmühle & Bohrmühle\, Mühlenstraße 2\, Büren
ORGANIZER;CN=Heimatverein Büren e.V.:mailto:vorstand@heimatverein-bueren.de
SEQUENCE:0
SUMMARY:Führung durch die Mittelmühle
UID:e_100600713_iv4
URL:http://pages.destination.one/de/teutonavigator/streaming/detail/Event/e
 _100600713/f-hrung-durch-die-mittelm-hle
END:VEVENT
BEGIN:VEVENT
CATEGORIES:Brauchtum/Kultur
CATEGORIES:Führung/Besichtigung
DESCRIPTION:Kostenlose Führung durch die Mittelmühle und die Bohrmühle\n\nm
 ehr Informationen unter http://pages.destination.one/de/teutonavigator/str
 eaming/detail/Event/e_100600713/f-hrung-durch-die-mittelm-hle
DTEND;TZID=Europe/Berlin:20240520T170000
DTSTAMP:20260421T112422Z
DTSTART;TZID=Europe/Berlin:20240520T100000
GEO:51.553580;8.557395
LOCATION:Mittelmühle & Bohrmühle\, Mühlenstraße 2\, Büren
ORGANIZER;CN=Heimatverein Büren e.V.:mailto:vorstand@heimatverein-bueren.de
SEQUENCE:0
SUMMARY:Führung durch die Mittelmühle
UID:e_100600713_iv5
URL:http://pages.destination.one/de/teutonavigator/streaming/detail/Event/e
 _100600713/f-hrung-durch-die-mittelm-hle
END:VEVENT
BEGIN:VEVENT
CATEGORIES:Brauchtum/Kultur
CATEGORIES:Führung/Besichtigung
DESCRIPTION:Kostenlose Führung durch die Mittelmühle und die Bohrmühle\n\nm
 ehr Informationen unter http://pages.destination.one/de/teutonavigator/str
 eaming/detail/Event/e_100600713/f-hrung-durch-die-mittelm-hle
DTEND;TZID=Europe/Berlin:20240616T170000
DTSTAMP:20260421T112422Z
DTSTART;TZID=Europe/Berlin:20240616T140000
GEO:51.553580;8.557395
LOCATION:Mittelmühle & Bohrmühle\, Mühlenstraße 2\, Büren
ORGANIZER;CN=Heimatverein Büren e.V.:mailto:vorstand@heimatverein-bueren.de
SEQUENCE:0
SUMMARY:Führung durch die Mittelmühle
UID:e_100600713_iv6
URL:http://pages.destination.one/de/teutonavigator/streaming/detail/Event/e
 _100600713/f-hrung-durch-die-mittelm-hle
END:VEVENT
BEGIN:VEVENT
CATEGORIES:Brauchtum/Kultur
CATEGORIES:Führung/Besichtigung
DESCRIPTION:Kostenlose Führung durch die Mittelmühle und die Bohrmühle\n\nm
 ehr Informationen unter http://pages.destination.one/de/teutonavigator/str
 eaming/detail/Event/e_100600713/f-hrung-durch-die-mittelm-hle
DTEND;TZID=Europe/Berlin:20240818T170000
DTSTAMP:20260421T112422Z
DTSTART;TZID=Europe/Berlin:20240818T140000
GEO:51.553580;8.557395
LOCATION:Mittelmühle & Bohrmühle\, Mühlenstraße 2\, Büren
ORGANIZER;CN=Heimatverein Büren e.V.:mailto:vorstand@heimatverein-bueren.de
SEQUENCE:0
SUMMARY:Führung durch die Mittelmühle
UID:e_100600713_iv7
URL:http://pages.destination.one/de/teutonavigator/streaming/detail/Event/e
 _100600713/f-hrung-durch-die-mittelm-hle
END:VEVENT
BEGIN:VEVENT
CATEGORIES:Brauchtum/Kultur
CATEGORIES:Führung/Besichtigung
DESCRIPTION:Kostenlose Führung durch die Mittelmühle und die Bohrmühle\n\nm
 ehr Informationen unter http://pages.destination.one/de/teutonavigator/str
 eaming/detail/Event/e_100600713/f-hrung-durch-die-mittelm-hle
DTEND;TZID=Europe/Berlin:20240908T170000
DTSTAMP:20260421T112422Z
DTSTART;TZID=Europe/Berlin:20240908T110000
GEO:51.553580;8.557395
LOCATION:Mittelmühle & Bohrmühle\, Mühlenstraße 2\, Büren
ORGANIZER;CN=Heimatverein Büren e.V.:mailto:vorstand@heimatverein-bueren.de
SEQUENCE:0
SUMMARY:Führung durch die Mittelmühle
UID:e_100600713_iv8
URL:http://pages.destination.one/de/teutonavigator/streaming/detail/Event/e
 _100600713/f-hrung-durch-die-mittelm-hle
END:VEVENT
BEGIN:VEVENT
CATEGORIES:Brauchtum/Kultur
CATEGORIES:Führung/Besichtigung
DESCRIPTION:Kostenlose Führung durch die Mittelmühle und die Bohrmühle\n\nm
 ehr Informationen unter http://pages.destination.one/de/teutonavigator/str
 eaming/detail/Event/e_100600713/f-hrung-durch-die-mittelm-hle
DTEND;TZID=Europe/Berlin:20241020T170000
DTSTAMP:20260421T112422Z
DTSTART;TZID=Europe/Berlin:20241020T140000
GEO:51.553580;8.557395
LOCATION:Mittelmühle & Bohrmühle\, Mühlenstraße 2\, Büren
ORGANIZER;CN=Heimatverein Büren e.V.:mailto:vorstand@heimatverein-bueren.de
SEQUENCE:0
SUMMARY:Führung durch die Mittelmühle
UID:e_100600713_iv9
URL:http://pages.destination.one/de/teutonavigator/streaming/detail/Event/e
 _100600713/f-hrung-durch-die-mittelm-hle
END:VEVENT
BEGIN:VEVENT
CATEGORIES:Brauchtum/Kultur
CATEGORIES:Führung/Besichtigung
DESCRIPTION:Kostenlose Führung durch die Mittelmühle und die Bohrmühle\n\nm
 ehr Informationen unter http://pages.destination.one/de/teutonavigator/str
 eaming/detail/Event/e_100600713/f-hrung-durch-die-mittelm-hle
DTEND;TZID=Europe/Berlin:20250316T170000
DTSTAMP:20260421T112422Z
DTSTART;TZID=Europe/Berlin:20250316T140000
GEO:51.553580;8.557395
LOCATION:Mittelmühle & Bohrmühle\, Mühlenstraße 2\, Büren
ORGANIZER;CN=Heimatverein Büren e.V.:mailto:vorstand@heimatverein-bueren.de
SEQUENCE:0
SUMMARY:Führung durch die Mittelmühle
UID:e_100600713_iv10
URL:http://pages.destination.one/de/teutonavigator/streaming/detail/Event/e
 _100600713/f-hrung-durch-die-mittelm-hle
END:VEVENT
BEGIN:VEVENT
CATEGORIES:Brauchtum/Kultur
CATEGORIES:Führung/Besichtigung
DESCRIPTION:Kostenlose Führung durch die Mittelmühle und die Bohrmühle\n\nm
 ehr Informationen unter http://pages.destination.one/de/teutonavigator/str
 eaming/detail/Event/e_100600713/f-hrung-durch-die-mittelm-hle
DTEND;TZID=Europe/Berlin:20250413T170000
DTSTAMP:20260421T112422Z
DTSTART;TZID=Europe/Berlin:20250413T140000
GEO:51.553580;8.557395
LOCATION:Mittelmühle & Bohrmühle\, Mühlenstraße 2\, Büren
ORGANIZER;CN=Heimatverein Büren e.V.:mailto:vorstand@heimatverein-bueren.de
SEQUENCE:0
SUMMARY:Führung durch die Mittelmühle
UID:e_100600713_iv11
URL:http://pages.destination.one/de/teutonavigator/streaming/detail/Event/e
 _100600713/f-hrung-durch-die-mittelm-hle
END:VEVENT
BEGIN:VEVENT
CATEGORIES:Brauchtum/Kultur
CATEGORIES:Führung/Besichtigung
DESCRIPTION:Kostenlose Führung durch die Mittelmühle und die Bohrmühle\n\nm
 ehr Informationen unter http://pages.destination.one/de/teutonavigator/str
 eaming/detail/Event/e_100600713/f-hrung-durch-die-mittelm-hle
DTEND;TZID=Europe/Berlin:20250518T170000
DTSTAMP:20260421T112422Z
DTSTART;TZID=Europe/Berlin:20250518T140000
GEO:51.553580;8.557395
LOCATION:Mittelmühle & Bohrmühle\, Mühlenstraße 2\, Büren
ORGANIZER;CN=Heimatverein Büren e.V.:mailto:vorstand@heimatverein-bueren.de
SEQUENCE:0
SUMMARY:Führung durch die Mittelmühle
UID:e_100600713_iv12
URL:http://pages.destination.one/de/teutonavigator/streaming/detail/Event/e
 _100600713/f-hrung-durch-die-mittelm-hle
END:VEVENT
BEGIN:VEVENT
CATEGORIES:Brauchtum/Kultur
CATEGORIES:Führung/Besichtigung
DESCRIPTION:Kostenlose Führung durch die Mittelmühle und die Bohrmühle\n\nm
 ehr Informationen unter http://pages.destination.one/de/teutonavigator/str
 eaming/detail/Event/e_100600713/f-hrung-durch-die-mittelm-hle
DTEND;TZID=Europe/Berlin:20250609T170000
DTSTAMP:20260421T112422Z
DTSTART;TZID=Europe/Berlin:20250609T110000
GEO:51.553580;8.557395
LOCATION:Mittelmühle & Bohrmühle\, Mühlenstraße 2\, Büren
ORGANIZER;CN=Heimatverein Büren e.V.:mailto:vorstand@heimatverein-bueren.de
SEQUENCE:0
SUMMARY:Führung durch die Mittelmühle
UID:e_100600713_iv13
URL:http://pages.destination.one/de/teutonavigator/streaming/detail/Event/e
 _100600713/f-hrung-durch-die-mittelm-hle
END:VEVENT
BEGIN:VEVENT
CATEGORIES:Brauchtum/Kultur
CATEGORIES:Führung/Besichtigung
DESCRIPTION:Kostenlose Führung durch die Mittelmühle und die Bohrmühle\n\nm
 ehr Informationen unter http://pages.destination.one/de/teutonavigator/str
 eaming/detail/Event/e_100600713/f-hrung-durch-die-mittelm-hle
DTEND;TZID=Europe/Berlin:20250720T170000
DTSTAMP:20260421T112422Z
DTSTART;TZID=Europe/Berlin:20250720T140000
GEO:51.553580;8.557395
LOCATION:Mittelmühle & Bohrmühle\, Mühlenstraße 2\, Büren
ORGANIZER;CN=Heimatverein Büren e.V.:mailto:vorstand@heimatverein-bueren.de
SEQUENCE:0
SUMMARY:Führung durch die Mittelmühle
UID:e_100600713_iv14
URL:http://pages.destination.one/de/teutonavigator/streaming/detail/Event/e
 _100600713/f-hrung-durch-die-mittelm-hle
END:VEVENT
BEGIN:VEVENT
CATEGORIES:Brauchtum/Kultur
CATEGORIES:Führung/Besichtigung
DESCRIPTION:Kostenlose Führung durch die Mittelmühle und die Bohrmühle\n\nm
 ehr Informationen unter http://pages.destination.one/de/teutonavigator/str
 eaming/detail/Event/e_100600713/f-hrung-durch-die-mittelm-hle
DTEND;TZID=Europe/Berlin:20250817T170000
DTSTAMP:20260421T112422Z
DTSTART;TZID=Europe/Berlin:20250817T140000
GEO:51.553580;8.557395
LOCATION:Mittelmühle & Bohrmühle\, Mühlenstraße 2\, Büren
ORGANIZER;CN=Heimatverein Büren e.V.:mailto:vorstand@heimatverein-bueren.de
SEQUENCE:0
SUMMARY:Führung durch die Mittelmühle
UID:e_100600713_iv15
URL:http://pages.destination.one/de/teutonavigator/streaming/detail/Event/e
 _100600713/f-hrung-durch-die-mittelm-hle
END:VEVENT
BEGIN:VEVENT
CATEGORIES:Brauchtum/Kultur
CATEGORIES:Führung/Besichtigung
DESCRIPTION:Kostenlose Führung durch die Mittelmühle und die Bohrmühle\n\nm
 ehr Informationen unter http://pages.destination.one/de/teutonavigator/str
 eaming/detail/Event/e_100600713/f-hrung-durch-die-mittelm-hle
DTEND;TZID=Europe/Berlin:20250914T170000
DTSTAMP:20260421T112422Z
DTSTART;TZID=Europe/Berlin:20250914T110000
GEO:51.553580;8.557395
LOCATION:Mittelmühle & Bohrmühle\, Mühlenstraße 2\, Büren
ORGANIZER;CN=Heimatverein Büren e.V.:mailto:vorstand@heimatverein-bueren.de
SEQUENCE:0
SUMMARY:Führung durch die Mittelmühle
UID:e_100600713_iv16
URL:http://pages.destination.one/de/teutonavigator/streaming/detail/Event/e
 _100600713/f-hrung-durch-die-mittelm-hle
END:VEVENT
BEGIN:VEVENT
CATEGORIES:Brauchtum/Kultur
CATEGORIES:Führung/Besichtigung
DESCRIPTION:Kostenlose Führung durch die Mittelmühle und die Bohrmühle\n\nm
 ehr Informationen unter http://pages.destination.one/de/teutonavigator/str
 eaming/detail/Event/e_100600713/f-hrung-durch-die-mittelm-hle
DTEND;TZID=Europe/Berlin:20251019T170000
DTSTAMP:20260421T112422Z
DTSTART;TZID=Europe/Berlin:20251019T140000
GEO:51.553580;8.557395
LOCATION:Mittelmühle & Bohrmühle\, Mühlenstraße 2\, Büren
ORGANIZER;CN=Heimatverein Büren e.V.:mailto:vorstand@heimatverein-bueren.de
SEQUENCE:0
SUMMARY:Führung durch die Mittelmühle
UID:e_100600713_iv17
URL:http://pages.destination.one/de/teutonavigator/streaming/detail/Event/e
 _100600713/f-hrung-durch-die-mittelm-hle
END:VEVENT
BEGIN:VEVENT
CATEGORIES:Brauchtum/Kultur
CATEGORIES:Führung/Besichtigung
DESCRIPTION:Kostenlose Führung durch die Mittelmühle und die Bohrmühle\n\nm
 ehr Informationen unter http://pages.destination.one/de/teutonavigator/str
 eaming/detail/Event/e_100600713/f-hrung-durch-die-mittelm-hle
DTEND;TZID=Europe/Berlin:20251221T170000
DTSTAMP:20260421T112422Z
DTSTART;TZID=Europe/Berlin:20251221T140000
GEO:51.553580;8.557395
LOCATION:Mittelmühle & Bohrmühle\, Mühlenstraße 2\, Büren
ORGANIZER;CN=Heimatverein Büren e.V.:mailto:vorstand@heimatverein-bueren.de
SEQUENCE:0
SUMMARY:Führung durch die Mittelmühle
UID:e_100600713_iv18
URL:http://pages.destination.one/de/teutonavigator/streaming/detail/Event/e
 _100600713/f-hrung-durch-die-mittelm-hle
END:VEVENT
BEGIN:VEVENT
CATEGORIES:Brauchtum/Kultur
CATEGORIES:Führung/Besichtigung
DESCRIPTION:Kostenlose Führung durch die Mittelmühle und die Bohrmühle\n\nm
 ehr Informationen unter http://pages.destination.one/de/teutonavigator/str
 eaming/detail/Event/e_100600713/f-hrung-durch-die-mittelm-hle
DTEND;TZID=Europe/Berlin:20260315T235900
DTSTAMP:20260421T112422Z
DTSTART;TZID=Europe/Berlin:20260315T140000
GEO:51.553580;8.557395
LOCATION:Mittelmühle & Bohrmühle\, Mühlenstraße 2\, Büren
ORGANIZER;CN=Heimatverein Büren e.V.:mailto:vorstand@heimatverein-bueren.de
SEQUENCE:0
SUMMARY:Führung durch die Mittelmühle
UID:e_100600713_iv19
URL:http://pages.destination.one/de/teutonavigator/streaming/detail/Event/e
 _100600713/f-hrung-durch-die-mittelm-hle
END:VEVENT
BEGIN:VEVENT
CATEGORIES:Brauchtum/Kultur
CATEGORIES:Führung/Besichtigung
DESCRIPTION:Kostenlose Führung durch die Mittelmühle und die Bohrmühle\n\nm
 ehr Informationen unter http://pages.destination.one/de/teutonavigator/str
 eaming/detail/Event/e_100600713/f-hrung-durch-die-mittelm-hle
DTEND;TZID=Europe/Berlin:20260419T235900
DTSTAMP:20260421T112422Z
DTSTART;TZID=Europe/Berlin:20260419T140000
GEO:51.553580;8.557395
LOCATION:Mittelmühle & Bohrmühle\, Mühlenstraße 2\, Büren
ORGANIZER;CN=Heimatverein Büren e.V.:mailto:vorstand@heimatverein-bueren.de
SEQUENCE:0
SUMMARY:Führung durch die Mittelmühle
UID:e_100600713_iv20
URL:http://pages.destination.one/de/teutonavigator/streaming/detail/Event/e
 _100600713/f-hrung-durch-die-mittelm-hle
END:VEVENT
BEGIN:VEVENT
CATEGORIES:Brauchtum/Kultur
CATEGORIES:Führung/Besichtigung
DESCRIPTION:Kostenlose Führung durch die Mittelmühle und die Bohrmühle\n\nm
 ehr Informationen unter http://pages.destination.one/de/teutonavigator/str
 eaming/detail/Event/e_100600713/f-hrung-durch-die-mittelm-hle
DTEND;TZID=Europe/Berlin:20260525T235900
DTSTAMP:20260421T112422Z
DTSTART;TZID=Europe/Berlin:20260525T110000
GEO:51.553580;8.557395
LOCATION:Mittelmühle & Bohrmühle\, Mühlenstraße 2\, Büren
ORGANIZER;CN=Heimatverein Büren e.V.:mailto:vorstand@heimatverein-bueren.de
SEQUENCE:0
SUMMARY:Führung durch die Mittelmühle
UID:e_100600713_iv21
URL:http://pages.destination.one/de/teutonavigator/streaming/detail/Event/e
 _100600713/f-hrung-durch-die-mittelm-hle
END:VEVENT
BEGIN:VEVENT
CATEGORIES:Brauchtum/Kultur
CATEGORIES:Führung/Besichtigung
DESCRIPTION:Kostenlose Führung durch die Mittelmühle und die Bohrmühle\n\nm
 ehr Informationen unter http://pages.destination.one/de/teutonavigator/str
 eaming/detail/Event/e_100600713/f-hrung-durch-die-mittelm-hle
DTEND;TZID=Europe/Berlin:20260621T235900
DTSTAMP:20260421T112422Z
DTSTART;TZID=Europe/Berlin:20260621T140000
GEO:51.553580;8.557395
LOCATION:Mittelmühle & Bohrmühle\, Mühlenstraße 2\, Büren
ORGANIZER;CN=Heimatverein Büren e.V.:mailto:vorstand@heimatverein-bueren.de
SEQUENCE:0
SUMMARY:Führung durch die Mittelmühle
UID:e_100600713_iv22
URL:http://pages.destination.one/de/teutonavigator/streaming/detail/Event/e
 _100600713/f-hrung-durch-die-mittelm-hle
END:VEVENT
BEGIN:VEVENT
CATEGORIES:Brauchtum/Kultur
CATEGORIES:Führung/Besichtigung
DESCRIPTION:Kostenlose Führung durch die Mittelmühle und die Bohrmühle\n\nm
 ehr Informationen unter http://pages.destination.one/de/teutonavigator/str
 eaming/detail/Event/e_100600713/f-hrung-durch-die-mittelm-hle
DTEND;TZID=Europe/Berlin:20260719T235900
DTSTAMP:20260421T112422Z
DTSTART;TZID=Europe/Berlin:20260719T140000
GEO:51.553580;8.557395
LOCATION:Mittelmühle & Bohrmühle\, Mühlenstraße 2\, Büren
ORGANIZER;CN=Heimatverein Büren e.V.:mailto:vorstand@heimatverein-bueren.de
SEQUENCE:0
SUMMARY:Führung durch die Mittelmühle
UID:e_100600713_iv23
URL:http://pages.destination.one/de/teutonavigator/streaming/detail/Event/e
 _100600713/f-hrung-durch-die-mittelm-hle
END:VEVENT
BEGIN:VEVENT
CATEGORIES:Brauchtum/Kultur
CATEGORIES:Führung/Besichtigung
DESCRIPTION:Kostenlose Führung durch die Mittelmühle und die Bohrmühle\n\nm
 ehr Informationen unter http://pages.destination.one/de/teutonavigator/str
 eaming/detail/Event/e_100600713/f-hrung-durch-die-mittelm-hle
DTEND;TZID=Europe/Berlin:20260816T235900
DTSTAMP:20260421T112422Z
DTSTART;TZID=Europe/Berlin:20260816T140000
GEO:51.553580;8.557395
LOCATION:Mittelmühle & Bohrmühle\, Mühlenstraße 2\, Büren
ORGANIZER;CN=Heimatverein Büren e.V.:mailto:vorstand@heimatverein-bueren.de
SEQUENCE:0
SUMMARY:Führung durch die Mittelmühle
UID:e_100600713_iv24
URL:http://pages.destination.one/de/teutonavigator/streaming/detail/Event/e
 _100600713/f-hrung-durch-die-mittelm-hle
END:VEVENT
BEGIN:VEVENT
CATEGORIES:Brauchtum/Kultur
CATEGORIES:Führung/Besichtigung
DESCRIPTION:Kostenlose Führung durch die Mittelmühle und die Bohrmühle\n\nm
 ehr Informationen unter http://pages.destination.one/de/teutonavigator/str
 eaming/detail/Event/e_100600713/f-hrung-durch-die-mittelm-hle
DTEND;TZID=Europe/Berlin:20260913T235900
DTSTAMP:20260421T112422Z
DTSTART;TZID=Europe/Berlin:20260913T110000
GEO:51.553580;8.557395
LOCATION:Mittelmühle & Bohrmühle\, Mühlenstraße 2\, Büren
ORGANIZER;CN=Heimatverein Büren e.V.:mailto:vorstand@heimatverein-bueren.de
SEQUENCE:0
SUMMARY:Führung durch die Mittelmühle
UID:e_100600713_iv25
URL:http://pages.destination.one/de/teutonavigator/streaming/detail/Event/e
 _100600713/f-hrung-durch-die-mittelm-hle
END:VEVENT
BEGIN:VEVENT
CATEGORIES:Brauchtum/Kultur
CATEGORIES:Führung/Besichtigung
DESCRIPTION:Kostenlose Führung durch die Mittelmühle und die Bohrmühle\n\nm
 ehr Informationen unter http://pages.destination.one/de/teutonavigator/str
 eaming/detail/Event/e_100600713/f-hrung-durch-die-mittelm-hle
DTEND;TZID=Europe/Berlin:20261018T235900
DTSTAMP:20260421T112422Z
DTSTART;TZID=Europe/Berlin:20261018T140000
GEO:51.553580;8.557395
LOCATION:Mittelmühle & Bohrmühle\, Mühlenstraße 2\, Büren
ORGANIZER;CN=Heimatverein Büren e.V.:mailto:vorstand@heimatverein-bueren.de
SEQUENCE:0
SUMMARY:Führung durch die Mittelmühle
UID:e_100600713_iv26
URL:http://pages.destination.one/de/teutonavigator/streaming/detail/Event/e
 _100600713/f-hrung-durch-die-mittelm-hle
END:VEVENT
BEGIN:VTIMEZONE
TZID:Europe/Berlin
X-LIC-LOCATION:Europe/Berlin
BEGIN:DAYLIGHT
DTSTART:19700329T020000
RRULE:FREQ=YEARLY;BYDAY=-1SU;BYMONTH=3
TZNAME:CEST
TZOFFSETFROM:+0100
TZOFFSETTO:+0200
END:DAYLIGHT
BEGIN:STANDARD
DTSTART:19701025T030000
RRULE:FREQ=YEARLY;BYDAY=-1SU;BYMONTH=10
TZNAME:CET
TZOFFSETFROM:+0200
TZOFFSETTO:+0100
END:STANDARD
END:VTIMEZONE
END:VCALENDAR
