BEGIN:VCALENDAR
VERSION:2.0
PRODID:-//destination.one//NONSGML destination.meta API//DE
X-WR-CALDESC:A calendar powered by destination.meta
X-WR-CALNAME:teutonavigator Kalender via destination.meta
BEGIN:VEVENT
CATEGORIES:Brauchtum/Kultur
DESCRIPTION:Seit 2003 wird auf dem Liemker Dorfplatz der Maibaum errichtet.
  Seit dieser Zeit hat sich hier ein sehr schönes Fest entwickelt\, wo jung
  und alt alljährlich zusammen finden.\n\nmehr Informationen unter http://p
 ages.destination.one/de/teutonavigator/streaming/detail/Event/e_100596744/
 maibaumfest-liemke
DTEND;TZID=Europe/Berlin:20230430T235900
DTSTAMP:20260422T144228Z
DTSTART;TZID=Europe/Berlin:20230430T180000
GEO:51.873683;8.613153
LOCATION:Ortszentrum Liemke\, Kaunitzer Straße / Forellenweg\, Schloß Holte
 -Stukenbrock
ORGANIZER;CN=Schützenbruderschaft St. Michael Liemke e.V.:http://www.st-mic
 hael-schuetzen.de/
RRULE:FREQ=YEARLY;BYMONTH=4;BYMONTHDAY=30
SEQUENCE:0
SUMMARY:Maibaumfest Liemke
UID:e_100596744_iv0
URL:http://pages.destination.one/de/teutonavigator/streaming/detail/Event/e
 _100596744/maibaumfest-liemke
END:VEVENT
BEGIN:VTIMEZONE
TZID:Europe/Berlin
X-LIC-LOCATION:Europe/Berlin
BEGIN:DAYLIGHT
DTSTART:19700329T020000
RRULE:FREQ=YEARLY;BYDAY=-1SU;BYMONTH=3
TZNAME:CEST
TZOFFSETFROM:+0100
TZOFFSETTO:+0200
END:DAYLIGHT
BEGIN:STANDARD
DTSTART:19701025T030000
RRULE:FREQ=YEARLY;BYDAY=-1SU;BYMONTH=10
TZNAME:CET
TZOFFSETFROM:+0200
TZOFFSETTO:+0100
END:STANDARD
END:VTIMEZONE
END:VCALENDAR
