BEGIN:VCALENDAR
VERSION:2.0
PRODID:-//destination.one//NONSGML destination.meta API//DE
X-WR-CALDESC:A calendar powered by destination.meta
X-WR-CALNAME:teutonavigator Kalender via destination.meta
BEGIN:VEVENT
CATEGORIES:Ausflug/Exkursion
DESCRIPTION:\n\nmehr Informationen unter http://pages.destination.one/de/te
 utonavigator/streaming/detail/Event/e_100577718/ausflugsfahrt-zum-steinhud
 er-meer
DTEND;TZID=Europe/Berlin:20230410T235900
DTSTAMP:20260419T123655Z
DTSTART;TZID=Europe/Berlin:20230410T130000
GEO:52.286454;8.539621
LOCATION:Landhotel Annelie\, Dorfstr. 9\, Preußisch Oldendorf
ORGANIZER;CN=Lücking Busreiseveranstalter GmbH:mailto:info@luecking-busreis
 en.de
SEQUENCE:0
SUMMARY:Ausflugsfahrt zum Steinhuder Meer
UID:e_100577718_iv0
URL:http://pages.destination.one/de/teutonavigator/streaming/detail/Event/e
 _100577718/ausflugsfahrt-zum-steinhuder-meer
END:VEVENT
BEGIN:VEVENT
CATEGORIES:Ausflug/Exkursion
DESCRIPTION:\n\nmehr Informationen unter http://pages.destination.one/de/te
 utonavigator/streaming/detail/Event/e_100577718/ausflugsfahrt-zum-steinhud
 er-meer
DTEND;TZID=Europe/Berlin:20230501T235900
DTSTAMP:20260419T123655Z
DTSTART;TZID=Europe/Berlin:20230501T130000
GEO:52.286454;8.539621
LOCATION:Landhotel Annelie\, Dorfstr. 9\, Preußisch Oldendorf
ORGANIZER;CN=Lücking Busreiseveranstalter GmbH:mailto:info@luecking-busreis
 en.de
SEQUENCE:0
SUMMARY:Ausflugsfahrt zum Steinhuder Meer
UID:e_100577718_iv1
URL:http://pages.destination.one/de/teutonavigator/streaming/detail/Event/e
 _100577718/ausflugsfahrt-zum-steinhuder-meer
END:VEVENT
BEGIN:VEVENT
CATEGORIES:Ausflug/Exkursion
DESCRIPTION:\n\nmehr Informationen unter http://pages.destination.one/de/te
 utonavigator/streaming/detail/Event/e_100577718/ausflugsfahrt-zum-steinhud
 er-meer
DTEND;TZID=Europe/Berlin:20230529T235900
DTSTAMP:20260419T123655Z
DTSTART;TZID=Europe/Berlin:20230529T130000
GEO:52.286454;8.539621
LOCATION:Landhotel Annelie\, Dorfstr. 9\, Preußisch Oldendorf
ORGANIZER;CN=Lücking Busreiseveranstalter GmbH:mailto:info@luecking-busreis
 en.de
SEQUENCE:0
SUMMARY:Ausflugsfahrt zum Steinhuder Meer
UID:e_100577718_iv2
URL:http://pages.destination.one/de/teutonavigator/streaming/detail/Event/e
 _100577718/ausflugsfahrt-zum-steinhuder-meer
END:VEVENT
BEGIN:VEVENT
CATEGORIES:Ausflug/Exkursion
DESCRIPTION:\n\nmehr Informationen unter http://pages.destination.one/de/te
 utonavigator/streaming/detail/Event/e_100577718/ausflugsfahrt-zum-steinhud
 er-meer
DTEND;TZID=Europe/Berlin:20230724T235900
DTSTAMP:20260419T123655Z
DTSTART;TZID=Europe/Berlin:20230724T130000
GEO:52.286454;8.539621
LOCATION:Landhotel Annelie\, Dorfstr. 9\, Preußisch Oldendorf
ORGANIZER;CN=Lücking Busreiseveranstalter GmbH:mailto:info@luecking-busreis
 en.de
SEQUENCE:0
SUMMARY:Ausflugsfahrt zum Steinhuder Meer
UID:e_100577718_iv3
URL:http://pages.destination.one/de/teutonavigator/streaming/detail/Event/e
 _100577718/ausflugsfahrt-zum-steinhuder-meer
END:VEVENT
BEGIN:VEVENT
CATEGORIES:Ausflug/Exkursion
DESCRIPTION:\n\nmehr Informationen unter http://pages.destination.one/de/te
 utonavigator/streaming/detail/Event/e_100577718/ausflugsfahrt-zum-steinhud
 er-meer
DTEND;TZID=Europe/Berlin:20230821T235900
DTSTAMP:20260419T123655Z
DTSTART;TZID=Europe/Berlin:20230821T130000
GEO:52.286454;8.539621
LOCATION:Landhotel Annelie\, Dorfstr. 9\, Preußisch Oldendorf
ORGANIZER;CN=Lücking Busreiseveranstalter GmbH:mailto:info@luecking-busreis
 en.de
SEQUENCE:0
SUMMARY:Ausflugsfahrt zum Steinhuder Meer
UID:e_100577718_iv4
URL:http://pages.destination.one/de/teutonavigator/streaming/detail/Event/e
 _100577718/ausflugsfahrt-zum-steinhuder-meer
END:VEVENT
BEGIN:VEVENT
CATEGORIES:Ausflug/Exkursion
DESCRIPTION:\n\nmehr Informationen unter http://pages.destination.one/de/te
 utonavigator/streaming/detail/Event/e_100577718/ausflugsfahrt-zum-steinhud
 er-meer
DTEND;TZID=Europe/Berlin:20240408T235900
DTSTAMP:20260419T123655Z
DTSTART;TZID=Europe/Berlin:20240408T130000
GEO:52.286454;8.539621
LOCATION:Landhotel Annelie\, Dorfstr. 9\, Preußisch Oldendorf
ORGANIZER;CN=Lücking Busreiseveranstalter GmbH:mailto:info@luecking-busreis
 en.de
SEQUENCE:0
SUMMARY:Ausflugsfahrt zum Steinhuder Meer
UID:e_100577718_iv5
URL:http://pages.destination.one/de/teutonavigator/streaming/detail/Event/e
 _100577718/ausflugsfahrt-zum-steinhuder-meer
END:VEVENT
BEGIN:VEVENT
CATEGORIES:Ausflug/Exkursion
DESCRIPTION:\n\nmehr Informationen unter http://pages.destination.one/de/te
 utonavigator/streaming/detail/Event/e_100577718/ausflugsfahrt-zum-steinhud
 er-meer
DTEND;TZID=Europe/Berlin:20240429T235900
DTSTAMP:20260419T123655Z
DTSTART;TZID=Europe/Berlin:20240429T130000
GEO:52.286454;8.539621
LOCATION:Landhotel Annelie\, Dorfstr. 9\, Preußisch Oldendorf
ORGANIZER;CN=Lücking Busreiseveranstalter GmbH:mailto:info@luecking-busreis
 en.de
SEQUENCE:0
SUMMARY:Ausflugsfahrt zum Steinhuder Meer
UID:e_100577718_iv6
URL:http://pages.destination.one/de/teutonavigator/streaming/detail/Event/e
 _100577718/ausflugsfahrt-zum-steinhuder-meer
END:VEVENT
BEGIN:VEVENT
CATEGORIES:Ausflug/Exkursion
DESCRIPTION:\n\nmehr Informationen unter http://pages.destination.one/de/te
 utonavigator/streaming/detail/Event/e_100577718/ausflugsfahrt-zum-steinhud
 er-meer
DTEND;TZID=Europe/Berlin:20240520T235900
DTSTAMP:20260419T123655Z
DTSTART;TZID=Europe/Berlin:20240520T130000
GEO:52.286454;8.539621
LOCATION:Landhotel Annelie\, Dorfstr. 9\, Preußisch Oldendorf
ORGANIZER;CN=Lücking Busreiseveranstalter GmbH:mailto:info@luecking-busreis
 en.de
SEQUENCE:0
SUMMARY:Ausflugsfahrt zum Steinhuder Meer
UID:e_100577718_iv7
URL:http://pages.destination.one/de/teutonavigator/streaming/detail/Event/e
 _100577718/ausflugsfahrt-zum-steinhuder-meer
END:VEVENT
BEGIN:VEVENT
CATEGORIES:Ausflug/Exkursion
DESCRIPTION:\n\nmehr Informationen unter http://pages.destination.one/de/te
 utonavigator/streaming/detail/Event/e_100577718/ausflugsfahrt-zum-steinhud
 er-meer
DTEND;TZID=Europe/Berlin:20240722T235900
DTSTAMP:20260419T123655Z
DTSTART;TZID=Europe/Berlin:20240722T130000
GEO:52.286454;8.539621
LOCATION:Landhotel Annelie\, Dorfstr. 9\, Preußisch Oldendorf
ORGANIZER;CN=Lücking Busreiseveranstalter GmbH:mailto:info@luecking-busreis
 en.de
SEQUENCE:0
SUMMARY:Ausflugsfahrt zum Steinhuder Meer
UID:e_100577718_iv8
URL:http://pages.destination.one/de/teutonavigator/streaming/detail/Event/e
 _100577718/ausflugsfahrt-zum-steinhuder-meer
END:VEVENT
BEGIN:VEVENT
CATEGORIES:Ausflug/Exkursion
DESCRIPTION:\n\nmehr Informationen unter http://pages.destination.one/de/te
 utonavigator/streaming/detail/Event/e_100577718/ausflugsfahrt-zum-steinhud
 er-meer
DTEND;TZID=Europe/Berlin:20240819T235900
DTSTAMP:20260419T123655Z
DTSTART;TZID=Europe/Berlin:20240819T130000
GEO:52.286454;8.539621
LOCATION:Landhotel Annelie\, Dorfstr. 9\, Preußisch Oldendorf
ORGANIZER;CN=Lücking Busreiseveranstalter GmbH:mailto:info@luecking-busreis
 en.de
SEQUENCE:0
SUMMARY:Ausflugsfahrt zum Steinhuder Meer
UID:e_100577718_iv9
URL:http://pages.destination.one/de/teutonavigator/streaming/detail/Event/e
 _100577718/ausflugsfahrt-zum-steinhuder-meer
END:VEVENT
BEGIN:VEVENT
CATEGORIES:Ausflug/Exkursion
DESCRIPTION:\n\nmehr Informationen unter http://pages.destination.one/de/te
 utonavigator/streaming/detail/Event/e_100577718/ausflugsfahrt-zum-steinhud
 er-meer
DTEND;TZID=Europe/Berlin:20250414T235900
DTSTAMP:20260419T123655Z
DTSTART;TZID=Europe/Berlin:20250414T130000
GEO:52.286454;8.539621
LOCATION:Landhotel Annelie\, Dorfstr. 9\, Preußisch Oldendorf
ORGANIZER;CN=Lücking Busreiseveranstalter GmbH:mailto:info@luecking-busreis
 en.de
SEQUENCE:0
SUMMARY:Ausflugsfahrt zum Steinhuder Meer
UID:e_100577718_iv10
URL:http://pages.destination.one/de/teutonavigator/streaming/detail/Event/e
 _100577718/ausflugsfahrt-zum-steinhuder-meer
END:VEVENT
BEGIN:VEVENT
CATEGORIES:Ausflug/Exkursion
DESCRIPTION:\n\nmehr Informationen unter http://pages.destination.one/de/te
 utonavigator/streaming/detail/Event/e_100577718/ausflugsfahrt-zum-steinhud
 er-meer
DTEND;TZID=Europe/Berlin:20250505T235900
DTSTAMP:20260419T123655Z
DTSTART;TZID=Europe/Berlin:20250505T130000
GEO:52.286454;8.539621
LOCATION:Landhotel Annelie\, Dorfstr. 9\, Preußisch Oldendorf
ORGANIZER;CN=Lücking Busreiseveranstalter GmbH:mailto:info@luecking-busreis
 en.de
SEQUENCE:0
SUMMARY:Ausflugsfahrt zum Steinhuder Meer
UID:e_100577718_iv11
URL:http://pages.destination.one/de/teutonavigator/streaming/detail/Event/e
 _100577718/ausflugsfahrt-zum-steinhuder-meer
END:VEVENT
BEGIN:VEVENT
CATEGORIES:Ausflug/Exkursion
DESCRIPTION:\n\nmehr Informationen unter http://pages.destination.one/de/te
 utonavigator/streaming/detail/Event/e_100577718/ausflugsfahrt-zum-steinhud
 er-meer
DTEND;TZID=Europe/Berlin:20250526T235900
DTSTAMP:20260419T123655Z
DTSTART;TZID=Europe/Berlin:20250526T130000
GEO:52.286454;8.539621
LOCATION:Landhotel Annelie\, Dorfstr. 9\, Preußisch Oldendorf
ORGANIZER;CN=Lücking Busreiseveranstalter GmbH:mailto:info@luecking-busreis
 en.de
SEQUENCE:0
SUMMARY:Ausflugsfahrt zum Steinhuder Meer
UID:e_100577718_iv12
URL:http://pages.destination.one/de/teutonavigator/streaming/detail/Event/e
 _100577718/ausflugsfahrt-zum-steinhuder-meer
END:VEVENT
BEGIN:VEVENT
CATEGORIES:Ausflug/Exkursion
DESCRIPTION:\n\nmehr Informationen unter http://pages.destination.one/de/te
 utonavigator/streaming/detail/Event/e_100577718/ausflugsfahrt-zum-steinhud
 er-meer
DTEND;TZID=Europe/Berlin:20250728T235900
DTSTAMP:20260419T123655Z
DTSTART;TZID=Europe/Berlin:20250728T130000
GEO:52.286454;8.539621
LOCATION:Landhotel Annelie\, Dorfstr. 9\, Preußisch Oldendorf
ORGANIZER;CN=Lücking Busreiseveranstalter GmbH:mailto:info@luecking-busreis
 en.de
SEQUENCE:0
SUMMARY:Ausflugsfahrt zum Steinhuder Meer
UID:e_100577718_iv13
URL:http://pages.destination.one/de/teutonavigator/streaming/detail/Event/e
 _100577718/ausflugsfahrt-zum-steinhuder-meer
END:VEVENT
BEGIN:VEVENT
CATEGORIES:Ausflug/Exkursion
DESCRIPTION:\n\nmehr Informationen unter http://pages.destination.one/de/te
 utonavigator/streaming/detail/Event/e_100577718/ausflugsfahrt-zum-steinhud
 er-meer
DTEND;TZID=Europe/Berlin:20250825T235900
DTSTAMP:20260419T123655Z
DTSTART;TZID=Europe/Berlin:20250825T130000
GEO:52.286454;8.539621
LOCATION:Landhotel Annelie\, Dorfstr. 9\, Preußisch Oldendorf
ORGANIZER;CN=Lücking Busreiseveranstalter GmbH:mailto:info@luecking-busreis
 en.de
SEQUENCE:0
SUMMARY:Ausflugsfahrt zum Steinhuder Meer
UID:e_100577718_iv14
URL:http://pages.destination.one/de/teutonavigator/streaming/detail/Event/e
 _100577718/ausflugsfahrt-zum-steinhuder-meer
END:VEVENT
BEGIN:VEVENT
CATEGORIES:Ausflug/Exkursion
DESCRIPTION:\n\nmehr Informationen unter http://pages.destination.one/de/te
 utonavigator/streaming/detail/Event/e_100577718/ausflugsfahrt-zum-steinhud
 er-meer
DTEND;TZID=Europe/Berlin:20260406T235900
DTSTAMP:20260419T123655Z
DTSTART;TZID=Europe/Berlin:20260406T130000
GEO:52.286454;8.539621
LOCATION:Landhotel Annelie\, Dorfstr. 9\, Preußisch Oldendorf
ORGANIZER;CN=Lücking Busreiseveranstalter GmbH:mailto:info@luecking-busreis
 en.de
SEQUENCE:0
SUMMARY:Ausflugsfahrt zum Steinhuder Meer
UID:e_100577718_iv15
URL:http://pages.destination.one/de/teutonavigator/streaming/detail/Event/e
 _100577718/ausflugsfahrt-zum-steinhuder-meer
END:VEVENT
BEGIN:VEVENT
CATEGORIES:Ausflug/Exkursion
DESCRIPTION:\n\nmehr Informationen unter http://pages.destination.one/de/te
 utonavigator/streaming/detail/Event/e_100577718/ausflugsfahrt-zum-steinhud
 er-meer
DTEND;TZID=Europe/Berlin:20260504T235900
DTSTAMP:20260419T123655Z
DTSTART;TZID=Europe/Berlin:20260504T130000
GEO:52.286454;8.539621
LOCATION:Landhotel Annelie\, Dorfstr. 9\, Preußisch Oldendorf
ORGANIZER;CN=Lücking Busreiseveranstalter GmbH:mailto:info@luecking-busreis
 en.de
SEQUENCE:0
SUMMARY:Ausflugsfahrt zum Steinhuder Meer
UID:e_100577718_iv16
URL:http://pages.destination.one/de/teutonavigator/streaming/detail/Event/e
 _100577718/ausflugsfahrt-zum-steinhuder-meer
END:VEVENT
BEGIN:VEVENT
CATEGORIES:Ausflug/Exkursion
DESCRIPTION:\n\nmehr Informationen unter http://pages.destination.one/de/te
 utonavigator/streaming/detail/Event/e_100577718/ausflugsfahrt-zum-steinhud
 er-meer
DTEND;TZID=Europe/Berlin:20260525T235900
DTSTAMP:20260419T123655Z
DTSTART;TZID=Europe/Berlin:20260525T130000
GEO:52.286454;8.539621
LOCATION:Landhotel Annelie\, Dorfstr. 9\, Preußisch Oldendorf
ORGANIZER;CN=Lücking Busreiseveranstalter GmbH:mailto:info@luecking-busreis
 en.de
SEQUENCE:0
SUMMARY:Ausflugsfahrt zum Steinhuder Meer
UID:e_100577718_iv17
URL:http://pages.destination.one/de/teutonavigator/streaming/detail/Event/e
 _100577718/ausflugsfahrt-zum-steinhuder-meer
END:VEVENT
BEGIN:VEVENT
CATEGORIES:Ausflug/Exkursion
DESCRIPTION:\n\nmehr Informationen unter http://pages.destination.one/de/te
 utonavigator/streaming/detail/Event/e_100577718/ausflugsfahrt-zum-steinhud
 er-meer
DTEND;TZID=Europe/Berlin:20260727T235900
DTSTAMP:20260419T123655Z
DTSTART;TZID=Europe/Berlin:20260727T130000
GEO:52.286454;8.539621
LOCATION:Landhotel Annelie\, Dorfstr. 9\, Preußisch Oldendorf
ORGANIZER;CN=Lücking Busreiseveranstalter GmbH:mailto:info@luecking-busreis
 en.de
SEQUENCE:0
SUMMARY:Ausflugsfahrt zum Steinhuder Meer
UID:e_100577718_iv18
URL:http://pages.destination.one/de/teutonavigator/streaming/detail/Event/e
 _100577718/ausflugsfahrt-zum-steinhuder-meer
END:VEVENT
BEGIN:VEVENT
CATEGORIES:Ausflug/Exkursion
DESCRIPTION:\n\nmehr Informationen unter http://pages.destination.one/de/te
 utonavigator/streaming/detail/Event/e_100577718/ausflugsfahrt-zum-steinhud
 er-meer
DTEND;TZID=Europe/Berlin:20260824T235900
DTSTAMP:20260419T123655Z
DTSTART;TZID=Europe/Berlin:20260824T130000
GEO:52.286454;8.539621
LOCATION:Landhotel Annelie\, Dorfstr. 9\, Preußisch Oldendorf
ORGANIZER;CN=Lücking Busreiseveranstalter GmbH:mailto:info@luecking-busreis
 en.de
SEQUENCE:0
SUMMARY:Ausflugsfahrt zum Steinhuder Meer
UID:e_100577718_iv19
URL:http://pages.destination.one/de/teutonavigator/streaming/detail/Event/e
 _100577718/ausflugsfahrt-zum-steinhuder-meer
END:VEVENT
BEGIN:VTIMEZONE
TZID:Europe/Berlin
X-LIC-LOCATION:Europe/Berlin
BEGIN:DAYLIGHT
DTSTART:19700329T020000
RRULE:FREQ=YEARLY;BYDAY=-1SU;BYMONTH=3
TZNAME:CEST
TZOFFSETFROM:+0100
TZOFFSETTO:+0200
END:DAYLIGHT
BEGIN:STANDARD
DTSTART:19701025T030000
RRULE:FREQ=YEARLY;BYDAY=-1SU;BYMONTH=10
TZNAME:CET
TZOFFSETFROM:+0200
TZOFFSETTO:+0100
END:STANDARD
END:VTIMEZONE
END:VCALENDAR
