BEGIN:VCALENDAR
VERSION:2.0
PRODID:-//destination.one//NONSGML destination.meta API//DE
X-WR-CALDESC:A calendar powered by destination.meta
X-WR-CALNAME:teutonavigator Kalender via destination.meta
BEGIN:VEVENT
CATEGORIES:Festival/Open-Air
CATEGORIES:Klassisch
DESCRIPTION:Das Stimmenfestival VOICES gehört zweifelsohne zu den bekanntes
 ten und beliebtesten Veranstaltungsreihen in Ostwestfalen-Lippe. Ein Grund
  dafür ist sicherlich der abwechslungsreiche und künstlerisch hoch attrakt
 ive Spielplan\, der sich an viele  Kulturfreunde richtet und elitäre Klass
 ikkonzerte weit hinter sich lässt. Große Orchesterkonzerte sind ebenso dab
 ei wie Liederabende\, musikalisches Kabarett\, Jazz\, Pop\, Musical\, Fami
 lienkonzerte oder Kammermusik.\n\nmehr Informationen unter http://pages.de
 stination.one/de/teutonavigator/streaming/detail/Event/e_100568284/voices-
 internationales-stimmenfestival
DTEND;TZID=Europe/Berlin:20250627T230000
DTSTAMP:20260421T181551Z
DTSTART;TZID=Europe/Berlin:20250627T193000
GEO:51.791086;9.136333
LOCATION:Gut Holzhausen\, Gutshof 1\, Nieheim
ORGANIZER;CN=KulturGut Holzhausen e.V.:mailto:info@voices-holzhausen.de
SEQUENCE:0
SUMMARY:Voices Internationales Stimmenfestival
UID:e_100568284_iv0
URL:http://pages.destination.one/de/teutonavigator/streaming/detail/Event/e
 _100568284/voices-internationales-stimmenfestival
END:VEVENT
BEGIN:VEVENT
CATEGORIES:Festival/Open-Air
CATEGORIES:Klassisch
DESCRIPTION:Das Stimmenfestival VOICES gehört zweifelsohne zu den bekanntes
 ten und beliebtesten Veranstaltungsreihen in Ostwestfalen-Lippe. Ein Grund
  dafür ist sicherlich der abwechslungsreiche und künstlerisch hoch attrakt
 ive Spielplan\, der sich an viele  Kulturfreunde richtet und elitäre Klass
 ikkonzerte weit hinter sich lässt. Große Orchesterkonzerte sind ebenso dab
 ei wie Liederabende\, musikalisches Kabarett\, Jazz\, Pop\, Musical\, Fami
 lienkonzerte oder Kammermusik.\n\nmehr Informationen unter http://pages.de
 stination.one/de/teutonavigator/streaming/detail/Event/e_100568284/voices-
 internationales-stimmenfestival
DTEND;TZID=Europe/Berlin:20250628T230000
DTSTAMP:20260421T181551Z
DTSTART;TZID=Europe/Berlin:20250628T193000
GEO:51.791086;9.136333
LOCATION:Gut Holzhausen\, Gutshof 1\, Nieheim
ORGANIZER;CN=KulturGut Holzhausen e.V.:mailto:info@voices-holzhausen.de
SEQUENCE:0
SUMMARY:Voices Internationales Stimmenfestival
UID:e_100568284_iv1
URL:http://pages.destination.one/de/teutonavigator/streaming/detail/Event/e
 _100568284/voices-internationales-stimmenfestival
END:VEVENT
BEGIN:VEVENT
CATEGORIES:Festival/Open-Air
CATEGORIES:Klassisch
DESCRIPTION:Das Stimmenfestival VOICES gehört zweifelsohne zu den bekanntes
 ten und beliebtesten Veranstaltungsreihen in Ostwestfalen-Lippe. Ein Grund
  dafür ist sicherlich der abwechslungsreiche und künstlerisch hoch attrakt
 ive Spielplan\, der sich an viele  Kulturfreunde richtet und elitäre Klass
 ikkonzerte weit hinter sich lässt. Große Orchesterkonzerte sind ebenso dab
 ei wie Liederabende\, musikalisches Kabarett\, Jazz\, Pop\, Musical\, Fami
 lienkonzerte oder Kammermusik.\n\nmehr Informationen unter http://pages.de
 stination.one/de/teutonavigator/streaming/detail/Event/e_100568284/voices-
 internationales-stimmenfestival
DTEND;TZID=Europe/Berlin:20250629T160000
DTSTAMP:20260421T181551Z
DTSTART;TZID=Europe/Berlin:20250629T110000
GEO:51.791086;9.136333
LOCATION:Gut Holzhausen\, Gutshof 1\, Nieheim
ORGANIZER;CN=KulturGut Holzhausen e.V.:mailto:info@voices-holzhausen.de
SEQUENCE:0
SUMMARY:Voices Internationales Stimmenfestival
UID:e_100568284_iv2
URL:http://pages.destination.one/de/teutonavigator/streaming/detail/Event/e
 _100568284/voices-internationales-stimmenfestival
END:VEVENT
BEGIN:VEVENT
CATEGORIES:Festival/Open-Air
CATEGORIES:Klassisch
DESCRIPTION:Das Stimmenfestival VOICES gehört zweifelsohne zu den bekanntes
 ten und beliebtesten Veranstaltungsreihen in Ostwestfalen-Lippe. Ein Grund
  dafür ist sicherlich der abwechslungsreiche und künstlerisch hoch attrakt
 ive Spielplan\, der sich an viele  Kulturfreunde richtet und elitäre Klass
 ikkonzerte weit hinter sich lässt. Große Orchesterkonzerte sind ebenso dab
 ei wie Liederabende\, musikalisches Kabarett\, Jazz\, Pop\, Musical\, Fami
 lienkonzerte oder Kammermusik.\n\nmehr Informationen unter http://pages.de
 stination.one/de/teutonavigator/streaming/detail/Event/e_100568284/voices-
 internationales-stimmenfestival
DTEND;TZID=Europe/Berlin:20250629T200000
DTSTAMP:20260421T181551Z
DTSTART;TZID=Europe/Berlin:20250629T170000
GEO:51.791086;9.136333
LOCATION:Gut Holzhausen\, Gutshof 1\, Nieheim
ORGANIZER;CN=KulturGut Holzhausen e.V.:mailto:info@voices-holzhausen.de
SEQUENCE:0
SUMMARY:Voices Internationales Stimmenfestival
UID:e_100568284_iv3
URL:http://pages.destination.one/de/teutonavigator/streaming/detail/Event/e
 _100568284/voices-internationales-stimmenfestival
END:VEVENT
BEGIN:VEVENT
CATEGORIES:Festival/Open-Air
CATEGORIES:Klassisch
DESCRIPTION:Das Stimmenfestival VOICES gehört zweifelsohne zu den bekanntes
 ten und beliebtesten Veranstaltungsreihen in Ostwestfalen-Lippe. Ein Grund
  dafür ist sicherlich der abwechslungsreiche und künstlerisch hoch attrakt
 ive Spielplan\, der sich an viele  Kulturfreunde richtet und elitäre Klass
 ikkonzerte weit hinter sich lässt. Große Orchesterkonzerte sind ebenso dab
 ei wie Liederabende\, musikalisches Kabarett\, Jazz\, Pop\, Musical\, Fami
 lienkonzerte oder Kammermusik.\n\nmehr Informationen unter http://pages.de
 stination.one/de/teutonavigator/streaming/detail/Event/e_100568284/voices-
 internationales-stimmenfestival
DTEND;TZID=Europe/Berlin:20250702T230000
DTSTAMP:20260421T181551Z
DTSTART;TZID=Europe/Berlin:20250702T193000
GEO:51.791086;9.136333
LOCATION:Gut Holzhausen\, Gutshof 1\, Nieheim
ORGANIZER;CN=KulturGut Holzhausen e.V.:mailto:info@voices-holzhausen.de
SEQUENCE:0
SUMMARY:Voices Internationales Stimmenfestival
UID:e_100568284_iv4
URL:http://pages.destination.one/de/teutonavigator/streaming/detail/Event/e
 _100568284/voices-internationales-stimmenfestival
END:VEVENT
BEGIN:VEVENT
CATEGORIES:Festival/Open-Air
CATEGORIES:Klassisch
DESCRIPTION:Das Stimmenfestival VOICES gehört zweifelsohne zu den bekanntes
 ten und beliebtesten Veranstaltungsreihen in Ostwestfalen-Lippe. Ein Grund
  dafür ist sicherlich der abwechslungsreiche und künstlerisch hoch attrakt
 ive Spielplan\, der sich an viele  Kulturfreunde richtet und elitäre Klass
 ikkonzerte weit hinter sich lässt. Große Orchesterkonzerte sind ebenso dab
 ei wie Liederabende\, musikalisches Kabarett\, Jazz\, Pop\, Musical\, Fami
 lienkonzerte oder Kammermusik.\n\nmehr Informationen unter http://pages.de
 stination.one/de/teutonavigator/streaming/detail/Event/e_100568284/voices-
 internationales-stimmenfestival
DTEND;TZID=Europe/Berlin:20250703T230000
DTSTAMP:20260421T181551Z
DTSTART;TZID=Europe/Berlin:20250703T193000
GEO:51.791086;9.136333
LOCATION:Gut Holzhausen\, Gutshof 1\, Nieheim
ORGANIZER;CN=KulturGut Holzhausen e.V.:mailto:info@voices-holzhausen.de
SEQUENCE:0
SUMMARY:Voices Internationales Stimmenfestival
UID:e_100568284_iv5
URL:http://pages.destination.one/de/teutonavigator/streaming/detail/Event/e
 _100568284/voices-internationales-stimmenfestival
END:VEVENT
BEGIN:VEVENT
CATEGORIES:Festival/Open-Air
CATEGORIES:Klassisch
DESCRIPTION:Das Stimmenfestival VOICES gehört zweifelsohne zu den bekanntes
 ten und beliebtesten Veranstaltungsreihen in Ostwestfalen-Lippe. Ein Grund
  dafür ist sicherlich der abwechslungsreiche und künstlerisch hoch attrakt
 ive Spielplan\, der sich an viele  Kulturfreunde richtet und elitäre Klass
 ikkonzerte weit hinter sich lässt. Große Orchesterkonzerte sind ebenso dab
 ei wie Liederabende\, musikalisches Kabarett\, Jazz\, Pop\, Musical\, Fami
 lienkonzerte oder Kammermusik.\n\nmehr Informationen unter http://pages.de
 stination.one/de/teutonavigator/streaming/detail/Event/e_100568284/voices-
 internationales-stimmenfestival
DTEND;TZID=Europe/Berlin:20250704T230000
DTSTAMP:20260421T181551Z
DTSTART;TZID=Europe/Berlin:20250704T193000
GEO:51.791086;9.136333
LOCATION:Gut Holzhausen\, Gutshof 1\, Nieheim
ORGANIZER;CN=KulturGut Holzhausen e.V.:mailto:info@voices-holzhausen.de
SEQUENCE:0
SUMMARY:Voices Internationales Stimmenfestival
UID:e_100568284_iv6
URL:http://pages.destination.one/de/teutonavigator/streaming/detail/Event/e
 _100568284/voices-internationales-stimmenfestival
END:VEVENT
BEGIN:VEVENT
CATEGORIES:Festival/Open-Air
CATEGORIES:Klassisch
DESCRIPTION:Das Stimmenfestival VOICES gehört zweifelsohne zu den bekanntes
 ten und beliebtesten Veranstaltungsreihen in Ostwestfalen-Lippe. Ein Grund
  dafür ist sicherlich der abwechslungsreiche und künstlerisch hoch attrakt
 ive Spielplan\, der sich an viele  Kulturfreunde richtet und elitäre Klass
 ikkonzerte weit hinter sich lässt. Große Orchesterkonzerte sind ebenso dab
 ei wie Liederabende\, musikalisches Kabarett\, Jazz\, Pop\, Musical\, Fami
 lienkonzerte oder Kammermusik.\n\nmehr Informationen unter http://pages.de
 stination.one/de/teutonavigator/streaming/detail/Event/e_100568284/voices-
 internationales-stimmenfestival
DTEND;TZID=Europe/Berlin:20250705T230000
DTSTAMP:20260421T181551Z
DTSTART;TZID=Europe/Berlin:20250705T193000
GEO:51.791086;9.136333
LOCATION:Gut Holzhausen\, Gutshof 1\, Nieheim
ORGANIZER;CN=KulturGut Holzhausen e.V.:mailto:info@voices-holzhausen.de
SEQUENCE:0
SUMMARY:Voices Internationales Stimmenfestival
UID:e_100568284_iv7
URL:http://pages.destination.one/de/teutonavigator/streaming/detail/Event/e
 _100568284/voices-internationales-stimmenfestival
END:VEVENT
BEGIN:VEVENT
CATEGORIES:Festival/Open-Air
CATEGORIES:Klassisch
DESCRIPTION:Das Stimmenfestival VOICES gehört zweifelsohne zu den bekanntes
 ten und beliebtesten Veranstaltungsreihen in Ostwestfalen-Lippe. Ein Grund
  dafür ist sicherlich der abwechslungsreiche und künstlerisch hoch attrakt
 ive Spielplan\, der sich an viele  Kulturfreunde richtet und elitäre Klass
 ikkonzerte weit hinter sich lässt. Große Orchesterkonzerte sind ebenso dab
 ei wie Liederabende\, musikalisches Kabarett\, Jazz\, Pop\, Musical\, Fami
 lienkonzerte oder Kammermusik.\n\nmehr Informationen unter http://pages.de
 stination.one/de/teutonavigator/streaming/detail/Event/e_100568284/voices-
 internationales-stimmenfestival
DTEND;TZID=Europe/Berlin;VALUE=DATE:20260627
DTSTAMP:20260421T181551Z
DTSTART;TZID=Europe/Berlin;VALUE=DATE:20260626
GEO:51.791086;9.136333
LOCATION:Gut Holzhausen\, Gutshof 1\, Nieheim
ORGANIZER;CN=KulturGut Holzhausen e.V.:mailto:info@voices-holzhausen.de
RRULE:FREQ=DAILY;UNTIL=20260703T220000
SEQUENCE:0
SUMMARY:Voices Internationales Stimmenfestival
UID:e_100568284_iv8
URL:http://pages.destination.one/de/teutonavigator/streaming/detail/Event/e
 _100568284/voices-internationales-stimmenfestival
END:VEVENT
BEGIN:VTIMEZONE
TZID:Europe/Berlin
X-LIC-LOCATION:Europe/Berlin
BEGIN:DAYLIGHT
DTSTART:19700329T020000
RRULE:FREQ=YEARLY;BYDAY=-1SU;BYMONTH=3
TZNAME:CEST
TZOFFSETFROM:+0100
TZOFFSETTO:+0200
END:DAYLIGHT
BEGIN:STANDARD
DTSTART:19701025T030000
RRULE:FREQ=YEARLY;BYDAY=-1SU;BYMONTH=10
TZNAME:CET
TZOFFSETFROM:+0200
TZOFFSETTO:+0100
END:STANDARD
END:VTIMEZONE
END:VCALENDAR
