BEGIN:VCALENDAR
VERSION:2.0
PRODID:-//destination.one//NONSGML destination.meta API//DE
X-WR-CALDESC:A calendar powered by destination.meta
X-WR-CALNAME:teutonavigator Kalender via destination.meta
BEGIN:VEVENT
CATEGORIES:Festival/Open-Air
DESCRIPTION:Coole Beats\, nette Leute und entspanntes Feiern unter freiem H
 immel das Frotheim Open Air geht in die nächste Runde.\n\nmehr Information
 en unter http://pages.destination.one/de/teutonavigator/streaming/detail/E
 vent/e_100562024/frotheim-open-air-umsomst-und-drau-en
DTEND;TZID=Europe/Berlin:20230513T235900
DTSTAMP:20260421T190657Z
DTSTART;TZID=Europe/Berlin:20230513T150000
GEO:52.334874;8.693930
LOCATION:Hof Riechmann\, Stellerieger Str. 48\, Espelkamp
SEQUENCE:0
SUMMARY:Frotheim Open Air: Umsomst und Draußen
UID:e_100562024_iv0
URL:http://pages.destination.one/de/teutonavigator/streaming/detail/Event/e
 _100562024/frotheim-open-air-umsomst-und-drau-en
END:VEVENT
BEGIN:VEVENT
CATEGORIES:Festival/Open-Air
DESCRIPTION:Coole Beats\, nette Leute und entspanntes Feiern unter freiem H
 immel das Frotheim Open Air geht in die nächste Runde.\n\nmehr Information
 en unter http://pages.destination.one/de/teutonavigator/streaming/detail/E
 vent/e_100562024/frotheim-open-air-umsomst-und-drau-en
DTEND;TZID=Europe/Berlin:20240525T235900
DTSTAMP:20260421T190657Z
DTSTART;TZID=Europe/Berlin:20240525T150000
GEO:52.334874;8.693930
LOCATION:Hof Riechmann\, Stellerieger Str. 48\, Espelkamp
SEQUENCE:0
SUMMARY:Frotheim Open Air: Umsomst und Draußen
UID:e_100562024_iv1
URL:http://pages.destination.one/de/teutonavigator/streaming/detail/Event/e
 _100562024/frotheim-open-air-umsomst-und-drau-en
END:VEVENT
BEGIN:VEVENT
CATEGORIES:Festival/Open-Air
DESCRIPTION:Coole Beats\, nette Leute und entspanntes Feiern unter freiem H
 immel das Frotheim Open Air geht in die nächste Runde.\n\nmehr Information
 en unter http://pages.destination.one/de/teutonavigator/streaming/detail/E
 vent/e_100562024/frotheim-open-air-umsomst-und-drau-en
DTEND;TZID=Europe/Berlin:20250524T235900
DTSTAMP:20260421T190657Z
DTSTART;TZID=Europe/Berlin:20250524T150000
GEO:52.334874;8.693930
LOCATION:Hof Riechmann\, Stellerieger Str. 48\, Espelkamp
SEQUENCE:0
SUMMARY:Frotheim Open Air: Umsomst und Draußen
UID:e_100562024_iv2
URL:http://pages.destination.one/de/teutonavigator/streaming/detail/Event/e
 _100562024/frotheim-open-air-umsomst-und-drau-en
END:VEVENT
BEGIN:VEVENT
CATEGORIES:Festival/Open-Air
DESCRIPTION:Coole Beats\, nette Leute und entspanntes Feiern unter freiem H
 immel das Frotheim Open Air geht in die nächste Runde.\n\nmehr Information
 en unter http://pages.destination.one/de/teutonavigator/streaming/detail/E
 vent/e_100562024/frotheim-open-air-umsomst-und-drau-en
DTEND;TZID=Europe/Berlin:20260530T235900
DTSTAMP:20260421T190657Z
DTSTART;TZID=Europe/Berlin:20260530T150000
GEO:52.334874;8.693930
LOCATION:Hof Riechmann\, Stellerieger Str. 48\, Espelkamp
SEQUENCE:0
SUMMARY:Frotheim Open Air: Umsomst und Draußen
UID:e_100562024_iv3
URL:http://pages.destination.one/de/teutonavigator/streaming/detail/Event/e
 _100562024/frotheim-open-air-umsomst-und-drau-en
END:VEVENT
BEGIN:VEVENT
CATEGORIES:Festival/Open-Air
DESCRIPTION:Coole Beats\, nette Leute und entspanntes Feiern unter freiem H
 immel das Frotheim Open Air geht in die nächste Runde.\n\nmehr Information
 en unter http://pages.destination.one/de/teutonavigator/streaming/detail/E
 vent/e_100562024/frotheim-open-air-umsomst-und-drau-en
DTEND;TZID=Europe/Berlin:20260531T235900
DTSTAMP:20260421T190657Z
DTSTART;TZID=Europe/Berlin:20260531T150000
GEO:52.334874;8.693930
LOCATION:Hof Riechmann\, Stellerieger Str. 48\, Espelkamp
SEQUENCE:0
SUMMARY:Frotheim Open Air: Umsomst und Draußen
UID:e_100562024_iv4
URL:http://pages.destination.one/de/teutonavigator/streaming/detail/Event/e
 _100562024/frotheim-open-air-umsomst-und-drau-en
END:VEVENT
BEGIN:VTIMEZONE
TZID:Europe/Berlin
X-LIC-LOCATION:Europe/Berlin
BEGIN:DAYLIGHT
DTSTART:19700329T020000
RRULE:FREQ=YEARLY;BYDAY=-1SU;BYMONTH=3
TZNAME:CEST
TZOFFSETFROM:+0100
TZOFFSETTO:+0200
END:DAYLIGHT
BEGIN:STANDARD
DTSTART:19701025T030000
RRULE:FREQ=YEARLY;BYDAY=-1SU;BYMONTH=10
TZNAME:CET
TZOFFSETFROM:+0200
TZOFFSETTO:+0100
END:STANDARD
END:VTIMEZONE
END:VCALENDAR
