BEGIN:VCALENDAR
VERSION:2.0
PRODID:-//destination.one//NONSGML destination.meta API//DE
X-WR-CALDESC:A calendar powered by destination.meta
X-WR-CALNAME:teutonavigator Kalender via destination.meta
BEGIN:VEVENT
CATEGORIES:Ausflug/Exkursion
DESCRIPTION:\n\nmehr Informationen unter http://pages.destination.one/de/te
 utonavigator/streaming/detail/Event/e_100555095/ausflugsfahrt-nach-bad-sal
 zuflen
DTEND;TZID=Europe/Berlin:20230330T235900
DTSTAMP:20260419T123701Z
DTSTART;TZID=Europe/Berlin:20230330T133000
GEO:52.286454;8.539621
LOCATION:Landhotel Annelie\, Dorfstr. 9\, Preußisch Oldendorf
ORGANIZER;CN=Reisedienst Aschemeyer:mailto:info@aschemeyer.com
SEQUENCE:0
SUMMARY:Ausflugsfahrt nach Bad Salzuflen
UID:e_100555095_iv0
URL:http://pages.destination.one/de/teutonavigator/streaming/detail/Event/e
 _100555095/ausflugsfahrt-nach-bad-salzuflen
END:VEVENT
BEGIN:VEVENT
CATEGORIES:Ausflug/Exkursion
DESCRIPTION:\n\nmehr Informationen unter http://pages.destination.one/de/te
 utonavigator/streaming/detail/Event/e_100555095/ausflugsfahrt-nach-bad-sal
 zuflen
DTEND;TZID=Europe/Berlin:20230504T235900
DTSTAMP:20260419T123701Z
DTSTART;TZID=Europe/Berlin:20230504T133000
GEO:52.286454;8.539621
LOCATION:Landhotel Annelie\, Dorfstr. 9\, Preußisch Oldendorf
ORGANIZER;CN=Reisedienst Aschemeyer:mailto:info@aschemeyer.com
SEQUENCE:0
SUMMARY:Ausflugsfahrt nach Bad Salzuflen
UID:e_100555095_iv1
URL:http://pages.destination.one/de/teutonavigator/streaming/detail/Event/e
 _100555095/ausflugsfahrt-nach-bad-salzuflen
END:VEVENT
BEGIN:VEVENT
CATEGORIES:Ausflug/Exkursion
DESCRIPTION:\n\nmehr Informationen unter http://pages.destination.one/de/te
 utonavigator/streaming/detail/Event/e_100555095/ausflugsfahrt-nach-bad-sal
 zuflen
DTEND;TZID=Europe/Berlin:20230608T235900
DTSTAMP:20260419T123701Z
DTSTART;TZID=Europe/Berlin:20230608T133000
GEO:52.286454;8.539621
LOCATION:Landhotel Annelie\, Dorfstr. 9\, Preußisch Oldendorf
ORGANIZER;CN=Reisedienst Aschemeyer:mailto:info@aschemeyer.com
SEQUENCE:0
SUMMARY:Ausflugsfahrt nach Bad Salzuflen
UID:e_100555095_iv2
URL:http://pages.destination.one/de/teutonavigator/streaming/detail/Event/e
 _100555095/ausflugsfahrt-nach-bad-salzuflen
END:VEVENT
BEGIN:VEVENT
CATEGORIES:Ausflug/Exkursion
DESCRIPTION:\n\nmehr Informationen unter http://pages.destination.one/de/te
 utonavigator/streaming/detail/Event/e_100555095/ausflugsfahrt-nach-bad-sal
 zuflen
DTEND;TZID=Europe/Berlin:20230706T235900
DTSTAMP:20260419T123701Z
DTSTART;TZID=Europe/Berlin:20230706T133000
GEO:52.286454;8.539621
LOCATION:Landhotel Annelie\, Dorfstr. 9\, Preußisch Oldendorf
ORGANIZER;CN=Reisedienst Aschemeyer:mailto:info@aschemeyer.com
SEQUENCE:0
SUMMARY:Ausflugsfahrt nach Bad Salzuflen
UID:e_100555095_iv3
URL:http://pages.destination.one/de/teutonavigator/streaming/detail/Event/e
 _100555095/ausflugsfahrt-nach-bad-salzuflen
END:VEVENT
BEGIN:VEVENT
CATEGORIES:Ausflug/Exkursion
DESCRIPTION:\n\nmehr Informationen unter http://pages.destination.one/de/te
 utonavigator/streaming/detail/Event/e_100555095/ausflugsfahrt-nach-bad-sal
 zuflen
DTEND;TZID=Europe/Berlin:20230803T235900
DTSTAMP:20260419T123701Z
DTSTART;TZID=Europe/Berlin:20230803T133000
GEO:52.286454;8.539621
LOCATION:Landhotel Annelie\, Dorfstr. 9\, Preußisch Oldendorf
ORGANIZER;CN=Reisedienst Aschemeyer:mailto:info@aschemeyer.com
SEQUENCE:0
SUMMARY:Ausflugsfahrt nach Bad Salzuflen
UID:e_100555095_iv4
URL:http://pages.destination.one/de/teutonavigator/streaming/detail/Event/e
 _100555095/ausflugsfahrt-nach-bad-salzuflen
END:VEVENT
BEGIN:VEVENT
CATEGORIES:Ausflug/Exkursion
DESCRIPTION:\n\nmehr Informationen unter http://pages.destination.one/de/te
 utonavigator/streaming/detail/Event/e_100555095/ausflugsfahrt-nach-bad-sal
 zuflen
DTEND;TZID=Europe/Berlin:20230907T235900
DTSTAMP:20260419T123701Z
DTSTART;TZID=Europe/Berlin:20230907T133000
GEO:52.286454;8.539621
LOCATION:Landhotel Annelie\, Dorfstr. 9\, Preußisch Oldendorf
ORGANIZER;CN=Reisedienst Aschemeyer:mailto:info@aschemeyer.com
SEQUENCE:0
SUMMARY:Ausflugsfahrt nach Bad Salzuflen
UID:e_100555095_iv5
URL:http://pages.destination.one/de/teutonavigator/streaming/detail/Event/e
 _100555095/ausflugsfahrt-nach-bad-salzuflen
END:VEVENT
BEGIN:VEVENT
CATEGORIES:Ausflug/Exkursion
DESCRIPTION:\n\nmehr Informationen unter http://pages.destination.one/de/te
 utonavigator/streaming/detail/Event/e_100555095/ausflugsfahrt-nach-bad-sal
 zuflen
DTEND;TZID=Europe/Berlin:20231005T235900
DTSTAMP:20260419T123701Z
DTSTART;TZID=Europe/Berlin:20231005T133000
GEO:52.286454;8.539621
LOCATION:Landhotel Annelie\, Dorfstr. 9\, Preußisch Oldendorf
ORGANIZER;CN=Reisedienst Aschemeyer:mailto:info@aschemeyer.com
SEQUENCE:0
SUMMARY:Ausflugsfahrt nach Bad Salzuflen
UID:e_100555095_iv6
URL:http://pages.destination.one/de/teutonavigator/streaming/detail/Event/e
 _100555095/ausflugsfahrt-nach-bad-salzuflen
END:VEVENT
BEGIN:VEVENT
CATEGORIES:Ausflug/Exkursion
DESCRIPTION:\n\nmehr Informationen unter http://pages.destination.one/de/te
 utonavigator/streaming/detail/Event/e_100555095/ausflugsfahrt-nach-bad-sal
 zuflen
DTEND;TZID=Europe/Berlin:20240328T235900
DTSTAMP:20260419T123701Z
DTSTART;TZID=Europe/Berlin:20240328T133000
GEO:52.286454;8.539621
LOCATION:Landhotel Annelie\, Dorfstr. 9\, Preußisch Oldendorf
ORGANIZER;CN=Reisedienst Aschemeyer:mailto:info@aschemeyer.com
SEQUENCE:0
SUMMARY:Ausflugsfahrt nach Bad Salzuflen
UID:e_100555095_iv7
URL:http://pages.destination.one/de/teutonavigator/streaming/detail/Event/e
 _100555095/ausflugsfahrt-nach-bad-salzuflen
END:VEVENT
BEGIN:VEVENT
CATEGORIES:Ausflug/Exkursion
DESCRIPTION:\n\nmehr Informationen unter http://pages.destination.one/de/te
 utonavigator/streaming/detail/Event/e_100555095/ausflugsfahrt-nach-bad-sal
 zuflen
DTEND;TZID=Europe/Berlin:20240418T235900
DTSTAMP:20260419T123701Z
DTSTART;TZID=Europe/Berlin:20240418T133000
GEO:52.286454;8.539621
LOCATION:Landhotel Annelie\, Dorfstr. 9\, Preußisch Oldendorf
ORGANIZER;CN=Reisedienst Aschemeyer:mailto:info@aschemeyer.com
SEQUENCE:0
SUMMARY:Ausflugsfahrt nach Bad Salzuflen
UID:e_100555095_iv8
URL:http://pages.destination.one/de/teutonavigator/streaming/detail/Event/e
 _100555095/ausflugsfahrt-nach-bad-salzuflen
END:VEVENT
BEGIN:VEVENT
CATEGORIES:Ausflug/Exkursion
DESCRIPTION:\n\nmehr Informationen unter http://pages.destination.one/de/te
 utonavigator/streaming/detail/Event/e_100555095/ausflugsfahrt-nach-bad-sal
 zuflen
DTEND;TZID=Europe/Berlin:20240516T235900
DTSTAMP:20260419T123701Z
DTSTART;TZID=Europe/Berlin:20240516T133000
GEO:52.286454;8.539621
LOCATION:Landhotel Annelie\, Dorfstr. 9\, Preußisch Oldendorf
ORGANIZER;CN=Reisedienst Aschemeyer:mailto:info@aschemeyer.com
SEQUENCE:0
SUMMARY:Ausflugsfahrt nach Bad Salzuflen
UID:e_100555095_iv9
URL:http://pages.destination.one/de/teutonavigator/streaming/detail/Event/e
 _100555095/ausflugsfahrt-nach-bad-salzuflen
END:VEVENT
BEGIN:VEVENT
CATEGORIES:Ausflug/Exkursion
DESCRIPTION:\n\nmehr Informationen unter http://pages.destination.one/de/te
 utonavigator/streaming/detail/Event/e_100555095/ausflugsfahrt-nach-bad-sal
 zuflen
DTEND;TZID=Europe/Berlin:20240620T235900
DTSTAMP:20260419T123701Z
DTSTART;TZID=Europe/Berlin:20240620T133000
GEO:52.286454;8.539621
LOCATION:Landhotel Annelie\, Dorfstr. 9\, Preußisch Oldendorf
ORGANIZER;CN=Reisedienst Aschemeyer:mailto:info@aschemeyer.com
SEQUENCE:0
SUMMARY:Ausflugsfahrt nach Bad Salzuflen
UID:e_100555095_iv10
URL:http://pages.destination.one/de/teutonavigator/streaming/detail/Event/e
 _100555095/ausflugsfahrt-nach-bad-salzuflen
END:VEVENT
BEGIN:VEVENT
CATEGORIES:Ausflug/Exkursion
DESCRIPTION:\n\nmehr Informationen unter http://pages.destination.one/de/te
 utonavigator/streaming/detail/Event/e_100555095/ausflugsfahrt-nach-bad-sal
 zuflen
DTEND;TZID=Europe/Berlin:20240718T235900
DTSTAMP:20260419T123701Z
DTSTART;TZID=Europe/Berlin:20240718T133000
GEO:52.286454;8.539621
LOCATION:Landhotel Annelie\, Dorfstr. 9\, Preußisch Oldendorf
ORGANIZER;CN=Reisedienst Aschemeyer:mailto:info@aschemeyer.com
SEQUENCE:0
SUMMARY:Ausflugsfahrt nach Bad Salzuflen
UID:e_100555095_iv11
URL:http://pages.destination.one/de/teutonavigator/streaming/detail/Event/e
 _100555095/ausflugsfahrt-nach-bad-salzuflen
END:VEVENT
BEGIN:VEVENT
CATEGORIES:Ausflug/Exkursion
DESCRIPTION:\n\nmehr Informationen unter http://pages.destination.one/de/te
 utonavigator/streaming/detail/Event/e_100555095/ausflugsfahrt-nach-bad-sal
 zuflen
DTEND;TZID=Europe/Berlin:20240815T235900
DTSTAMP:20260419T123701Z
DTSTART;TZID=Europe/Berlin:20240815T133000
GEO:52.286454;8.539621
LOCATION:Landhotel Annelie\, Dorfstr. 9\, Preußisch Oldendorf
ORGANIZER;CN=Reisedienst Aschemeyer:mailto:info@aschemeyer.com
SEQUENCE:0
SUMMARY:Ausflugsfahrt nach Bad Salzuflen
UID:e_100555095_iv12
URL:http://pages.destination.one/de/teutonavigator/streaming/detail/Event/e
 _100555095/ausflugsfahrt-nach-bad-salzuflen
END:VEVENT
BEGIN:VEVENT
CATEGORIES:Ausflug/Exkursion
DESCRIPTION:\n\nmehr Informationen unter http://pages.destination.one/de/te
 utonavigator/streaming/detail/Event/e_100555095/ausflugsfahrt-nach-bad-sal
 zuflen
DTEND;TZID=Europe/Berlin:20240919T235900
DTSTAMP:20260419T123701Z
DTSTART;TZID=Europe/Berlin:20240919T133000
GEO:52.286454;8.539621
LOCATION:Landhotel Annelie\, Dorfstr. 9\, Preußisch Oldendorf
ORGANIZER;CN=Reisedienst Aschemeyer:mailto:info@aschemeyer.com
SEQUENCE:0
SUMMARY:Ausflugsfahrt nach Bad Salzuflen
UID:e_100555095_iv13
URL:http://pages.destination.one/de/teutonavigator/streaming/detail/Event/e
 _100555095/ausflugsfahrt-nach-bad-salzuflen
END:VEVENT
BEGIN:VEVENT
CATEGORIES:Ausflug/Exkursion
DESCRIPTION:\n\nmehr Informationen unter http://pages.destination.one/de/te
 utonavigator/streaming/detail/Event/e_100555095/ausflugsfahrt-nach-bad-sal
 zuflen
DTEND;TZID=Europe/Berlin:20241017T235900
DTSTAMP:20260419T123701Z
DTSTART;TZID=Europe/Berlin:20241017T133000
GEO:52.286454;8.539621
LOCATION:Landhotel Annelie\, Dorfstr. 9\, Preußisch Oldendorf
ORGANIZER;CN=Reisedienst Aschemeyer:mailto:info@aschemeyer.com
SEQUENCE:0
SUMMARY:Ausflugsfahrt nach Bad Salzuflen
UID:e_100555095_iv14
URL:http://pages.destination.one/de/teutonavigator/streaming/detail/Event/e
 _100555095/ausflugsfahrt-nach-bad-salzuflen
END:VEVENT
BEGIN:VEVENT
CATEGORIES:Ausflug/Exkursion
DESCRIPTION:\n\nmehr Informationen unter http://pages.destination.one/de/te
 utonavigator/streaming/detail/Event/e_100555095/ausflugsfahrt-nach-bad-sal
 zuflen
DTEND;TZID=Europe/Berlin:20250417T235900
DTSTAMP:20260419T123701Z
DTSTART;TZID=Europe/Berlin:20250417T133000
GEO:52.286454;8.539621
LOCATION:Landhotel Annelie\, Dorfstr. 9\, Preußisch Oldendorf
ORGANIZER;CN=Reisedienst Aschemeyer:mailto:info@aschemeyer.com
SEQUENCE:0
SUMMARY:Ausflugsfahrt nach Bad Salzuflen
UID:e_100555095_iv15
URL:http://pages.destination.one/de/teutonavigator/streaming/detail/Event/e
 _100555095/ausflugsfahrt-nach-bad-salzuflen
END:VEVENT
BEGIN:VEVENT
CATEGORIES:Ausflug/Exkursion
DESCRIPTION:\n\nmehr Informationen unter http://pages.destination.one/de/te
 utonavigator/streaming/detail/Event/e_100555095/ausflugsfahrt-nach-bad-sal
 zuflen
DTEND;TZID=Europe/Berlin:20250522T235900
DTSTAMP:20260419T123701Z
DTSTART;TZID=Europe/Berlin:20250522T133000
GEO:52.286454;8.539621
LOCATION:Landhotel Annelie\, Dorfstr. 9\, Preußisch Oldendorf
ORGANIZER;CN=Reisedienst Aschemeyer:mailto:info@aschemeyer.com
SEQUENCE:0
SUMMARY:Ausflugsfahrt nach Bad Salzuflen
UID:e_100555095_iv16
URL:http://pages.destination.one/de/teutonavigator/streaming/detail/Event/e
 _100555095/ausflugsfahrt-nach-bad-salzuflen
END:VEVENT
BEGIN:VEVENT
CATEGORIES:Ausflug/Exkursion
DESCRIPTION:\n\nmehr Informationen unter http://pages.destination.one/de/te
 utonavigator/streaming/detail/Event/e_100555095/ausflugsfahrt-nach-bad-sal
 zuflen
DTEND;TZID=Europe/Berlin:20250612T235900
DTSTAMP:20260419T123701Z
DTSTART;TZID=Europe/Berlin:20250612T133000
GEO:52.286454;8.539621
LOCATION:Landhotel Annelie\, Dorfstr. 9\, Preußisch Oldendorf
ORGANIZER;CN=Reisedienst Aschemeyer:mailto:info@aschemeyer.com
SEQUENCE:0
SUMMARY:Ausflugsfahrt nach Bad Salzuflen
UID:e_100555095_iv17
URL:http://pages.destination.one/de/teutonavigator/streaming/detail/Event/e
 _100555095/ausflugsfahrt-nach-bad-salzuflen
END:VEVENT
BEGIN:VEVENT
CATEGORIES:Ausflug/Exkursion
DESCRIPTION:\n\nmehr Informationen unter http://pages.destination.one/de/te
 utonavigator/streaming/detail/Event/e_100555095/ausflugsfahrt-nach-bad-sal
 zuflen
DTEND;TZID=Europe/Berlin:20250724T235900
DTSTAMP:20260419T123701Z
DTSTART;TZID=Europe/Berlin:20250724T133000
GEO:52.286454;8.539621
LOCATION:Landhotel Annelie\, Dorfstr. 9\, Preußisch Oldendorf
ORGANIZER;CN=Reisedienst Aschemeyer:mailto:info@aschemeyer.com
SEQUENCE:0
SUMMARY:Ausflugsfahrt nach Bad Salzuflen
UID:e_100555095_iv18
URL:http://pages.destination.one/de/teutonavigator/streaming/detail/Event/e
 _100555095/ausflugsfahrt-nach-bad-salzuflen
END:VEVENT
BEGIN:VEVENT
CATEGORIES:Ausflug/Exkursion
DESCRIPTION:\n\nmehr Informationen unter http://pages.destination.one/de/te
 utonavigator/streaming/detail/Event/e_100555095/ausflugsfahrt-nach-bad-sal
 zuflen
DTEND;TZID=Europe/Berlin:20250821T235900
DTSTAMP:20260419T123701Z
DTSTART;TZID=Europe/Berlin:20250821T133000
GEO:52.286454;8.539621
LOCATION:Landhotel Annelie\, Dorfstr. 9\, Preußisch Oldendorf
ORGANIZER;CN=Reisedienst Aschemeyer:mailto:info@aschemeyer.com
SEQUENCE:0
SUMMARY:Ausflugsfahrt nach Bad Salzuflen
UID:e_100555095_iv19
URL:http://pages.destination.one/de/teutonavigator/streaming/detail/Event/e
 _100555095/ausflugsfahrt-nach-bad-salzuflen
END:VEVENT
BEGIN:VEVENT
CATEGORIES:Ausflug/Exkursion
DESCRIPTION:\n\nmehr Informationen unter http://pages.destination.one/de/te
 utonavigator/streaming/detail/Event/e_100555095/ausflugsfahrt-nach-bad-sal
 zuflen
DTEND;TZID=Europe/Berlin:20250918T235900
DTSTAMP:20260419T123701Z
DTSTART;TZID=Europe/Berlin:20250918T133000
GEO:52.286454;8.539621
LOCATION:Landhotel Annelie\, Dorfstr. 9\, Preußisch Oldendorf
ORGANIZER;CN=Reisedienst Aschemeyer:mailto:info@aschemeyer.com
SEQUENCE:0
SUMMARY:Ausflugsfahrt nach Bad Salzuflen
UID:e_100555095_iv20
URL:http://pages.destination.one/de/teutonavigator/streaming/detail/Event/e
 _100555095/ausflugsfahrt-nach-bad-salzuflen
END:VEVENT
BEGIN:VEVENT
CATEGORIES:Ausflug/Exkursion
DESCRIPTION:\n\nmehr Informationen unter http://pages.destination.one/de/te
 utonavigator/streaming/detail/Event/e_100555095/ausflugsfahrt-nach-bad-sal
 zuflen
DTEND;TZID=Europe/Berlin:20251016T235900
DTSTAMP:20260419T123701Z
DTSTART;TZID=Europe/Berlin:20251016T133000
GEO:52.286454;8.539621
LOCATION:Landhotel Annelie\, Dorfstr. 9\, Preußisch Oldendorf
ORGANIZER;CN=Reisedienst Aschemeyer:mailto:info@aschemeyer.com
SEQUENCE:0
SUMMARY:Ausflugsfahrt nach Bad Salzuflen
UID:e_100555095_iv21
URL:http://pages.destination.one/de/teutonavigator/streaming/detail/Event/e
 _100555095/ausflugsfahrt-nach-bad-salzuflen
END:VEVENT
BEGIN:VEVENT
CATEGORIES:Ausflug/Exkursion
DESCRIPTION:\n\nmehr Informationen unter http://pages.destination.one/de/te
 utonavigator/streaming/detail/Event/e_100555095/ausflugsfahrt-nach-bad-sal
 zuflen
DTEND;TZID=Europe/Berlin:20260402T235900
DTSTAMP:20260419T123701Z
DTSTART;TZID=Europe/Berlin:20260402T133000
GEO:52.286454;8.539621
LOCATION:Landhotel Annelie\, Dorfstr. 9\, Preußisch Oldendorf
ORGANIZER;CN=Reisedienst Aschemeyer:mailto:info@aschemeyer.com
SEQUENCE:0
SUMMARY:Ausflugsfahrt nach Bad Salzuflen
UID:e_100555095_iv22
URL:http://pages.destination.one/de/teutonavigator/streaming/detail/Event/e
 _100555095/ausflugsfahrt-nach-bad-salzuflen
END:VEVENT
BEGIN:VEVENT
CATEGORIES:Ausflug/Exkursion
DESCRIPTION:\n\nmehr Informationen unter http://pages.destination.one/de/te
 utonavigator/streaming/detail/Event/e_100555095/ausflugsfahrt-nach-bad-sal
 zuflen
DTEND;TZID=Europe/Berlin:20260430T235900
DTSTAMP:20260419T123701Z
DTSTART;TZID=Europe/Berlin:20260430T133000
GEO:52.286454;8.539621
LOCATION:Landhotel Annelie\, Dorfstr. 9\, Preußisch Oldendorf
ORGANIZER;CN=Reisedienst Aschemeyer:mailto:info@aschemeyer.com
SEQUENCE:0
SUMMARY:Ausflugsfahrt nach Bad Salzuflen
UID:e_100555095_iv23
URL:http://pages.destination.one/de/teutonavigator/streaming/detail/Event/e
 _100555095/ausflugsfahrt-nach-bad-salzuflen
END:VEVENT
BEGIN:VEVENT
CATEGORIES:Ausflug/Exkursion
DESCRIPTION:\n\nmehr Informationen unter http://pages.destination.one/de/te
 utonavigator/streaming/detail/Event/e_100555095/ausflugsfahrt-nach-bad-sal
 zuflen
DTEND;TZID=Europe/Berlin:20260528T235900
DTSTAMP:20260419T123701Z
DTSTART;TZID=Europe/Berlin:20260528T133000
GEO:52.286454;8.539621
LOCATION:Landhotel Annelie\, Dorfstr. 9\, Preußisch Oldendorf
ORGANIZER;CN=Reisedienst Aschemeyer:mailto:info@aschemeyer.com
SEQUENCE:0
SUMMARY:Ausflugsfahrt nach Bad Salzuflen
UID:e_100555095_iv24
URL:http://pages.destination.one/de/teutonavigator/streaming/detail/Event/e
 _100555095/ausflugsfahrt-nach-bad-salzuflen
END:VEVENT
BEGIN:VEVENT
CATEGORIES:Ausflug/Exkursion
DESCRIPTION:\n\nmehr Informationen unter http://pages.destination.one/de/te
 utonavigator/streaming/detail/Event/e_100555095/ausflugsfahrt-nach-bad-sal
 zuflen
DTEND;TZID=Europe/Berlin:20260625T235900
DTSTAMP:20260419T123701Z
DTSTART;TZID=Europe/Berlin:20260625T133000
GEO:52.286454;8.539621
LOCATION:Landhotel Annelie\, Dorfstr. 9\, Preußisch Oldendorf
ORGANIZER;CN=Reisedienst Aschemeyer:mailto:info@aschemeyer.com
SEQUENCE:0
SUMMARY:Ausflugsfahrt nach Bad Salzuflen
UID:e_100555095_iv25
URL:http://pages.destination.one/de/teutonavigator/streaming/detail/Event/e
 _100555095/ausflugsfahrt-nach-bad-salzuflen
END:VEVENT
BEGIN:VEVENT
CATEGORIES:Ausflug/Exkursion
DESCRIPTION:\n\nmehr Informationen unter http://pages.destination.one/de/te
 utonavigator/streaming/detail/Event/e_100555095/ausflugsfahrt-nach-bad-sal
 zuflen
DTEND;TZID=Europe/Berlin:20260723T235900
DTSTAMP:20260419T123701Z
DTSTART;TZID=Europe/Berlin:20260723T133000
GEO:52.286454;8.539621
LOCATION:Landhotel Annelie\, Dorfstr. 9\, Preußisch Oldendorf
ORGANIZER;CN=Reisedienst Aschemeyer:mailto:info@aschemeyer.com
SEQUENCE:0
SUMMARY:Ausflugsfahrt nach Bad Salzuflen
UID:e_100555095_iv26
URL:http://pages.destination.one/de/teutonavigator/streaming/detail/Event/e
 _100555095/ausflugsfahrt-nach-bad-salzuflen
END:VEVENT
BEGIN:VEVENT
CATEGORIES:Ausflug/Exkursion
DESCRIPTION:\n\nmehr Informationen unter http://pages.destination.one/de/te
 utonavigator/streaming/detail/Event/e_100555095/ausflugsfahrt-nach-bad-sal
 zuflen
DTEND;TZID=Europe/Berlin:20260820T235900
DTSTAMP:20260419T123701Z
DTSTART;TZID=Europe/Berlin:20260820T133000
GEO:52.286454;8.539621
LOCATION:Landhotel Annelie\, Dorfstr. 9\, Preußisch Oldendorf
ORGANIZER;CN=Reisedienst Aschemeyer:mailto:info@aschemeyer.com
SEQUENCE:0
SUMMARY:Ausflugsfahrt nach Bad Salzuflen
UID:e_100555095_iv27
URL:http://pages.destination.one/de/teutonavigator/streaming/detail/Event/e
 _100555095/ausflugsfahrt-nach-bad-salzuflen
END:VEVENT
BEGIN:VEVENT
CATEGORIES:Ausflug/Exkursion
DESCRIPTION:\n\nmehr Informationen unter http://pages.destination.one/de/te
 utonavigator/streaming/detail/Event/e_100555095/ausflugsfahrt-nach-bad-sal
 zuflen
DTEND;TZID=Europe/Berlin:20260917T235900
DTSTAMP:20260419T123701Z
DTSTART;TZID=Europe/Berlin:20260917T133000
GEO:52.286454;8.539621
LOCATION:Landhotel Annelie\, Dorfstr. 9\, Preußisch Oldendorf
ORGANIZER;CN=Reisedienst Aschemeyer:mailto:info@aschemeyer.com
SEQUENCE:0
SUMMARY:Ausflugsfahrt nach Bad Salzuflen
UID:e_100555095_iv28
URL:http://pages.destination.one/de/teutonavigator/streaming/detail/Event/e
 _100555095/ausflugsfahrt-nach-bad-salzuflen
END:VEVENT
BEGIN:VEVENT
CATEGORIES:Ausflug/Exkursion
DESCRIPTION:\n\nmehr Informationen unter http://pages.destination.one/de/te
 utonavigator/streaming/detail/Event/e_100555095/ausflugsfahrt-nach-bad-sal
 zuflen
DTEND;TZID=Europe/Berlin:20261015T235900
DTSTAMP:20260419T123701Z
DTSTART;TZID=Europe/Berlin:20261015T133000
GEO:52.286454;8.539621
LOCATION:Landhotel Annelie\, Dorfstr. 9\, Preußisch Oldendorf
ORGANIZER;CN=Reisedienst Aschemeyer:mailto:info@aschemeyer.com
SEQUENCE:0
SUMMARY:Ausflugsfahrt nach Bad Salzuflen
UID:e_100555095_iv29
URL:http://pages.destination.one/de/teutonavigator/streaming/detail/Event/e
 _100555095/ausflugsfahrt-nach-bad-salzuflen
END:VEVENT
BEGIN:VTIMEZONE
TZID:Europe/Berlin
X-LIC-LOCATION:Europe/Berlin
BEGIN:DAYLIGHT
DTSTART:19700329T020000
RRULE:FREQ=YEARLY;BYDAY=-1SU;BYMONTH=3
TZNAME:CEST
TZOFFSETFROM:+0100
TZOFFSETTO:+0200
END:DAYLIGHT
BEGIN:STANDARD
DTSTART:19701025T030000
RRULE:FREQ=YEARLY;BYDAY=-1SU;BYMONTH=10
TZNAME:CET
TZOFFSETFROM:+0200
TZOFFSETTO:+0100
END:STANDARD
END:VTIMEZONE
END:VCALENDAR
