BEGIN:VCALENDAR
VERSION:2.0
PRODID:-//destination.one//NONSGML destination.meta API//DE
X-WR-CALDESC:A calendar powered by destination.meta
X-WR-CALNAME:teutonavigator Kalender via destination.meta
BEGIN:VEVENT
CATEGORIES:Brauchtum/Kultur
CATEGORIES:Bühne divers
CATEGORIES:Festival/Open-Air
CATEGORIES:Gastronomie
CATEGORIES:Geselligkeit/Spiele/Treffen
CATEGORIES:Konzert divers
CATEGORIES:Stadtfest/Kirmes/Jahrmarkt
DESCRIPTION:Gesellig sein\, Freunde und alte Bekannte treffen und mit ihnen
  in ausgelassener Stimmung feiern\, flanieren und sich treiben lassen - da
 s alles ist das HOEKER-FEST in Herford!\n\nmehr Informationen unter http:/
 /pages.destination.one/de/teutonavigator/streaming/detail/Event/e_10055400
 2/hoeker-fest-in-herford
DTEND;TZID=Europe/Berlin;VALUE=DATE:20230604
DTSTAMP:20260422T152016Z
DTSTART;TZID=Europe/Berlin;VALUE=DATE:20230531
GEO:52.116072;8.675058
LOCATION:Neuer Markt Herford\, Neuer Markt\, Herford
ORGANIZER;CN=Pro Herford GmbH Stadtmarketing:mailto:info@pro-herford.de
PRIORITY:4
SEQUENCE:0
SUMMARY:Hoeker-Fest in Herford
UID:e_100554002_iv0
URL:http://pages.destination.one/de/teutonavigator/streaming/detail/Event/e
 _100554002/hoeker-fest-in-herford
END:VEVENT
BEGIN:VEVENT
CATEGORIES:Brauchtum/Kultur
CATEGORIES:Bühne divers
CATEGORIES:Festival/Open-Air
CATEGORIES:Gastronomie
CATEGORIES:Geselligkeit/Spiele/Treffen
CATEGORIES:Konzert divers
CATEGORIES:Stadtfest/Kirmes/Jahrmarkt
DESCRIPTION:Gesellig sein\, Freunde und alte Bekannte treffen und mit ihnen
  in ausgelassener Stimmung feiern\, flanieren und sich treiben lassen - da
 s alles ist das HOEKER-FEST in Herford!\n\nmehr Informationen unter http:/
 /pages.destination.one/de/teutonavigator/streaming/detail/Event/e_10055400
 2/hoeker-fest-in-herford
DTEND;TZID=Europe/Berlin:20250703T000000
DTSTAMP:20260422T152016Z
DTSTART;TZID=Europe/Berlin:20250702T180000
GEO:52.116072;8.675058
LOCATION:Neuer Markt Herford\, Neuer Markt\, Herford
ORGANIZER;CN=Pro Herford GmbH Stadtmarketing:mailto:info@pro-herford.de
PRIORITY:4
SEQUENCE:0
SUMMARY:Hoeker-Fest in Herford
UID:e_100554002_iv1
URL:http://pages.destination.one/de/teutonavigator/streaming/detail/Event/e
 _100554002/hoeker-fest-in-herford
END:VEVENT
BEGIN:VEVENT
CATEGORIES:Brauchtum/Kultur
CATEGORIES:Bühne divers
CATEGORIES:Festival/Open-Air
CATEGORIES:Gastronomie
CATEGORIES:Geselligkeit/Spiele/Treffen
CATEGORIES:Konzert divers
CATEGORIES:Stadtfest/Kirmes/Jahrmarkt
DESCRIPTION:Gesellig sein\, Freunde und alte Bekannte treffen und mit ihnen
  in ausgelassener Stimmung feiern\, flanieren und sich treiben lassen - da
 s alles ist das HOEKER-FEST in Herford!\n\nmehr Informationen unter http:/
 /pages.destination.one/de/teutonavigator/streaming/detail/Event/e_10055400
 2/hoeker-fest-in-herford
DTEND;TZID=Europe/Berlin:20250704T000000
DTSTAMP:20260422T152016Z
DTSTART;TZID=Europe/Berlin:20250703T180000
GEO:52.116072;8.675058
LOCATION:Neuer Markt Herford\, Neuer Markt\, Herford
ORGANIZER;CN=Pro Herford GmbH Stadtmarketing:mailto:info@pro-herford.de
PRIORITY:4
SEQUENCE:0
SUMMARY:Hoeker-Fest in Herford
UID:e_100554002_iv2
URL:http://pages.destination.one/de/teutonavigator/streaming/detail/Event/e
 _100554002/hoeker-fest-in-herford
END:VEVENT
BEGIN:VEVENT
CATEGORIES:Brauchtum/Kultur
CATEGORIES:Bühne divers
CATEGORIES:Festival/Open-Air
CATEGORIES:Gastronomie
CATEGORIES:Geselligkeit/Spiele/Treffen
CATEGORIES:Konzert divers
CATEGORIES:Stadtfest/Kirmes/Jahrmarkt
DESCRIPTION:Gesellig sein\, Freunde und alte Bekannte treffen und mit ihnen
  in ausgelassener Stimmung feiern\, flanieren und sich treiben lassen - da
 s alles ist das HOEKER-FEST in Herford!\n\nmehr Informationen unter http:/
 /pages.destination.one/de/teutonavigator/streaming/detail/Event/e_10055400
 2/hoeker-fest-in-herford
DTEND;TZID=Europe/Berlin:20250705T000000
DTSTAMP:20260422T152016Z
DTSTART;TZID=Europe/Berlin:20250704T180000
GEO:52.116072;8.675058
LOCATION:Neuer Markt Herford\, Neuer Markt\, Herford
ORGANIZER;CN=Pro Herford GmbH Stadtmarketing:mailto:info@pro-herford.de
PRIORITY:4
SEQUENCE:0
SUMMARY:Hoeker-Fest in Herford
UID:e_100554002_iv3
URL:http://pages.destination.one/de/teutonavigator/streaming/detail/Event/e
 _100554002/hoeker-fest-in-herford
END:VEVENT
BEGIN:VEVENT
CATEGORIES:Brauchtum/Kultur
CATEGORIES:Bühne divers
CATEGORIES:Festival/Open-Air
CATEGORIES:Gastronomie
CATEGORIES:Geselligkeit/Spiele/Treffen
CATEGORIES:Konzert divers
CATEGORIES:Stadtfest/Kirmes/Jahrmarkt
DESCRIPTION:Gesellig sein\, Freunde und alte Bekannte treffen und mit ihnen
  in ausgelassener Stimmung feiern\, flanieren und sich treiben lassen - da
 s alles ist das HOEKER-FEST in Herford!\n\nmehr Informationen unter http:/
 /pages.destination.one/de/teutonavigator/streaming/detail/Event/e_10055400
 2/hoeker-fest-in-herford
DTEND;TZID=Europe/Berlin:20250706T010000
DTSTAMP:20260422T152016Z
DTSTART;TZID=Europe/Berlin:20250705T120000
GEO:52.116072;8.675058
LOCATION:Neuer Markt Herford\, Neuer Markt\, Herford
ORGANIZER;CN=Pro Herford GmbH Stadtmarketing:mailto:info@pro-herford.de
PRIORITY:4
SEQUENCE:0
SUMMARY:Hoeker-Fest in Herford
UID:e_100554002_iv4
URL:http://pages.destination.one/de/teutonavigator/streaming/detail/Event/e
 _100554002/hoeker-fest-in-herford
END:VEVENT
BEGIN:VEVENT
CATEGORIES:Brauchtum/Kultur
CATEGORIES:Bühne divers
CATEGORIES:Festival/Open-Air
CATEGORIES:Gastronomie
CATEGORIES:Geselligkeit/Spiele/Treffen
CATEGORIES:Konzert divers
CATEGORIES:Stadtfest/Kirmes/Jahrmarkt
DESCRIPTION:Gesellig sein\, Freunde und alte Bekannte treffen und mit ihnen
  in ausgelassener Stimmung feiern\, flanieren und sich treiben lassen - da
 s alles ist das HOEKER-FEST in Herford!\n\nmehr Informationen unter http:/
 /pages.destination.one/de/teutonavigator/streaming/detail/Event/e_10055400
 2/hoeker-fest-in-herford
DTEND;TZID=Europe/Berlin:20250706T180000
DTSTAMP:20260422T152016Z
DTSTART;TZID=Europe/Berlin:20250706T120000
GEO:52.116072;8.675058
LOCATION:Neuer Markt Herford\, Neuer Markt\, Herford
ORGANIZER;CN=Pro Herford GmbH Stadtmarketing:mailto:info@pro-herford.de
PRIORITY:4
SEQUENCE:0
SUMMARY:Hoeker-Fest in Herford
UID:e_100554002_iv5
URL:http://pages.destination.one/de/teutonavigator/streaming/detail/Event/e
 _100554002/hoeker-fest-in-herford
END:VEVENT
BEGIN:VEVENT
CATEGORIES:Brauchtum/Kultur
CATEGORIES:Bühne divers
CATEGORIES:Festival/Open-Air
CATEGORIES:Gastronomie
CATEGORIES:Geselligkeit/Spiele/Treffen
CATEGORIES:Konzert divers
CATEGORIES:Stadtfest/Kirmes/Jahrmarkt
DESCRIPTION:Gesellig sein\, Freunde und alte Bekannte treffen und mit ihnen
  in ausgelassener Stimmung feiern\, flanieren und sich treiben lassen - da
 s alles ist das HOEKER-FEST in Herford!\n\nmehr Informationen unter http:/
 /pages.destination.one/de/teutonavigator/streaming/detail/Event/e_10055400
 2/hoeker-fest-in-herford
DTEND;TZID=Europe/Berlin:20260715T235900
DTSTAMP:20260422T152016Z
DTSTART;TZID=Europe/Berlin:20260715T180000
GEO:52.116072;8.675058
LOCATION:Neuer Markt Herford\, Neuer Markt\, Herford
ORGANIZER;CN=Pro Herford GmbH Stadtmarketing:mailto:info@pro-herford.de
PRIORITY:4
SEQUENCE:0
SUMMARY:Hoeker-Fest in Herford
UID:e_100554002_iv6
URL:http://pages.destination.one/de/teutonavigator/streaming/detail/Event/e
 _100554002/hoeker-fest-in-herford
END:VEVENT
BEGIN:VEVENT
CATEGORIES:Brauchtum/Kultur
CATEGORIES:Bühne divers
CATEGORIES:Festival/Open-Air
CATEGORIES:Gastronomie
CATEGORIES:Geselligkeit/Spiele/Treffen
CATEGORIES:Konzert divers
CATEGORIES:Stadtfest/Kirmes/Jahrmarkt
DESCRIPTION:Gesellig sein\, Freunde und alte Bekannte treffen und mit ihnen
  in ausgelassener Stimmung feiern\, flanieren und sich treiben lassen - da
 s alles ist das HOEKER-FEST in Herford!\n\nmehr Informationen unter http:/
 /pages.destination.one/de/teutonavigator/streaming/detail/Event/e_10055400
 2/hoeker-fest-in-herford
DTEND;TZID=Europe/Berlin:20260716T235900
DTSTAMP:20260422T152016Z
DTSTART;TZID=Europe/Berlin:20260716T180000
GEO:52.116072;8.675058
LOCATION:Neuer Markt Herford\, Neuer Markt\, Herford
ORGANIZER;CN=Pro Herford GmbH Stadtmarketing:mailto:info@pro-herford.de
PRIORITY:4
SEQUENCE:0
SUMMARY:Hoeker-Fest in Herford
UID:e_100554002_iv7
URL:http://pages.destination.one/de/teutonavigator/streaming/detail/Event/e
 _100554002/hoeker-fest-in-herford
END:VEVENT
BEGIN:VEVENT
CATEGORIES:Brauchtum/Kultur
CATEGORIES:Bühne divers
CATEGORIES:Festival/Open-Air
CATEGORIES:Gastronomie
CATEGORIES:Geselligkeit/Spiele/Treffen
CATEGORIES:Konzert divers
CATEGORIES:Stadtfest/Kirmes/Jahrmarkt
DESCRIPTION:Gesellig sein\, Freunde und alte Bekannte treffen und mit ihnen
  in ausgelassener Stimmung feiern\, flanieren und sich treiben lassen - da
 s alles ist das HOEKER-FEST in Herford!\n\nmehr Informationen unter http:/
 /pages.destination.one/de/teutonavigator/streaming/detail/Event/e_10055400
 2/hoeker-fest-in-herford
DTEND;TZID=Europe/Berlin:20260718T010000
DTSTAMP:20260422T152016Z
DTSTART;TZID=Europe/Berlin:20260717T140000
GEO:52.116072;8.675058
LOCATION:Neuer Markt Herford\, Neuer Markt\, Herford
ORGANIZER;CN=Pro Herford GmbH Stadtmarketing:mailto:info@pro-herford.de
PRIORITY:4
SEQUENCE:0
SUMMARY:Hoeker-Fest in Herford
UID:e_100554002_iv8
URL:http://pages.destination.one/de/teutonavigator/streaming/detail/Event/e
 _100554002/hoeker-fest-in-herford
END:VEVENT
BEGIN:VEVENT
CATEGORIES:Brauchtum/Kultur
CATEGORIES:Bühne divers
CATEGORIES:Festival/Open-Air
CATEGORIES:Gastronomie
CATEGORIES:Geselligkeit/Spiele/Treffen
CATEGORIES:Konzert divers
CATEGORIES:Stadtfest/Kirmes/Jahrmarkt
DESCRIPTION:Gesellig sein\, Freunde und alte Bekannte treffen und mit ihnen
  in ausgelassener Stimmung feiern\, flanieren und sich treiben lassen - da
 s alles ist das HOEKER-FEST in Herford!\n\nmehr Informationen unter http:/
 /pages.destination.one/de/teutonavigator/streaming/detail/Event/e_10055400
 2/hoeker-fest-in-herford
DTEND;TZID=Europe/Berlin:20260719T010000
DTSTAMP:20260422T152016Z
DTSTART;TZID=Europe/Berlin:20260718T120000
GEO:52.116072;8.675058
LOCATION:Neuer Markt Herford\, Neuer Markt\, Herford
ORGANIZER;CN=Pro Herford GmbH Stadtmarketing:mailto:info@pro-herford.de
PRIORITY:4
SEQUENCE:0
SUMMARY:Hoeker-Fest in Herford
UID:e_100554002_iv9
URL:http://pages.destination.one/de/teutonavigator/streaming/detail/Event/e
 _100554002/hoeker-fest-in-herford
END:VEVENT
BEGIN:VEVENT
CATEGORIES:Brauchtum/Kultur
CATEGORIES:Bühne divers
CATEGORIES:Festival/Open-Air
CATEGORIES:Gastronomie
CATEGORIES:Geselligkeit/Spiele/Treffen
CATEGORIES:Konzert divers
CATEGORIES:Stadtfest/Kirmes/Jahrmarkt
DESCRIPTION:Gesellig sein\, Freunde und alte Bekannte treffen und mit ihnen
  in ausgelassener Stimmung feiern\, flanieren und sich treiben lassen - da
 s alles ist das HOEKER-FEST in Herford!\n\nmehr Informationen unter http:/
 /pages.destination.one/de/teutonavigator/streaming/detail/Event/e_10055400
 2/hoeker-fest-in-herford
DTEND;TZID=Europe/Berlin:20260719T180000
DTSTAMP:20260422T152016Z
DTSTART;TZID=Europe/Berlin:20260719T120000
GEO:52.116072;8.675058
LOCATION:Neuer Markt Herford\, Neuer Markt\, Herford
ORGANIZER;CN=Pro Herford GmbH Stadtmarketing:mailto:info@pro-herford.de
PRIORITY:4
SEQUENCE:0
SUMMARY:Hoeker-Fest in Herford
UID:e_100554002_iv10
URL:http://pages.destination.one/de/teutonavigator/streaming/detail/Event/e
 _100554002/hoeker-fest-in-herford
END:VEVENT
BEGIN:VTIMEZONE
TZID:Europe/Berlin
X-LIC-LOCATION:Europe/Berlin
BEGIN:DAYLIGHT
DTSTART:19700329T020000
RRULE:FREQ=YEARLY;BYDAY=-1SU;BYMONTH=3
TZNAME:CEST
TZOFFSETFROM:+0100
TZOFFSETTO:+0200
END:DAYLIGHT
BEGIN:STANDARD
DTSTART:19701025T030000
RRULE:FREQ=YEARLY;BYDAY=-1SU;BYMONTH=10
TZNAME:CET
TZOFFSETFROM:+0200
TZOFFSETTO:+0100
END:STANDARD
END:VTIMEZONE
END:VCALENDAR
