BEGIN:VCALENDAR
VERSION:2.0
PRODID:-//destination.one//NONSGML destination.meta API//DE
X-WR-CALDESC:A calendar powered by destination.meta
X-WR-CALNAME:teutonavigator Kalender via destination.meta
BEGIN:VEVENT
CATEGORIES:Sonstiges
DESCRIPTION:\n\nmehr Informationen unter http://pages.destination.one/de/te
 utonavigator/streaming/detail/Event/e_100553143/modenschau
DTEND;TZID=Europe/Berlin:20230206T235900
DTSTAMP:20260421T111220Z
DTSTART;TZID=Europe/Berlin:20230206T190000
GEO:52.286454;8.539621
LOCATION:Landhotel Annelie\, Dorfstr. 9\, Preußisch Oldendorf
ORGANIZER;CN=Mon Amie Modetrends UG:mailto:info@monamie-modetrends.de
RRULE:FREQ=WEEKLY;INTERVAL=2;UNTIL=20230430T215900;BYDAY=MO
SEQUENCE:0
SUMMARY:Modenschau
UID:e_100553143_iv0
URL:http://pages.destination.one/de/teutonavigator/streaming/detail/Event/e
 _100553143/modenschau
END:VEVENT
BEGIN:VEVENT
CATEGORIES:Sonstiges
DESCRIPTION:\n\nmehr Informationen unter http://pages.destination.one/de/te
 utonavigator/streaming/detail/Event/e_100553143/modenschau
DTEND;TZID=Europe/Berlin:20230502T235900
DTSTAMP:20260421T111220Z
DTSTART;TZID=Europe/Berlin:20230502T190000
GEO:52.286454;8.539621
LOCATION:Landhotel Annelie\, Dorfstr. 9\, Preußisch Oldendorf
ORGANIZER;CN=Mon Amie Modetrends UG:mailto:info@monamie-modetrends.de
SEQUENCE:0
SUMMARY:Modenschau
UID:e_100553143_iv1
URL:http://pages.destination.one/de/teutonavigator/streaming/detail/Event/e
 _100553143/modenschau
END:VEVENT
BEGIN:VEVENT
CATEGORIES:Sonstiges
DESCRIPTION:\n\nmehr Informationen unter http://pages.destination.one/de/te
 utonavigator/streaming/detail/Event/e_100553143/modenschau
DTEND;TZID=Europe/Berlin:20230515T235900
DTSTAMP:20260421T111220Z
DTSTART;TZID=Europe/Berlin:20230515T190000
GEO:52.286454;8.539621
LOCATION:Landhotel Annelie\, Dorfstr. 9\, Preußisch Oldendorf
ORGANIZER;CN=Mon Amie Modetrends UG:mailto:info@monamie-modetrends.de
RRULE:FREQ=WEEKLY;INTERVAL=2;UNTIL=20230528T215900;BYDAY=MO
SEQUENCE:0
SUMMARY:Modenschau
UID:e_100553143_iv2
URL:http://pages.destination.one/de/teutonavigator/streaming/detail/Event/e
 _100553143/modenschau
END:VEVENT
BEGIN:VEVENT
CATEGORIES:Sonstiges
DESCRIPTION:\n\nmehr Informationen unter http://pages.destination.one/de/te
 utonavigator/streaming/detail/Event/e_100553143/modenschau
DTEND;TZID=Europe/Berlin:20230530T235900
DTSTAMP:20260421T111220Z
DTSTART;TZID=Europe/Berlin:20230530T190000
GEO:52.286454;8.539621
LOCATION:Landhotel Annelie\, Dorfstr. 9\, Preußisch Oldendorf
ORGANIZER;CN=Mon Amie Modetrends UG:mailto:info@monamie-modetrends.de
SEQUENCE:0
SUMMARY:Modenschau
UID:e_100553143_iv3
URL:http://pages.destination.one/de/teutonavigator/streaming/detail/Event/e
 _100553143/modenschau
END:VEVENT
BEGIN:VEVENT
CATEGORIES:Sonstiges
DESCRIPTION:\n\nmehr Informationen unter http://pages.destination.one/de/te
 utonavigator/streaming/detail/Event/e_100553143/modenschau
DTEND;TZID=Europe/Berlin:20230612T235900
DTSTAMP:20260421T111220Z
DTSTART;TZID=Europe/Berlin:20230612T190000
GEO:52.286454;8.539621
LOCATION:Landhotel Annelie\, Dorfstr. 9\, Preußisch Oldendorf
ORGANIZER;CN=Mon Amie Modetrends UG:mailto:info@monamie-modetrends.de
RRULE:FREQ=WEEKLY;INTERVAL=2;UNTIL=20231224T225900;BYDAY=MO
SEQUENCE:0
SUMMARY:Modenschau
UID:e_100553143_iv4
URL:http://pages.destination.one/de/teutonavigator/streaming/detail/Event/e
 _100553143/modenschau
END:VEVENT
BEGIN:VEVENT
CATEGORIES:Sonstiges
DESCRIPTION:\n\nmehr Informationen unter http://pages.destination.one/de/te
 utonavigator/streaming/detail/Event/e_100553143/modenschau
DTEND;TZID=Europe/Berlin:20231227T235900
DTSTAMP:20260421T111220Z
DTSTART;TZID=Europe/Berlin:20231227T190000
GEO:52.286454;8.539621
LOCATION:Landhotel Annelie\, Dorfstr. 9\, Preußisch Oldendorf
ORGANIZER;CN=Mon Amie Modetrends UG:mailto:info@monamie-modetrends.de
SEQUENCE:0
SUMMARY:Modenschau
UID:e_100553143_iv5
URL:http://pages.destination.one/de/teutonavigator/streaming/detail/Event/e
 _100553143/modenschau
END:VEVENT
BEGIN:VEVENT
CATEGORIES:Sonstiges
DESCRIPTION:\n\nmehr Informationen unter http://pages.destination.one/de/te
 utonavigator/streaming/detail/Event/e_100553143/modenschau
DTEND;TZID=Europe/Berlin:20240108T235900
DTSTAMP:20260421T111220Z
DTSTART;TZID=Europe/Berlin:20240108T190000
GEO:52.286454;8.539621
LOCATION:Landhotel Annelie\, Dorfstr. 9\, Preußisch Oldendorf
ORGANIZER;CN=Mon Amie Modetrends UG:mailto:info@monamie-modetrends.de
RRULE:FREQ=WEEKLY;INTERVAL=2;UNTIL=20240331T215900;BYDAY=MO
SEQUENCE:0
SUMMARY:Modenschau
UID:e_100553143_iv6
URL:http://pages.destination.one/de/teutonavigator/streaming/detail/Event/e
 _100553143/modenschau
END:VEVENT
BEGIN:VEVENT
CATEGORIES:Sonstiges
DESCRIPTION:\n\nmehr Informationen unter http://pages.destination.one/de/te
 utonavigator/streaming/detail/Event/e_100553143/modenschau
DTEND;TZID=Europe/Berlin:20240402T235900
DTSTAMP:20260421T111220Z
DTSTART;TZID=Europe/Berlin:20240402T190000
GEO:52.286454;8.539621
LOCATION:Landhotel Annelie\, Dorfstr. 9\, Preußisch Oldendorf
ORGANIZER;CN=Mon Amie Modetrends UG:mailto:info@monamie-modetrends.de
SEQUENCE:0
SUMMARY:Modenschau
UID:e_100553143_iv7
URL:http://pages.destination.one/de/teutonavigator/streaming/detail/Event/e
 _100553143/modenschau
END:VEVENT
BEGIN:VEVENT
CATEGORIES:Sonstiges
DESCRIPTION:\n\nmehr Informationen unter http://pages.destination.one/de/te
 utonavigator/streaming/detail/Event/e_100553143/modenschau
DTEND;TZID=Europe/Berlin:20240415T235900
DTSTAMP:20260421T111220Z
DTSTART;TZID=Europe/Berlin:20240415T190000
GEO:52.286454;8.539621
LOCATION:Landhotel Annelie\, Dorfstr. 9\, Preußisch Oldendorf
ORGANIZER;CN=Mon Amie Modetrends UG:mailto:info@monamie-modetrends.de
RRULE:FREQ=WEEKLY;INTERVAL=2;UNTIL=20241231T225900;BYDAY=MO
SEQUENCE:0
SUMMARY:Modenschau
UID:e_100553143_iv8
URL:http://pages.destination.one/de/teutonavigator/streaming/detail/Event/e
 _100553143/modenschau
END:VEVENT
BEGIN:VEVENT
CATEGORIES:Sonstiges
DESCRIPTION:\n\nmehr Informationen unter http://pages.destination.one/de/te
 utonavigator/streaming/detail/Event/e_100553143/modenschau
DTEND;TZID=Europe/Berlin:20250210T235900
DTSTAMP:20260421T111220Z
DTSTART;TZID=Europe/Berlin:20250210T190000
GEO:52.286454;8.539621
LOCATION:Landhotel Annelie\, Dorfstr. 9\, Preußisch Oldendorf
ORGANIZER;CN=Mon Amie Modetrends UG:mailto:info@monamie-modetrends.de
RRULE:FREQ=WEEKLY;INTERVAL=2;UNTIL=20250420T215900;BYDAY=MO
SEQUENCE:0
SUMMARY:Modenschau
UID:e_100553143_iv9
URL:http://pages.destination.one/de/teutonavigator/streaming/detail/Event/e
 _100553143/modenschau
END:VEVENT
BEGIN:VEVENT
CATEGORIES:Sonstiges
DESCRIPTION:\n\nmehr Informationen unter http://pages.destination.one/de/te
 utonavigator/streaming/detail/Event/e_100553143/modenschau
DTEND;TZID=Europe/Berlin:20250422T235900
DTSTAMP:20260421T111220Z
DTSTART;TZID=Europe/Berlin:20250422T190000
GEO:52.286454;8.539621
LOCATION:Landhotel Annelie\, Dorfstr. 9\, Preußisch Oldendorf
ORGANIZER;CN=Mon Amie Modetrends UG:mailto:info@monamie-modetrends.de
SEQUENCE:0
SUMMARY:Modenschau
UID:e_100553143_iv10
URL:http://pages.destination.one/de/teutonavigator/streaming/detail/Event/e
 _100553143/modenschau
END:VEVENT
BEGIN:VEVENT
CATEGORIES:Sonstiges
DESCRIPTION:\n\nmehr Informationen unter http://pages.destination.one/de/te
 utonavigator/streaming/detail/Event/e_100553143/modenschau
DTEND;TZID=Europe/Berlin:20250505T235900
DTSTAMP:20260421T111220Z
DTSTART;TZID=Europe/Berlin:20250505T190000
GEO:52.286454;8.539621
LOCATION:Landhotel Annelie\, Dorfstr. 9\, Preußisch Oldendorf
ORGANIZER;CN=Mon Amie Modetrends UG:mailto:info@monamie-modetrends.de
RRULE:FREQ=WEEKLY;INTERVAL=2;UNTIL=20251229T180000;BYDAY=MO
SEQUENCE:0
SUMMARY:Modenschau
UID:e_100553143_iv11
URL:http://pages.destination.one/de/teutonavigator/streaming/detail/Event/e
 _100553143/modenschau
END:VEVENT
BEGIN:VEVENT
CATEGORIES:Sonstiges
DESCRIPTION:\n\nmehr Informationen unter http://pages.destination.one/de/te
 utonavigator/streaming/detail/Event/e_100553143/modenschau
DTEND;TZID=Europe/Berlin:20260209T235900
DTSTAMP:20260421T111220Z
DTSTART;TZID=Europe/Berlin:20260209T190000
GEO:52.286454;8.539621
LOCATION:Landhotel Annelie\, Dorfstr. 9\, Preußisch Oldendorf
ORGANIZER;CN=Mon Amie Modetrends UG:mailto:info@monamie-modetrends.de
RRULE:FREQ=WEEKLY;INTERVAL=2;UNTIL=20260405T215900;BYDAY=MO
SEQUENCE:0
SUMMARY:Modenschau
UID:e_100553143_iv12
URL:http://pages.destination.one/de/teutonavigator/streaming/detail/Event/e
 _100553143/modenschau
END:VEVENT
BEGIN:VEVENT
CATEGORIES:Sonstiges
DESCRIPTION:\n\nmehr Informationen unter http://pages.destination.one/de/te
 utonavigator/streaming/detail/Event/e_100553143/modenschau
DTEND;TZID=Europe/Berlin:20260407T235900
DTSTAMP:20260421T111220Z
DTSTART;TZID=Europe/Berlin:20260407T190000
GEO:52.286454;8.539621
LOCATION:Landhotel Annelie\, Dorfstr. 9\, Preußisch Oldendorf
ORGANIZER;CN=Mon Amie Modetrends UG:mailto:info@monamie-modetrends.de
SEQUENCE:0
SUMMARY:Modenschau
UID:e_100553143_iv13
URL:http://pages.destination.one/de/teutonavigator/streaming/detail/Event/e
 _100553143/modenschau
END:VEVENT
BEGIN:VEVENT
CATEGORIES:Sonstiges
DESCRIPTION:\n\nmehr Informationen unter http://pages.destination.one/de/te
 utonavigator/streaming/detail/Event/e_100553143/modenschau
DTEND;TZID=Europe/Berlin:20260420T235900
DTSTAMP:20260421T111220Z
DTSTART;TZID=Europe/Berlin:20260420T190000
GEO:52.286454;8.539621
LOCATION:Landhotel Annelie\, Dorfstr. 9\, Preußisch Oldendorf
ORGANIZER;CN=Mon Amie Modetrends UG:mailto:info@monamie-modetrends.de
RRULE:FREQ=WEEKLY;INTERVAL=2;UNTIL=20261231T225900;BYDAY=MO
SEQUENCE:0
SUMMARY:Modenschau
UID:e_100553143_iv14
URL:http://pages.destination.one/de/teutonavigator/streaming/detail/Event/e
 _100553143/modenschau
END:VEVENT
BEGIN:VTIMEZONE
TZID:Europe/Berlin
X-LIC-LOCATION:Europe/Berlin
BEGIN:DAYLIGHT
DTSTART:19700329T020000
RRULE:FREQ=YEARLY;BYDAY=-1SU;BYMONTH=3
TZNAME:CEST
TZOFFSETFROM:+0100
TZOFFSETTO:+0200
END:DAYLIGHT
BEGIN:STANDARD
DTSTART:19701025T030000
RRULE:FREQ=YEARLY;BYDAY=-1SU;BYMONTH=10
TZNAME:CET
TZOFFSETFROM:+0200
TZOFFSETTO:+0100
END:STANDARD
END:VTIMEZONE
END:VCALENDAR
